BEGIN:VCALENDAR
VERSION:2.0
PRODID:-//Centre for Book Cultures and Publishing - ECPv6.0.5//NONSGML v1.0//EN
CALSCALE:GREGORIAN
METHOD:PUBLISH
X-WR-CALNAME:Centre for Book Cultures and Publishing
X-ORIGINAL-URL:https://research.reading.ac.uk/centre-for-book-cultures-and-publishing
X-WR-CALDESC:Events for Centre for Book Cultures and Publishing
REFRESH-INTERVAL;VALUE=DURATION:PT1H
X-Robots-Tag:noindex
X-PUBLISHED-TTL:PT1H
BEGIN:VTIMEZONE
TZID:Europe/London
BEGIN:DAYLIGHT
TZOFFSETFROM:+0000
TZOFFSETTO:+0100
TZNAME:BST
DTSTART:20210328T010000
END:DAYLIGHT
BEGIN:STANDARD
TZOFFSETFROM:+0100
TZOFFSETTO:+0000
TZNAME:GMT
DTSTART:20211031T010000
END:STANDARD
END:VTIMEZONE
BEGIN:VEVENT
DTSTART;TZID=Europe/London:20211111T170000
DTEND;TZID=Europe/London:20211111T180000
DTSTAMP:20260425T164149
CREATED:20211012T110529Z
LAST-MODIFIED:20211012T110529Z
UID:988-1636650000-1636653600@research.reading.ac.uk
SUMMARY:PiCoBoo: A Research Project and an Open-Access Database
DESCRIPTION:Dr Francesca Tancini\, University of Newcastle \nPiCoBoo: a research project and an open-access database \nThis online event is free and open to all. Please register your interest to receive the Zoom link here: https://www.eventbrite.co.uk/e/181636629047 \nThe PiCoBoo project aims to assess the significance of 19th-century European picturebooks\, printed in colour for children\, as a catalyst for major cultural and social changes. \nIt makes accessible a large corpus of picturebooks\, so far dispersed across countries and institutions\, only partially retrievable through local catalogues\, not always correctly described and in a not-uniformed way. The database now provides almost 600 books\, with hundreds of digitised images included and not retrievable elsewhere on the web.  \nPiCoBoo project has been hosted by the Children’s Literature Unit at Newcastle University\, in partnership with Seven Stories\, The National Centre for Children’s Books\, and with the Victoria and Albert Museum\, London.
URL:https://research.reading.ac.uk/centre-for-book-cultures-and-publishing/event/picoboo-a-research-project-and-an-open-access-database/
ATTACH;FMTTYPE=image/jpeg:https://research.reading.ac.uk/centre-for-book-cultures-and-publishing/wp-content/uploads/sites/138/2021/10/01_PiCoBoo_Banner_Header.jpg
END:VEVENT
END:VCALENDAR