BEGIN:VCALENDAR
VERSION:2.0
PRODID:-//Centre for Book Cultures and Publishing - ECPv6.0.5//NONSGML v1.0//EN
CALSCALE:GREGORIAN
METHOD:PUBLISH
X-WR-CALNAME:Centre for Book Cultures and Publishing
X-ORIGINAL-URL:https://research.reading.ac.uk/centre-for-book-cultures-and-publishing
X-WR-CALDESC:Events for Centre for Book Cultures and Publishing
REFRESH-INTERVAL;VALUE=DURATION:PT1H
X-Robots-Tag:noindex
X-PUBLISHED-TTL:PT1H
BEGIN:VTIMEZONE
TZID:Europe/London
BEGIN:DAYLIGHT
TZOFFSETFROM:+0000
TZOFFSETTO:+0100
TZNAME:BST
DTSTART:20210328T010000
END:DAYLIGHT
BEGIN:STANDARD
TZOFFSETFROM:+0100
TZOFFSETTO:+0000
TZNAME:GMT
DTSTART:20211031T010000
END:STANDARD
END:VTIMEZONE
BEGIN:VEVENT
DTSTART;TZID=Europe/London:20211125T170000
DTEND;TZID=Europe/London:20211125T180000
DTSTAMP:20260425T164151
CREATED:20211012T112954Z
LAST-MODIFIED:20211025T151910Z
UID:994-1637859600-1637863200@research.reading.ac.uk
SUMMARY:David King: Authoring the Visual Narrative by Design
DESCRIPTION:Professor Rick Poynor \nDavid King: Authoring the Visual Narrative by Design \nThis event is free and open to all. This research seminar will be a hybrid event\, taking place on the University of Reading campus\, Edith Morley Building Room G74 and online. Please register your interest to receive the Zoom link here: https://www.eventbrite.co.uk/e/182700621477 \nDavid King (1942-2016) occupies an unusual position in British graphic design and publishing. At the Sunday Times Magazine\, where he worked for 10 years\, he was both a designer and a visual journalist\, developing\, researching and sometimes photographing his own stories. In 1972\, he co-authored his first book\, about Trotsky\, and he went on to build up a world-class private collection of graphics and photographs from the Russian revolutionary period (now owned by Tate)\, which he used in his own work. As an expert visual researcher with an ever-developing command of the subject\, he designed and authored a range of catalogues and books about Russian and Soviet history\, among them The Commissar Vanishes (1997)\, Ordinary Citizens (2003) and Red Star Over Russia (2009). King was a leading example of “the designer as author”\, able to conceive and construct visual narratives that would never be attempted by text-led historians or designers who lacked his deep historical knowledge. This talk will trace the development of King’s visual practice as an author\, consider the visual signature he derived from constructivism\, and assess the combination of visual and editorial skills that enabled his publishing projects. What are the implications of King’s body of work for a more complex form of visual authorship? \nRick Poynor is Professor of Design and Visual Culture at the University of Reading. He was the founding editor of Eye\, the international review of graphic design\, and co-founder of the Design Observer website. His most recent books are David King: Designer\, Activist\, Visual Historian (Yale University Press\, 2020) and National Theatre Posters: A Design History (Unit Editions\, 2017). His other books include Obey the Giant: Life in the Image World (2001)\, No More Rules: Graphic Design and Postmodernism (2003) and Jan van Toorn: Critical Practice (2008). Occasional Papers will publish Graphic Cultures\, his fourth volume of essays\, in 2022.
URL:https://research.reading.ac.uk/centre-for-book-cultures-and-publishing/event/david-king-authoring-the-visual-narrative-by-design/
ATTACH;FMTTYPE=image/jpeg:https://research.reading.ac.uk/centre-for-book-cultures-and-publishing/wp-content/uploads/sites/138/2021/10/David_King_Red_Star_Over_Russia-scaled.jpg
END:VEVENT
END:VCALENDAR