BEGIN:VCALENDAR
VERSION:2.0
PRODID:-//Centre for Book Cultures and Publishing - ECPv6.0.5//NONSGML v1.0//EN
CALSCALE:GREGORIAN
METHOD:PUBLISH
X-WR-CALNAME:Centre for Book Cultures and Publishing
X-ORIGINAL-URL:https://research.reading.ac.uk/centre-for-book-cultures-and-publishing
X-WR-CALDESC:Events for Centre for Book Cultures and Publishing
REFRESH-INTERVAL;VALUE=DURATION:PT1H
X-Robots-Tag:noindex
X-PUBLISHED-TTL:PT1H
BEGIN:VTIMEZONE
TZID:Europe/London
BEGIN:DAYLIGHT
TZOFFSETFROM:+0000
TZOFFSETTO:+0100
TZNAME:BST
DTSTART:20220327T010000
END:DAYLIGHT
BEGIN:STANDARD
TZOFFSETFROM:+0100
TZOFFSETTO:+0000
TZNAME:GMT
DTSTART:20221030T010000
END:STANDARD
END:VTIMEZONE
BEGIN:VEVENT
DTSTART;VALUE=DATE:20220131
DTEND;VALUE=DATE:20220326
DTSTAMP:20260425T035623
CREATED:20220201T151257Z
LAST-MODIFIED:20220201T151257Z
UID:1181-1643587200-1648252799@research.reading.ac.uk
SUMMARY:Ed Fella: Exit Level Design\, 1985–2012
DESCRIPTION:Exhibition:  Ed Fella: Exit Level Design\, 1985–2012 curated by Rick Poynor. Monday 31 January – Friday 25 March 2022\, Department of Typography & Graphic Communication\, ToB2\, Earley Gate.  \n The American graphic designer Edward Fella’s career divides into two complementary phases. For 30 years\, Fella (born 1938) worked as a designer\, commercial artist and illustrator in Detroit\, Michigan. In his late 40s\, hoping to teach\, he gained a first degree in graphic design and studied for an MFA at Cranbrook Academy of Art\, then a centre of theoretical thinking and experimental graphic practice. In the second phase of his career – the focus of this exhibition – Fella became\, as he put it\, an “exit level designer”\, leaving clients and commissions behind to teach at California Institute of the Arts and pursue a freewheeling investigation of form unique in contemporary graphic design. After years of professional studio experience\, Fella was a master of diverse graphic styles and hand-lettering. Work that might at first glance seem neglectful of design’s cardinal “rules” came from a deep well of knowledge. He created flyers for lectures by himself and other designers that are loaded with allusions. In his sketchbooks\, he produced a daily stream of collages and drawings best understood as art about design. In his 50s\, Fella became internationally famous for a self-motivated body of work that overflows with invention and surprise. \nCredit: Flyer designed by Ed Fella
URL:https://research.reading.ac.uk/centre-for-book-cultures-and-publishing/event/ed-fella-exit-level-design-1985-2012/
ATTACH;FMTTYPE=image/jpeg:https://research.reading.ac.uk/centre-for-book-cultures-and-publishing/wp-content/uploads/sites/138/2022/02/Fella_flyer_promoting_talk_1995.jpg
END:VEVENT
END:VCALENDAR