BEGIN:VCALENDAR
VERSION:2.0
PRODID:-//University of Reading Digital Humanities Hub - ECPv6.0.5//NONSGML v1.0//EN
CALSCALE:GREGORIAN
METHOD:PUBLISH
X-ORIGINAL-URL:https://research.reading.ac.uk/digitalhumanities
X-WR-CALDESC:Events for University of Reading Digital Humanities Hub
REFRESH-INTERVAL;VALUE=DURATION:PT1H
X-Robots-Tag:noindex
X-PUBLISHED-TTL:PT1H
BEGIN:VTIMEZONE
TZID:Europe/London
BEGIN:DAYLIGHT
TZOFFSETFROM:+0000
TZOFFSETTO:+0100
TZNAME:BST
DTSTART:20240331T010000
END:DAYLIGHT
BEGIN:STANDARD
TZOFFSETFROM:+0100
TZOFFSETTO:+0000
TZNAME:GMT
DTSTART:20241027T010000
END:STANDARD
END:VTIMEZONE
BEGIN:VEVENT
DTSTART;TZID=Europe/London:20240228T140000
DTEND;TZID=Europe/London:20240228T153000
DTSTAMP:20260424T030217
CREATED:20240226T091249Z
LAST-MODIFIED:20240226T091249Z
UID:1032-1709128800-1709134200@research.reading.ac.uk
SUMMARY:Beyond Scale: GIS and the Humanities
DESCRIPTION:Beyond Scale: GIS and the Humanities\nProfessor Stuart Dunn\n(King’s College London) \nDate: Wednesday 28 February 2024\nTime: 14:00-15.30\nPlace: Palmer 105 and Online \nProgramme\nCoffee and Tea available from 13.50\n14.00 Welcome and Intro – Dr Mara Oliva (DH Champion)\n14.10 Keynote address: Professor Stuart Dunn (King’s College London) – ‘Beyond Scale: GIS and the Humanities’\n14.50 Q&A\n15.25 What’s next (DH CoP and Hub – future events) & close – Dr Mara Oliva
URL:https://research.reading.ac.uk/digitalhumanities/event/beyond-scale-gis-and-the-humanities/
LOCATION:Palmer 105
CATEGORIES:Community of Practice
END:VEVENT
END:VCALENDAR