BEGIN:VCALENDAR
VERSION:2.0
PRODID:-//University of Reading Digital Humanities Hub - ECPv6.0.5//NONSGML v1.0//EN
CALSCALE:GREGORIAN
METHOD:PUBLISH
X-ORIGINAL-URL:https://research.reading.ac.uk/digitalhumanities
X-WR-CALDESC:Events for University of Reading Digital Humanities Hub
REFRESH-INTERVAL;VALUE=DURATION:PT1H
X-Robots-Tag:noindex
X-PUBLISHED-TTL:PT1H
BEGIN:VTIMEZONE
TZID:Europe/London
BEGIN:DAYLIGHT
TZOFFSETFROM:+0000
TZOFFSETTO:+0100
TZNAME:BST
DTSTART:20240331T010000
END:DAYLIGHT
BEGIN:STANDARD
TZOFFSETFROM:+0100
TZOFFSETTO:+0000
TZNAME:GMT
DTSTART:20241027T010000
END:STANDARD
END:VTIMEZONE
BEGIN:VEVENT
DTSTART;TZID=Europe/London:20240313T113000
DTEND;TZID=Europe/London:20240313T130000
DTSTAMP:20260424T030209
CREATED:20240226T091852Z
LAST-MODIFIED:20240226T091852Z
UID:1035-1710329400-1710334800@research.reading.ac.uk
SUMMARY:Using small grants to kickstart your Digital Humanities ambitions
DESCRIPTION:A short online information session to talk about how to use small research grants to kickstart your Digital Humanities ambitions. The session will be run by Research Services and will cover: \n\nWhat is Digital Humanities?\nUse of Digital Humanities in smaller grants\nA short talk from an academic who has held a British Academy Small Grant using Digital Humanities\nAn outline of 3 appropriate small grant opportunities\nSignposting to further help and resources\n\nJoin the meeting here
URL:https://research.reading.ac.uk/digitalhumanities/event/using-small-grants-to-kickstart-your-digital-humanities-ambitions/
CATEGORIES:Information session
END:VEVENT
END:VCALENDAR