BEGIN:VCALENDAR
VERSION:2.0
PRODID:-//University of Reading Digital Humanities Hub - ECPv6.0.5//NONSGML v1.0//EN
CALSCALE:GREGORIAN
METHOD:PUBLISH
X-WR-CALNAME:University of Reading Digital Humanities Hub
X-ORIGINAL-URL:https://research.reading.ac.uk/digitalhumanities
X-WR-CALDESC:Events for University of Reading Digital Humanities Hub
REFRESH-INTERVAL;VALUE=DURATION:PT1H
X-Robots-Tag:noindex
X-PUBLISHED-TTL:PT1H
BEGIN:VTIMEZONE
TZID:Europe/London
BEGIN:DAYLIGHT
TZOFFSETFROM:+0000
TZOFFSETTO:+0100
TZNAME:BST
DTSTART:20240331T010000
END:DAYLIGHT
BEGIN:STANDARD
TZOFFSETFROM:+0100
TZOFFSETTO:+0000
TZNAME:GMT
DTSTART:20241027T010000
END:STANDARD
END:VTIMEZONE
BEGIN:VEVENT
DTSTART;TZID=Europe/London:20241120T130000
DTEND;TZID=Europe/London:20241120T143000
DTSTAMP:20260423T013718
CREATED:20240711T143525Z
LAST-MODIFIED:20241017T095201Z
UID:1715-1732107600-1732113000@research.reading.ac.uk
SUMMARY:Humanities Data
DESCRIPTION:Keynote Speaker: Dr Giles Bergel (Oxford)\, Senior Researcher in Digital Humanities in the Department of Engineering Science \nDate: Wednesday 20 November 2024 \nTime: 13.00 to 14.30 \nPlace: EMG27 and Online \n  \nProgramme\nCoffee and Tea available from 13.00 \n\n\n\n13.00\nWelcome and Intro – Dr Mara Oliva (DH Champion) and Dr Dawn Kanter (DH Officer)\n\n\n13.10\nKeynote address: Dr Giles Bergel\, Senior Researcher in Digital Humanities\, Department of Engineering Science – “Do Humanists have Data?”\n\n\n13.40\nRoundtable:\nDr Amy Richardson\, Archaeology\, “Data-driven approaches in the archaeology of the Middle East”\nDr Rhi Smith\, UMASCS\, “Museum data: tackling legacies and making connections”\nDr Dawn Kanter\, DH Hub\, “Collecting and Connecting Portrait-Sitting Data”\n\n\n14.00\nQ&A\n\n\n14.10\nHow to go about it: Dr Dawn Kanter and Dr Robert Darby with Dr Marjorie Gerhardt\n\n\n14.30\nWhat’s next (DH CoP and Hub – future events) & close – Dr Mara Oliva\n\n\n\n  \nKeynote address: Dr Giles Bergel\, Senior Researcher in Digital Humanities\, Department of Engineering Science – “Do Humanists have Data?” \nAbstract: The question that this talk addresses might be put in two different senses. In a practical sense\, the question asks if humanists work with or create data that is immediately available for computational use. On a more theoretical level it could be asked if humanists have data at all. Both questions are fundamental given (for example) AI’s voracious appetite for training data and as\, in an age of academic precarity\, the humanities seek both a realistic future and a usable past. The talk will address both questions through the example of the speaker’s experience on Digital Humanities projects in textual studies\, book history and computer vision. \nBio: Giles Bergel is Senior Researcher in Digital Humanities in the Department of Engineering Science at the University of Oxford. A book historian by training\, he manages an engagement programme in the humanities for the EPSRC-funded Visual AI project\, while also pursuing research in the computational analysis of the printed page\, currently including for the AHRC-funded Envisioning Dante project. \n  \nThis event is being run by the Digital Humanities Community of Practice\, in collaboration with the Digital Humanities Hub. The DH CoP and the DH Hub work together in supporting researchers to build knowledge and skills in DH\, to develop and undertake DH research projects\, and to maintain digital research outcomes. \nOur events are open to all researchers\, staff\, and PGRs from any subject – we welcome interdisciplinary collaboration!
URL:https://research.reading.ac.uk/digitalhumanities/event/humanities-data/
LOCATION:EMG27
CATEGORIES:Community of Practice,In-person,Online
END:VEVENT
END:VCALENDAR