BEGIN:VCALENDAR
VERSION:2.0
PRODID:-//University of Reading Digital Humanities Hub - ECPv6.0.5//NONSGML v1.0//EN
CALSCALE:GREGORIAN
METHOD:PUBLISH
X-ORIGINAL-URL:https://research.reading.ac.uk/digitalhumanities
X-WR-CALDESC:Events for University of Reading Digital Humanities Hub
REFRESH-INTERVAL;VALUE=DURATION:PT1H
X-Robots-Tag:noindex
X-PUBLISHED-TTL:PT1H
BEGIN:VTIMEZONE
TZID:Europe/London
BEGIN:DAYLIGHT
TZOFFSETFROM:+0000
TZOFFSETTO:+0100
TZNAME:BST
DTSTART:20250330T010000
END:DAYLIGHT
BEGIN:STANDARD
TZOFFSETFROM:+0100
TZOFFSETTO:+0000
TZNAME:GMT
DTSTART:20251026T010000
END:STANDARD
END:VTIMEZONE
BEGIN:VEVENT
DTSTART;TZID=Europe/London:20250319T100000
DTEND;TZID=Europe/London:20250319T130000
DTSTAMP:20260422T051007
CREATED:20250117T110032Z
LAST-MODIFIED:20250306T162127Z
UID:2523-1742378400-1742389200@research.reading.ac.uk
SUMMARY:RRDP - An Introduction to Digital Humanities
DESCRIPTION:This in-person session\, at the Doctoral and Researcher College\, is part of the Reading Researcher Development Programme.
URL:https://research.reading.ac.uk/digitalhumanities/event/rrdp-an-introduction-to-digital-humanities/
LOCATION:Doctoral and Researcher College
CATEGORIES:In-person
END:VEVENT
END:VCALENDAR