BEGIN:VCALENDAR
VERSION:2.0
PRODID:-//University of Reading Digital Humanities Hub - ECPv6.0.5//NONSGML v1.0//EN
CALSCALE:GREGORIAN
METHOD:PUBLISH
X-ORIGINAL-URL:https://research.reading.ac.uk/digitalhumanities
X-WR-CALDESC:Events for University of Reading Digital Humanities Hub
REFRESH-INTERVAL;VALUE=DURATION:PT1H
X-Robots-Tag:noindex
X-PUBLISHED-TTL:PT1H
BEGIN:VTIMEZONE
TZID:Europe/London
BEGIN:DAYLIGHT
TZOFFSETFROM:+0000
TZOFFSETTO:+0100
TZNAME:BST
DTSTART:20250330T010000
END:DAYLIGHT
BEGIN:STANDARD
TZOFFSETFROM:+0100
TZOFFSETTO:+0000
TZNAME:GMT
DTSTART:20251026T010000
END:STANDARD
END:VTIMEZONE
BEGIN:VEVENT
DTSTART;TZID=Europe/London:20250508T123000
DTEND;TZID=Europe/London:20250508T133000
DTSTAMP:20260421T012259
CREATED:20250410T140757Z
LAST-MODIFIED:20250410T142021Z
UID:2589-1746707400-1746711000@research.reading.ac.uk
SUMMARY:ImmerseLab Mixed Reality Performance Sharing
DESCRIPTION:The Digital Humanities CoP and Hub\, and the ImmerseLab\, are pleased to welcome Ian Garrett (York University\, Toronto) for a mixed reality performance: \nThursday\, May 8\n12:30-1:30\nBulmershe Theatre\, Minghella Studios\n(in person only) \nIan Garrett is a producer/designer with Toasterlab media production company\, which creates place-based extended reality experiences that promote deeper engagement with history\, community\, and imagination. He has a research and performance design practice focused on ecology and accessible mixed reality technologies in performance. He has made and shared work internationally including at the Venice Biennale\, World Stage Design Taipei and Nuit Blanche Toronto. \nOur events are open to all researchers\, staff\, and PGRs from any subject – we welcome interdisciplinary collaboration! \nTea/coffee and lunch will be available. \n  \nMore about the DH CoP and Hub\n \nDigital Humanities (DH) is the critical study of the intersection between digital technologies\, disciplines in the Arts and Humanities\, and scholarly communication. The DH Community of Practice (CoP) and the DH Hub work together in supporting researchers to build knowledge and skills in DH\, to develop and undertake DH research projects\, and to maintain digital research outcomes. You can read more about the CoP here and about the Hub here. \nMore about the ImmerseLab\n \nProfessor Lisa Purse is the Director of the ImmerseLab\, a new production\, testing and research training facility to enable colleagues across UoR’s interdisciplinary Digital Humanities (DH) community to investigate the latest developments in virtual reality\, augmented reality\, mixed reality and their real-world applications. \n 
URL:https://research.reading.ac.uk/digitalhumanities/event/mixed-reality-performance/
LOCATION:Bulmershe Theatre\, Minghella Studios
CATEGORIES:Collaboration,In-person,Performance
END:VEVENT
END:VCALENDAR