BEGIN:VCALENDAR
VERSION:2.0
PRODID:-//University of Reading Digital Humanities Hub - ECPv6.0.5//NONSGML v1.0//EN
CALSCALE:GREGORIAN
METHOD:PUBLISH
X-WR-CALNAME:University of Reading Digital Humanities Hub
X-ORIGINAL-URL:https://research.reading.ac.uk/digitalhumanities
X-WR-CALDESC:Events for University of Reading Digital Humanities Hub
REFRESH-INTERVAL;VALUE=DURATION:PT1H
X-Robots-Tag:noindex
X-PUBLISHED-TTL:PT1H
BEGIN:VTIMEZONE
TZID:Europe/London
BEGIN:DAYLIGHT
TZOFFSETFROM:+0000
TZOFFSETTO:+0100
TZNAME:BST
DTSTART:20250330T010000
END:DAYLIGHT
BEGIN:STANDARD
TZOFFSETFROM:+0100
TZOFFSETTO:+0000
TZNAME:GMT
DTSTART:20251026T010000
END:STANDARD
END:VTIMEZONE
BEGIN:VEVENT
DTSTART;TZID=Europe/London:20250219T130000
DTEND;TZID=Europe/London:20250219T150000
DTSTAMP:20260421T063709
CREATED:20250127T133617Z
LAST-MODIFIED:20250127T133617Z
UID:2535-1739970000-1739977200@research.reading.ac.uk
SUMMARY:Writing a Data Management Plan
DESCRIPTION:*For UoR staff*\nMany public funders of research require researchers to submit a data management plan (DMP) as part of a grant application\, detailing what data will be collected in the proposed project\, how data will be managed\, and how and where data will be preserved and made available to others when the project concludes. Whether a funder requires it or not\, if you use data in your research\, you should have a DMP for your project. Writing a DMP can help you plan and execute research effectively\, curate data for maximum utility\, identify and manage risks\, and ensure resource needs are appropriately costed. \nThis 2 hour course will offer practical guidance on developing an effective DMP for a grant application\, and how to make best use of a DMP in your day to day research. Information about data management planning tools and resources to help you will be provided. \nThe objectives of this course are: \n\nLearn how to write a data management plan for a grant application or research project.\nIdentify the core components of a data management plan and the key considerations to address in the plan.\nFind out about resources and where to get help.\n\nPlease book your place via UoRLearn.
URL:https://research.reading.ac.uk/digitalhumanities/event/writing-a-data-management-plan-4/
CATEGORIES:Online,Training
END:VEVENT
END:VCALENDAR