BEGIN:VCALENDAR
VERSION:2.0
PRODID:-//University of Reading Digital Humanities Hub - ECPv6.0.5//NONSGML v1.0//EN
CALSCALE:GREGORIAN
METHOD:PUBLISH
X-ORIGINAL-URL:https://research.reading.ac.uk/digitalhumanities
X-WR-CALDESC:Events for University of Reading Digital Humanities Hub
REFRESH-INTERVAL;VALUE=DURATION:PT1H
X-Robots-Tag:noindex
X-PUBLISHED-TTL:PT1H
BEGIN:VTIMEZONE
TZID:Europe/London
BEGIN:DAYLIGHT
TZOFFSETFROM:+0000
TZOFFSETTO:+0100
TZNAME:BST
DTSTART:20250330T010000
END:DAYLIGHT
BEGIN:STANDARD
TZOFFSETFROM:+0100
TZOFFSETTO:+0000
TZNAME:GMT
DTSTART:20251026T010000
END:STANDARD
BEGIN:DAYLIGHT
TZOFFSETFROM:+0000
TZOFFSETTO:+0100
TZNAME:BST
DTSTART:20260329T010000
END:DAYLIGHT
BEGIN:STANDARD
TZOFFSETFROM:+0100
TZOFFSETTO:+0000
TZNAME:GMT
DTSTART:20261025T010000
END:STANDARD
END:VTIMEZONE
BEGIN:VEVENT
DTSTART;VALUE=DATE:20250625
DTEND;VALUE=DATE:20250627
DTSTAMP:20260421T195405
CREATED:20250424T145039Z
LAST-MODIFIED:20250425T082011Z
UID:2615-1750809600-1750982399@research.reading.ac.uk
SUMMARY:(Generative) Artificial Intelligence and Teaching the Ancient World
DESCRIPTION:Edward Ross and Jackie Baines (Department of Classics) invite teachers\, researchers\, scholars\, and practitioners to participate in a new\, hybrid conference event exploring the intersection of artificial intelligence (AI) and teaching about the ancient world\, broadly conceived. From the exponential environmental impact to the distortion of ancient history to the development of new models\, generative artificial intelligence (GenAI) tools are making growing impacts on how the ancient world is taught\, investigated\, perceived\, and understood. It is crucial to discuss these arising issues with those involved at all stages of the teaching\, research\, and development processes so that the many disciplines engaged in ancient world studies might have a consensus about the use\, ethics\, and impact of GenAI. \nKeynote Address: Environmentally (un)sustainable AI: rethinking responsibilities for Ancient World Studies? by Prof. Federica Lucivero (Ethox Centre\, University of Oxford) \nSpeakers include teachers\, researchers\, and practitioners from eight countries. Discussions will include Reconciling the Ethics of Using GenAI in Ancient World T&L\, Case Studies of Good Practice\, Developing AI Models for Supporting Ancient World T&L\, and GenAI in Public Ancient History and Reception. \n\nPlease find the full programme here.\nPlease register here.\n\nIf there are any issues registering\, please contact the conference committee.
URL:https://research.reading.ac.uk/digitalhumanities/event/generative-artificial-intelligence-and-teaching-the-ancient-world/
LOCATION:University of Reading (in-person); Microsoft Teams (online)
CATEGORIES:Conference,In-person,Online
END:VEVENT
BEGIN:VEVENT
DTSTART;TZID=Europe/London:20260304T110000
DTEND;TZID=Europe/London:20260304T160000
DTSTAMP:20260421T195405
CREATED:20260204T121339Z
LAST-MODIFIED:20260204T121339Z
UID:2791-1772622000-1772640000@research.reading.ac.uk
SUMMARY:Digital Research with Collections
DESCRIPTION:Explore digital methods for collections-based research. In partnership with the University of Reading’s Digital Humanities Hub\, collections staff and academics will examine digital approaches to this type of research. This session will review common techniques\, recent projects\, and some of the logistical and theoretical challenges involved in this academic work. \nBook for this session and find out more. \n 
URL:https://research.reading.ac.uk/digitalhumanities/event/digital-research-with-collections/
LOCATION:Online
CATEGORIES:Online,Training
END:VEVENT
BEGIN:VEVENT
DTSTART;TZID=Europe/London:20260319T100000
DTEND;TZID=Europe/London:20260319T130000
DTSTAMP:20260421T195405
CREATED:20260204T120558Z
LAST-MODIFIED:20260204T121607Z
UID:2786-1773914400-1773925200@research.reading.ac.uk
SUMMARY:RRDP - An Introduction to Digital Humanities
DESCRIPTION:This in-person session\, at the Doctoral and Researcher College\, is part of the Reading Researcher Development Programme.
URL:https://research.reading.ac.uk/digitalhumanities/event/rrdp-an-introduction-to-digital-humanities-2/
LOCATION:Doctoral and Researcher College
CATEGORIES:Training
ORGANIZER;CN="Mara%20Oliva":MAILTO:m.oliva@reading.ac.uk
END:VEVENT
END:VCALENDAR