BEGIN:VCALENDAR
VERSION:2.0
PRODID:-//Economics Research - ECPv6.0.5//NONSGML v1.0//EN
CALSCALE:GREGORIAN
METHOD:PUBLISH
X-ORIGINAL-URL:https://research.reading.ac.uk/economics
X-WR-CALDESC:Events for Economics Research
REFRESH-INTERVAL;VALUE=DURATION:PT1H
X-Robots-Tag:noindex
X-PUBLISHED-TTL:PT1H
BEGIN:VTIMEZONE
TZID:Europe/London
BEGIN:DAYLIGHT
TZOFFSETFROM:+0000
TZOFFSETTO:+0100
TZNAME:BST
DTSTART:20220327T010000
END:DAYLIGHT
BEGIN:STANDARD
TZOFFSETFROM:+0100
TZOFFSETTO:+0000
TZNAME:GMT
DTSTART:20221030T010000
END:STANDARD
END:VTIMEZONE
BEGIN:VEVENT
DTSTART;TZID=Europe/London:20220302T143000
DTEND;TZID=Europe/London:20220302T154500
DTSTAMP:20260423T235424
CREATED:20220109T195134Z
LAST-MODIFIED:20220118T103807Z
UID:2696-1646231400-1646235900@research.reading.ac.uk
SUMMARY:Yao Chen\, University of Exeter
DESCRIPTION:
URL:https://research.reading.ac.uk/economics/event/yao-chen-university-of-exeter/
LOCATION:Edith Morley 124 (hybrid)
CATEGORIES:External Seminars
ORGANIZER;CN="Stephen%20Kastoryano":MAILTO:s.p.kastoryano@reading.ac.uk
END:VEVENT
BEGIN:VEVENT
DTSTART;TZID=Europe/London:20220309T143000
DTEND;TZID=Europe/London:20220309T154500
DTSTAMP:20260423T235424
CREATED:20220109T195239Z
LAST-MODIFIED:20220118T103837Z
UID:2698-1646836200-1646840700@research.reading.ac.uk
SUMMARY:Ben Etheridge\, University of Essex
DESCRIPTION:
URL:https://research.reading.ac.uk/economics/event/ben-etheridge-university-of-essex/
LOCATION:Edith Morley 124 (hybrid)
CATEGORIES:External Seminars
ORGANIZER;CN="Stephen%20Kastoryano":MAILTO:s.p.kastoryano@reading.ac.uk
END:VEVENT
BEGIN:VEVENT
DTSTART;TZID=Europe/London:20220316T143000
DTEND;TZID=Europe/London:20220316T154500
DTSTAMP:20260423T235424
CREATED:20220109T195400Z
LAST-MODIFIED:20220118T112801Z
UID:2700-1647441000-1647445500@research.reading.ac.uk
SUMMARY:Clement de Chaisemartin\, Science Po
DESCRIPTION:
URL:https://research.reading.ac.uk/economics/event/ben-etheridge-university-of-essex-2/
LOCATION:Edith Morley 124 (hybrid)
CATEGORIES:External Seminars
ORGANIZER;CN="Stephen%20Kastoryano":MAILTO:s.p.kastoryano@reading.ac.uk
END:VEVENT
BEGIN:VEVENT
DTSTART;TZID=Europe/London:20220323T143000
DTEND;TZID=Europe/London:20220323T154500
DTSTAMP:20260423T235424
CREATED:20220109T195449Z
LAST-MODIFIED:20220118T104018Z
UID:2702-1648045800-1648050300@research.reading.ac.uk
SUMMARY:Martin Foureaux Koppensteiner\, University of Surrey
DESCRIPTION:
URL:https://research.reading.ac.uk/economics/event/martin-foureaux-koppensteiner-university-of-surrey/
LOCATION:Edith Morley 124 (hybrid)
CATEGORIES:External Seminars
ORGANIZER;CN="Stephen%20Kastoryano":MAILTO:s.p.kastoryano@reading.ac.uk
END:VEVENT
END:VCALENDAR