BEGIN:VCALENDAR
VERSION:2.0
PRODID:-//Economics Research - ECPv6.0.5//NONSGML v1.0//EN
CALSCALE:GREGORIAN
METHOD:PUBLISH
X-WR-CALNAME:Economics Research
X-ORIGINAL-URL:https://research.reading.ac.uk/economics
X-WR-CALDESC:Events for Economics Research
REFRESH-INTERVAL;VALUE=DURATION:PT1H
X-Robots-Tag:noindex
X-PUBLISHED-TTL:PT1H
BEGIN:VTIMEZONE
TZID:Europe/London
BEGIN:DAYLIGHT
TZOFFSETFROM:+0000
TZOFFSETTO:+0100
TZNAME:BST
DTSTART:20220327T010000
END:DAYLIGHT
BEGIN:STANDARD
TZOFFSETFROM:+0100
TZOFFSETTO:+0000
TZNAME:GMT
DTSTART:20221030T010000
END:STANDARD
END:VTIMEZONE
BEGIN:VEVENT
DTSTART;TZID=Europe/London:20221005T143000
DTEND;TZID=Europe/London:20221005T154500
DTSTAMP:20260422T082351
CREATED:20220909T183807Z
LAST-MODIFIED:20220909T183807Z
UID:3158-1664980200-1664984700@research.reading.ac.uk
SUMMARY:External Seminar: Rob Taylor
DESCRIPTION:
URL:https://research.reading.ac.uk/economics/event/external-seminar-rob-taylor/
CATEGORIES:External Seminars
END:VEVENT
BEGIN:VEVENT
DTSTART;TZID=Europe/London:20221012T143000
DTEND;TZID=Europe/London:20221012T154500
DTSTAMP:20260422T082351
CREATED:20220909T182917Z
LAST-MODIFIED:20220909T182917Z
UID:3150-1665585000-1665589500@research.reading.ac.uk
SUMMARY:External Seminar: Kalyan Kameshwara
DESCRIPTION:
URL:https://research.reading.ac.uk/economics/event/external-seminar-kalyan-kameshwara/
CATEGORIES:External Seminars
END:VEVENT
BEGIN:VEVENT
DTSTART;TZID=Europe/London:20221019T143000
DTEND;TZID=Europe/London:20221019T154500
DTSTAMP:20260422T082351
CREATED:20220909T183435Z
LAST-MODIFIED:20220909T183435Z
UID:3154-1666189800-1666194300@research.reading.ac.uk
SUMMARY:External Seminar: Zhenya Liu
DESCRIPTION:
URL:https://research.reading.ac.uk/economics/event/external-seminar-zhenya-liu/
CATEGORIES:External Seminars
END:VEVENT
END:VCALENDAR