BEGIN:VCALENDAR
VERSION:2.0
PRODID:-//Economics Research - ECPv6.0.5//NONSGML v1.0//EN
CALSCALE:GREGORIAN
METHOD:PUBLISH
X-ORIGINAL-URL:https://research.reading.ac.uk/economics
X-WR-CALDESC:Events for Economics Research
REFRESH-INTERVAL;VALUE=DURATION:PT1H
X-Robots-Tag:noindex
X-PUBLISHED-TTL:PT1H
BEGIN:VTIMEZONE
TZID:Europe/London
BEGIN:DAYLIGHT
TZOFFSETFROM:+0000
TZOFFSETTO:+0100
TZNAME:BST
DTSTART:20220327T010000
END:DAYLIGHT
BEGIN:STANDARD
TZOFFSETFROM:+0100
TZOFFSETTO:+0000
TZNAME:GMT
DTSTART:20221030T010000
END:STANDARD
END:VTIMEZONE
BEGIN:VEVENT
DTSTART;TZID=Europe/London:20220119T143000
DTEND;TZID=Europe/London:20220119T154500
DTSTAMP:20260424T124547
CREATED:20220109T194608Z
LAST-MODIFIED:20220118T103301Z
UID:2686-1642602600-1642607100@research.reading.ac.uk
SUMMARY:Ludovica Gazze\, University of Warwick
DESCRIPTION:The Long-Run Spillover Effects of Pollution: How Exposure to Lead Affects Everyone in the Classroom (with Claudia Persico and Sandra Spirovska)
URL:https://research.reading.ac.uk/economics/event/ludovica-gazze-university-of-warwick/
LOCATION:Edith Morley 124 (hybrid)
CATEGORIES:External Seminars
ORGANIZER;CN="Stephen%20Kastoryano":MAILTO:s.p.kastoryano@reading.ac.uk
END:VEVENT
END:VCALENDAR