BEGIN:VCALENDAR
VERSION:2.0
PRODID:-//Economics Research - ECPv6.0.5//NONSGML v1.0//EN
CALSCALE:GREGORIAN
METHOD:PUBLISH
X-WR-CALNAME:Economics Research
X-ORIGINAL-URL:https://research.reading.ac.uk/economics
X-WR-CALDESC:Events for Economics Research
REFRESH-INTERVAL;VALUE=DURATION:PT1H
X-Robots-Tag:noindex
X-PUBLISHED-TTL:PT1H
BEGIN:VTIMEZONE
TZID:Europe/London
BEGIN:DAYLIGHT
TZOFFSETFROM:+0000
TZOFFSETTO:+0100
TZNAME:BST
DTSTART:20230326T010000
END:DAYLIGHT
BEGIN:STANDARD
TZOFFSETFROM:+0100
TZOFFSETTO:+0000
TZNAME:GMT
DTSTART:20231029T010000
END:STANDARD
END:VTIMEZONE
BEGIN:VEVENT
DTSTART;TZID=Europe/London:20231206T143000
DTEND;TZID=Europe/London:20231206T160000
DTSTAMP:20260421T222546
CREATED:20231106T183629Z
LAST-MODIFIED:20231106T183629Z
UID:3644-1701873000-1701878400@research.reading.ac.uk
SUMMARY:External Seminar by Danae Arroyos-Calvera (University of Birmingham)
DESCRIPTION:Title: Risk and Plausible Deniability in Public Good Games \n\nAbstract: TBC\n\nDanae’s latest research is here: https://sites.google.com/view/arroyos-calvera/home
URL:https://research.reading.ac.uk/economics/event/external-seminar-by-danae-arroyos-calvera-university-of-birmingham/
LOCATION:Edith Morley 126\, United Kingdom
CATEGORIES:External Seminars
ORGANIZER;CN="Carl%20Singleton":MAILTO:c.a.singleton@reading.ac.uk
END:VEVENT
END:VCALENDAR