BEGIN:VCALENDAR
VERSION:2.0
PRODID:-//Economics Research - ECPv6.0.5//NONSGML v1.0//EN
CALSCALE:GREGORIAN
METHOD:PUBLISH
X-WR-CALNAME:Economics Research
X-ORIGINAL-URL:https://research.reading.ac.uk/economics
X-WR-CALDESC:Events for Economics Research
REFRESH-INTERVAL;VALUE=DURATION:PT1H
X-Robots-Tag:noindex
X-PUBLISHED-TTL:PT1H
BEGIN:VTIMEZONE
TZID:Europe/London
BEGIN:DAYLIGHT
TZOFFSETFROM:+0000
TZOFFSETTO:+0100
TZNAME:BST
DTSTART:20240331T010000
END:DAYLIGHT
BEGIN:STANDARD
TZOFFSETFROM:+0100
TZOFFSETTO:+0000
TZNAME:GMT
DTSTART:20241027T010000
END:STANDARD
END:VTIMEZONE
BEGIN:VEVENT
DTSTART;TZID=Europe/London:20240117T143000
DTEND;TZID=Europe/London:20240117T160000
DTSTAMP:20260421T215950
CREATED:20240121T201304Z
LAST-MODIFIED:20240121T201530Z
UID:3767-1705501800-1705507200@research.reading.ac.uk
SUMMARY:External Seminar by Ulrich Voltz (SOAS - University of London)
DESCRIPTION:
URL:https://research.reading.ac.uk/economics/event/external-seminar-by-ulrich-voltz-soas-university-of-london/
LOCATION:Edith Morley 74
CATEGORIES:External Seminars
ORGANIZER;CN="Stephen%20Kastoryano":MAILTO:s.p.kastoryano@reading.ac.uk
END:VEVENT
END:VCALENDAR