BEGIN:VCALENDAR
VERSION:2.0
PRODID:-//Economics Research - ECPv6.0.5//NONSGML v1.0//EN
CALSCALE:GREGORIAN
METHOD:PUBLISH
X-WR-CALNAME:Economics Research
X-ORIGINAL-URL:https://research.reading.ac.uk/economics
X-WR-CALDESC:Events for Economics Research
REFRESH-INTERVAL;VALUE=DURATION:PT1H
X-Robots-Tag:noindex
X-PUBLISHED-TTL:PT1H
BEGIN:VTIMEZONE
TZID:Europe/London
BEGIN:DAYLIGHT
TZOFFSETFROM:+0000
TZOFFSETTO:+0100
TZNAME:BST
DTSTART:20240331T010000
END:DAYLIGHT
BEGIN:STANDARD
TZOFFSETFROM:+0100
TZOFFSETTO:+0000
TZNAME:GMT
DTSTART:20241027T010000
END:STANDARD
END:VTIMEZONE
BEGIN:VEVENT
DTSTART;TZID=Europe/London:20240124T143000
DTEND;TZID=Europe/London:20240124T160000
DTSTAMP:20260421T235806
CREATED:20240121T201431Z
LAST-MODIFIED:20240121T201431Z
UID:3770-1706106600-1706112000@research.reading.ac.uk
SUMMARY:External Seminar by Arnaud Philippe (University of Bristol)
DESCRIPTION:
URL:https://research.reading.ac.uk/economics/event/external-seminar-by-arnaud-philippe-university-of-bristol/
LOCATION:Edith Morley 74
CATEGORIES:External Seminars
ORGANIZER;CN="Stephen%20Kastoryano":MAILTO:s.p.kastoryano@reading.ac.uk
END:VEVENT
END:VCALENDAR