BEGIN:VCALENDAR
VERSION:2.0
PRODID:-//Economics Research - ECPv6.0.5//NONSGML v1.0//EN
CALSCALE:GREGORIAN
METHOD:PUBLISH
X-WR-CALNAME:Economics Research
X-ORIGINAL-URL:https://research.reading.ac.uk/economics
X-WR-CALDESC:Events for Economics Research
REFRESH-INTERVAL;VALUE=DURATION:PT1H
X-Robots-Tag:noindex
X-PUBLISHED-TTL:PT1H
BEGIN:VTIMEZONE
TZID:Europe/London
BEGIN:DAYLIGHT
TZOFFSETFROM:+0000
TZOFFSETTO:+0100
TZNAME:BST
DTSTART:20240331T010000
END:DAYLIGHT
BEGIN:STANDARD
TZOFFSETFROM:+0100
TZOFFSETTO:+0000
TZNAME:GMT
DTSTART:20241027T010000
END:STANDARD
END:VTIMEZONE
BEGIN:VEVENT
DTSTART;TZID=Europe/London:20240412T143000
DTEND;TZID=Europe/London:20240412T153000
DTSTAMP:20260426T033537
CREATED:20240121T185007Z
LAST-MODIFIED:20240121T185007Z
UID:3755-1712932200-1712935800@research.reading.ac.uk
SUMMARY:ROSES Seminar by Galila Nasser (University of Bielefeld)
DESCRIPTION:Title:“ Effect of Geographical Proximity on Youth Talent Development: Application on the German Football”
URL:https://research.reading.ac.uk/economics/event/roses-seminar-by-galila-nasser-university-of-bielefeld/
LOCATION:Zoom
CATEGORIES:ROSES
ORGANIZER;CN="James%20Reade":MAILTO:j.j.reade@reading.ac.uk
END:VEVENT
BEGIN:VEVENT
DTSTART;TZID=Europe/London:20240419T143000
DTEND;TZID=Europe/London:20240419T153000
DTSTAMP:20260426T033537
CREATED:20240121T185259Z
LAST-MODIFIED:20240121T185259Z
UID:3757-1713537000-1713540600@research.reading.ac.uk
SUMMARY:ROSES Seminar by Alex Farnell (Maynooth University)
DESCRIPTION:Title: “Race and Coaching Hierarchy: The promotion of assistant coaches in the NFL”
URL:https://research.reading.ac.uk/economics/event/roses-seminar-by-alex-farnell-maynooth-university/
LOCATION:Zoom
CATEGORIES:ROSES
ORGANIZER;CN="James%20Reade":MAILTO:j.j.reade@reading.ac.uk
END:VEVENT
BEGIN:VEVENT
DTSTART;TZID=Europe/London:20240426T080000
DTEND;TZID=Europe/London:20240426T170000
DTSTAMP:20260426T033537
CREATED:20240121T185809Z
LAST-MODIFIED:20240121T185809Z
UID:3762-1714118400-1714150800@research.reading.ac.uk
SUMMARY:ROSES Seminar by Pete Groothuis (Appalachian State University)
DESCRIPTION:Title: “A Rising Tide Raises all Boats: The changing distribution of salaries in the NBA over time”
URL:https://research.reading.ac.uk/economics/event/roses-seminar-by-pete-groothuis-appalachian-state-university-2/
LOCATION:Zoom
CATEGORIES:ROSES
ORGANIZER;CN="James%20Reade":MAILTO:j.j.reade@reading.ac.uk
END:VEVENT
END:VCALENDAR