BEGIN:VCALENDAR
VERSION:2.0
PRODID:-//Economics Research - ECPv6.0.5//NONSGML v1.0//EN
CALSCALE:GREGORIAN
METHOD:PUBLISH
X-WR-CALNAME:Economics Research
X-ORIGINAL-URL:https://research.reading.ac.uk/economics
X-WR-CALDESC:Events for Economics Research
REFRESH-INTERVAL;VALUE=DURATION:PT1H
X-Robots-Tag:noindex
X-PUBLISHED-TTL:PT1H
BEGIN:VTIMEZONE
TZID:Europe/London
BEGIN:DAYLIGHT
TZOFFSETFROM:+0000
TZOFFSETTO:+0100
TZNAME:BST
DTSTART:20210328T010000
END:DAYLIGHT
BEGIN:STANDARD
TZOFFSETFROM:+0100
TZOFFSETTO:+0000
TZNAME:GMT
DTSTART:20211031T010000
END:STANDARD
BEGIN:DAYLIGHT
TZOFFSETFROM:+0000
TZOFFSETTO:+0100
TZNAME:BST
DTSTART:20220327T010000
END:DAYLIGHT
BEGIN:STANDARD
TZOFFSETFROM:+0100
TZOFFSETTO:+0000
TZNAME:GMT
DTSTART:20221030T010000
END:STANDARD
END:VTIMEZONE
BEGIN:VEVENT
DTSTART;TZID=Europe/London:20220109T080000
DTEND;TZID=Europe/London:20220109T170000
DTSTAMP:20260420T050319
CREATED:20220109T201933Z
LAST-MODIFIED:20220109T201933Z
UID:2728-1641715200-1641747600@research.reading.ac.uk
SUMMARY:Johan Rewilak\, Aston Business School (ROSES)
DESCRIPTION:Some positive economic benefits from hosting Sporting Mega Events: Bucking the trend
URL:https://research.reading.ac.uk/economics/event/johan-rewilak-aston-business-school-roses/
LOCATION:Microsoft Teams
CATEGORIES:ROSES
ORGANIZER;CN="James%20Reade":MAILTO:j.j.reade@reading.ac.uk
END:VEVENT
BEGIN:VEVENT
DTSTART;TZID=Europe/London:20211217T143000
DTEND;TZID=Europe/London:20211217T160000
DTSTAMP:20260420T050319
CREATED:20211031T123743Z
LAST-MODIFIED:20211031T123743Z
UID:2444-1639751400-1639756800@research.reading.ac.uk
SUMMARY:Arnaud Chevalier (ROSES)
DESCRIPTION:Title: The Dynamics of Racial Discrimination: Evidence from Fantasy Football \nAbout ROSES: \n\nAn online series of sport economics seminars\, organised by James Reade\, Carl Singleton and Adrian Bell\, part of the Football Economics Research Group at the University of Reading.\nAll Seminars take place 2:30-4pm\, UK time\, and will take place on Microsoft Teams.\n\nJoining Instructions: \n\nSeminar via Microsoft Teams. Contact James Reade at j.j.reade@reading.ac.uk
URL:https://research.reading.ac.uk/economics/event/arnaud-chevalier-roses/
LOCATION:Microsoft Teams
CATEGORIES:ROSES
ORGANIZER;CN="James%20Reade":MAILTO:j.j.reade@reading.ac.uk
END:VEVENT
BEGIN:VEVENT
DTSTART;TZID=Europe/London:20211210T143000
DTEND;TZID=Europe/London:20211210T160000
DTSTAMP:20260420T050319
CREATED:20211031T123613Z
LAST-MODIFIED:20211031T123932Z
UID:2442-1639146600-1639152000@research.reading.ac.uk
SUMMARY:Dominik Schreyer (ROSES)
DESCRIPTION:Title: TBC \nAbout ROSES: \n\nAn online series of sport economics seminars\, organised by James Reade\, Carl Singleton and Adrian Bell\, part of the Football Economics Research Group at the University of Reading.\nAll Seminars take place 2:30-4pm\, UK time\, and will take place on Microsoft Teams.\n\nJoining Instructions: \n\nSeminar via Microsoft Teams. Contact James Reade at j.j.reade@reading.ac.uk
URL:https://research.reading.ac.uk/economics/event/dominik-schreyer/
LOCATION:Microsoft Teams
CATEGORIES:ROSES
ORGANIZER;CN="James%20Reade":MAILTO:j.j.reade@reading.ac.uk
END:VEVENT
BEGIN:VEVENT
DTSTART;TZID=Europe/London:20211203T143000
DTEND;TZID=Europe/London:20211203T160000
DTSTAMP:20260420T050319
CREATED:20211031T123455Z
LAST-MODIFIED:20211128T161926Z
UID:2440-1638541800-1638547200@research.reading.ac.uk
SUMMARY:Sarah Jewell (ROSES)
DESCRIPTION:Title: Can Awareness Reduce (or Even Reverse) Home Bias? Evidence from International Cricket (with Subhasish Chowdhury and Carl Singleton) \nAbout ROSES: \n\nAn online series of sport economics seminars\, organised by James Reade\, Carl Singleton and Adrian Bell\, part of the Football Economics Research Group at the University of Reading.\nAll Seminars take place 2:30-4pm\, UK time\, and will take place on Microsoft Teams.\n\nJoining Instructions: \n\nSeminar via Microsoft Teams. Contact James Reade at j.j.reade@reading.ac.uk\n\n 
URL:https://research.reading.ac.uk/economics/event/sarah-jewell-roses-2/
LOCATION:Microsoft Teams
CATEGORIES:ROSES
ORGANIZER;CN="James%20Reade":MAILTO:j.j.reade@reading.ac.uk
END:VEVENT
BEGIN:VEVENT
DTSTART;TZID=Europe/London:20211126T143000
DTEND;TZID=Europe/London:20211126T160000
DTSTAMP:20260420T050319
CREATED:20211031T123145Z
LAST-MODIFIED:20211031T123145Z
UID:2437-1637937000-1637942400@research.reading.ac.uk
SUMMARY:Pedro García del Barrio (ROSES)
DESCRIPTION:Title: Does Compliance with Financial Fair Play Rules Improve the Football Clubs’ Sport Performance and Their Chances to Reach UEFA Competitions? \nAbout ROSES: \n\nAn online series of sport economics seminars\, organised by James Reade\, Carl Singleton and Adrian Bell\, part of the Football Economics Research Group at the University of Reading.\nAll Seminars take place 2:30-4pm\, UK time\, and will take place on Microsoft Teams.\n\nJoining Instructions: \n\nSeminar via Microsoft Teams. Contact James Reade at j.j.reade@reading.ac.uk
URL:https://research.reading.ac.uk/economics/event/pedro-garcia-del-barrio-roses/
LOCATION:Microsoft Teams
CATEGORIES:ROSES
ORGANIZER;CN="James%20Reade":MAILTO:j.j.reade@reading.ac.uk
END:VEVENT
BEGIN:VEVENT
DTSTART;TZID=Europe/London:20211119T143000
DTEND;TZID=Europe/London:20211119T160000
DTSTAMP:20260420T050319
CREATED:20211031T122947Z
LAST-MODIFIED:20211031T122947Z
UID:2435-1637332200-1637337600@research.reading.ac.uk
SUMMARY:Kaori Narita (ROSES)
DESCRIPTION:Title: Managerial contributions to organisational success: evidence from English Premier League \nAbout ROSES: \n\nAn online series of sport economics seminars\, organised by James Reade\, Carl Singleton and Adrian Bell\, part of the Football Economics Research Group at the University of Reading.\nAll Seminars take place 2:30-4pm\, UK time\, and will take place on Microsoft Teams.\n\nJoining Instructions: \n\nSeminar via Microsoft Teams. Contact James Reade at j.j.reade@reading.ac.uk
URL:https://research.reading.ac.uk/economics/event/kaori-narita-roses/
LOCATION:Microsoft Teams
CATEGORIES:ROSES
ORGANIZER;CN="James%20Reade":MAILTO:j.j.reade@reading.ac.uk
END:VEVENT
BEGIN:VEVENT
DTSTART;TZID=Europe/London:20211112T143000
DTEND;TZID=Europe/London:20211112T160000
DTSTAMP:20260420T050319
CREATED:20211031T122739Z
LAST-MODIFIED:20211031T122739Z
UID:2433-1636727400-1636732800@research.reading.ac.uk
SUMMARY:Bernd Frick and Alex Krumer (ROSES)
DESCRIPTION:Title: TBC \nAbout ROSES: \n\nAn online series of sport economics seminars\, organised by James Reade\, Carl Singleton and Adrian Bell\, part of the Football Economics Research Group at the University of Reading.\nAll Seminars take place 2:30-4pm\, UK time\, and will take place on Microsoft Teams.\n\nJoining Instructions: \n\nSeminar via Microsoft Teams. Contact James Reade at j.j.reade@reading.ac.uk
URL:https://research.reading.ac.uk/economics/event/bernd-frick-and-alex-krumer-roses/
LOCATION:Microsoft Teams
CATEGORIES:ROSES
ORGANIZER;CN="James%20Reade":MAILTO:j.j.reade@reading.ac.uk
END:VEVENT
BEGIN:VEVENT
DTSTART;TZID=Europe/London:20211105T143000
DTEND;TZID=Europe/London:20211105T160000
DTSTAMP:20260420T050319
CREATED:20211031T122300Z
LAST-MODIFIED:20211031T122300Z
UID:2431-1636122600-1636128000@research.reading.ac.uk
SUMMARY:Lukas Fischer (ROSES)
DESCRIPTION:Title: Modelling Behavioural Responses to Emotional Cues in Sports – A Bayesian Approach \nAbout ROSES: \n\nAn online series of sport economics seminars\, organised by James Reade\, Carl Singleton and Adrian Bell\, part of the Football Economics Research Group at the University of Reading.\nAll Seminars take place 2:30-4pm\, UK time\, and will take place on Microsoft Teams.\n\nJoining Instructions: \n\nSeminar via Microsoft Teams. Contact James Reade at j.j.reade@reading.ac.uk
URL:https://research.reading.ac.uk/economics/event/lukas-fischer-roses/
LOCATION:Microsoft Teams
CATEGORIES:ROSES
ORGANIZER;CN="James%20Reade":MAILTO:j.j.reade@reading.ac.uk
END:VEVENT
BEGIN:VEVENT
DTSTART;TZID=Europe/London:20211029T143000
DTEND;TZID=Europe/London:20211029T160000
DTSTAMP:20260420T050319
CREATED:20211031T121736Z
LAST-MODIFIED:20211031T121826Z
UID:2428-1635517800-1635523200@research.reading.ac.uk
SUMMARY:Arne Fedderson (ROSES)
DESCRIPTION:Title: Is Being Slightly Behind at Halftime Good? Loss Aversion and Diminishing Sensitivity in Professional Team Sports \nAbout ROSES: \n\nAn online series of sport economics seminars\, organised by James Reade\, Carl Singleton and Adrian Bell\, part of the Football Economics Research Group at the University of Reading.\nAll Seminars take place 2:30-4pm\, UK time\, and will take place on Microsoft Teams.\n\nJoining Instructions: \n\nSeminar via Microsoft Teams. Contact James Reade at j.j.reade@reading.ac.uk
URL:https://research.reading.ac.uk/economics/event/arne-fedderson-roses/
CATEGORIES:ROSES
END:VEVENT
BEGIN:VEVENT
DTSTART;TZID=Europe/London:20211022T143000
DTEND;TZID=Europe/London:20211022T160000
DTSTAMP:20260420T050319
CREATED:20211031T121348Z
LAST-MODIFIED:20211031T121348Z
UID:2426-1634913000-1634918400@research.reading.ac.uk
SUMMARY:Kerry Papps (ROSES)
DESCRIPTION:Title: Running up that hill: Fitness in the face of recession \nAbout ROSES: \n\nAn online series of sport economics seminars\, organised by James Reade\, Carl Singleton and Adrian Bell\, part of the Football Economics Research Group at the University of Reading.\nAll Seminars take place 2:30-4pm\, UK time\, and will take place on Microsoft Teams.\n\nJoining Instructions: \n\nSeminar via Microsoft Teams. Contact James Reade at j.j.reade@reading.ac.uk
URL:https://research.reading.ac.uk/economics/event/kerry-papps-roses/
LOCATION:Microsoft Teams
CATEGORIES:ROSES
ORGANIZER;CN="James%20Reade":MAILTO:j.j.reade@reading.ac.uk
END:VEVENT
BEGIN:VEVENT
DTSTART;TZID=Europe/London:20211015T143000
DTEND;TZID=Europe/London:20211015T160000
DTSTAMP:20260420T050319
CREATED:20211031T121153Z
LAST-MODIFIED:20211031T121153Z
UID:2424-1634308200-1634313600@research.reading.ac.uk
SUMMARY:Francesco Principe (ROSES)
DESCRIPTION:Title: Racial Bias in Newspaper Ratings of Professional Football Players \nAbout ROSES: \n\nAn online series of sport economics seminars\, organised by James Reade\, Carl Singleton and Adrian Bell\, part of the Football Economics Research Group at the University of Reading.\nAll Seminars take place 2:30-4pm\, UK time\, and will take place on Microsoft Teams.\n\nJoining Instructions: \n\nSeminar via Microsoft Teams. Contact James Reade at j.j.reade@reading.ac.uk
URL:https://research.reading.ac.uk/economics/event/francesco-principe-roses/
LOCATION:Microsoft Teams
CATEGORIES:ROSES
ORGANIZER;CN="James%20Reade":MAILTO:j.j.reade@reading.ac.uk
END:VEVENT
BEGIN:VEVENT
DTSTART;TZID=Europe/London:20211008T143000
DTEND;TZID=Europe/London:20211008T160000
DTSTAMP:20260420T050319
CREATED:20211031T120512Z
LAST-MODIFIED:20211031T120512Z
UID:2421-1633703400-1633708800@research.reading.ac.uk
SUMMARY:Alex Krumer (ROSES)
DESCRIPTION:Title: Fewer teams\, more games: Evidence from the structural change in basketball’s Euroleague \nAbout ROSES: \n\nAn online series of sport economics seminars\, organised by James Reade\, Carl Singleton and Adrian Bell\, part of the Football Economics Research Group at the University of Reading.\nAll Seminars take place 2:30-4pm\, UK time\, and will take place on Microsoft Teams.\n\nJoining Instructions: \n\nSeminar via Microsoft Teams. Contact James Reade at j.j.reade@reading.ac.uk
URL:https://research.reading.ac.uk/economics/event/alex-krumer-roses-2/
LOCATION:Microsoft Teams
CATEGORIES:ROSES
ORGANIZER;CN="James%20Reade":MAILTO:j.j.reade@reading.ac.uk
END:VEVENT
BEGIN:VEVENT
DTSTART;TZID=Europe/London:20211001T143000
DTEND;TZID=Europe/London:20211001T160000
DTSTAMP:20260420T050319
CREATED:20211031T120214Z
LAST-MODIFIED:20211031T120734Z
UID:2419-1633098600-1633104000@research.reading.ac.uk
SUMMARY:Emily Marshall (ROSES)
DESCRIPTION:Title: Identifying the Impact of Attendance on Home Court Advantage \nAbout ROSES: \n\nAn online series of sport economics seminars\, organised by James Reade\, Carl Singleton and Adrian Bell\, part of the Football Economics Research Group at the University of Reading.\nAll Seminars take place 2:30-4pm\, UK time\, and will take place on Microsoft Teams.\n\nJoining Instructions: \n\nSeminar via Microsoft Teams. Contact James Reade at j.j.reade@reading.ac.uk
URL:https://research.reading.ac.uk/economics/event/emily-marshall-roses/
LOCATION:Microsoft Teams
CATEGORIES:ROSES
ORGANIZER;CN="James%20Reade":MAILTO:j.j.reade@reading.ac.uk
END:VEVENT
BEGIN:VEVENT
DTSTART;TZID=Europe/London:20210924T143000
DTEND;TZID=Europe/London:20210924T160000
DTSTAMP:20260420T050319
CREATED:20211031T113700Z
LAST-MODIFIED:20211031T115653Z
UID:2408-1632493800-1632499200@research.reading.ac.uk
SUMMARY:Nial Friel (ROSES)
DESCRIPTION:Title: Assessing competitive balance in the English Premier League for over forty seasons using a stochastic block model \nAbout ROSES: \n\nAn online series of sport economics seminars\, organised by James Reade\, Carl Singleton and Adrian Bell\, part of the Football Economics Research Group at the University of Reading.\nAll Seminars take place 2:30-4pm\, UK time\, and will take place on Microsoft Teams.\n\nJoining Instructions: \n\nSeminar via Microsoft Teams. Contact James Reade at j.j.reade@reading.ac.uk
URL:https://research.reading.ac.uk/economics/event/nial-friel/
LOCATION:Microsoft Teams
CATEGORIES:ROSES
ORGANIZER;CN="James%20Reade":MAILTO:j.j.reade@reading.ac.uk
END:VEVENT
BEGIN:VEVENT
DTSTART;TZID=Europe/London:20210910T143000
DTEND;TZID=Europe/London:20210910T160000
DTSTAMP:20260420T050319
CREATED:20211031T113421Z
LAST-MODIFIED:20211031T120809Z
UID:2406-1631284200-1631289600@research.reading.ac.uk
SUMMARY:Bernd Frick (ROSES)
DESCRIPTION:Title: The Impact of Team Size on Performance in the Absence of Shirking: Clean Evidence from Elite Rowing Contests \nAbout ROSES: \n\nAn online series of sport economics seminars\, organised by James Reade\, Carl Singleton and Adrian Bell\, part of the Football Economics Research Group at the University of Reading.\nAll Seminars take place 2:30-4pm\, UK time\, and will take place on Microsoft Teams.\n\nJoining Instructions: \n\nSeminar via Microsoft Teams. Contact James Reade at j.j.reade@reading.ac.uk
URL:https://research.reading.ac.uk/economics/event/bernd-frick/
LOCATION:Microsoft Teams
CATEGORIES:ROSES
ORGANIZER;CN="James%20Reade":MAILTO:j.j.reade@reading.ac.uk
END:VEVENT
BEGIN:VEVENT
DTSTART;TZID=Europe/London:20210903T143000
DTEND;TZID=Europe/London:20210903T160000
DTSTAMP:20260420T050319
CREATED:20211031T113129Z
LAST-MODIFIED:20211031T115552Z
UID:2404-1630679400-1630684800@research.reading.ac.uk
SUMMARY:Benedikt Schmal (ROSES)
DESCRIPTION:Title: The Long Shadow of an Infection: COVID-19 and Labour Productivity \nAbout ROSES: \n\nAn online series of sport economics seminars\, organised by James Reade\, Carl Singleton and Adrian Bell\, part of the Football Economics Research Group at the University of Reading.\nAll Seminars take place 2:30-4pm\, UK time\, and will take place on Microsoft Teams.\n\nJoining Instructions: \n\nSeminar via Microsoft Teams. Contact James Reade at j.j.reade@reading.ac.uk
URL:https://research.reading.ac.uk/economics/event/benedikt-schmal/
LOCATION:Microsoft Teams
CATEGORIES:ROSES
ORGANIZER;CN="James%20Reade":MAILTO:j.j.reade@reading.ac.uk
END:VEVENT
BEGIN:VEVENT
DTSTART;TZID=Europe/London:20210813T143000
DTEND;TZID=Europe/London:20210813T160000
DTSTAMP:20260420T050319
CREATED:20210331T093259Z
LAST-MODIFIED:20210331T093259Z
UID:2292-1628865000-1628870400@research.reading.ac.uk
SUMMARY:Robbie Butler (ROSES)
DESCRIPTION:Title: \nTBC \nAbout ROSES: \n\nAn online series of sport economics seminars\, organised by James Reade\, Carl Singleton and Adrian Bell\, part of the Football Economics Research Group at the University of Reading.\nAll Seminars take place 2:30-4pm\, UK time\, and will take place on Microsoft Teams.\n\nJoining Instructions: \n\nSeminar via Microsoft Teams. Contact James Reade at j.j.reade@reading.ac.uk
URL:https://research.reading.ac.uk/economics/event/robbie-butler-roses/
CATEGORIES:ROSES
END:VEVENT
BEGIN:VEVENT
DTSTART;TZID=Europe/London:20210806T143000
DTEND;TZID=Europe/London:20210806T160000
DTSTAMP:20260420T050319
CREATED:20210331T093117Z
LAST-MODIFIED:20210331T093339Z
UID:2290-1628260200-1628265600@research.reading.ac.uk
SUMMARY:Kai Fischer (ROSES)
DESCRIPTION:Title: \nThinning out Spectators: Did Football Matches Contribute to the Second COVID-19 Wave in Germany? \nAbout ROSES: \n\nAn online series of sport economics seminars\, organised by James Reade\, Carl Singleton and Adrian Bell\, part of the Football Economics Research Group at the University of Reading.\nAll Seminars take place 2:30-4pm\, UK time\, and will take place on Microsoft Teams.\n\nJoining Instructions: \n\nSeminar via Microsoft Teams. Contact James Reade at j.j.reade@reading.ac.uk
URL:https://research.reading.ac.uk/economics/event/kai-fischer-roses/
CATEGORIES:ROSES
END:VEVENT
BEGIN:VEVENT
DTSTART;TZID=Europe/London:20210723T143000
DTEND;TZID=Europe/London:20210723T160000
DTSTAMP:20260420T050319
CREATED:20210331T093011Z
LAST-MODIFIED:20210331T093011Z
UID:2287-1627050600-1627056000@research.reading.ac.uk
SUMMARY:Patrick Ferguson (ROSES)
DESCRIPTION:Title: \nConsuming Contests: Outcome Uncertainty and Spectator Demand for Contest-based Entertainment \nAbout ROSES: \n\nAn online series of sport economics seminars\, organised by James Reade\, Carl Singleton and Adrian Bell\, part of the Football Economics Research Group at the University of Reading.\nAll Seminars take place 2:30-4pm\, UK time\, and will take place on Microsoft Teams.\n\nJoining Instructions: \n\nSeminar via Microsoft Teams. Contact James Reade at j.j.reade@reading.ac.uk
URL:https://research.reading.ac.uk/economics/event/patrick-ferguson-roses/
CATEGORIES:ROSES
END:VEVENT
BEGIN:VEVENT
DTSTART;TZID=Europe/London:20210716T143000
DTEND;TZID=Europe/London:20210716T160000
DTSTAMP:20260420T050319
CREATED:20210331T092837Z
LAST-MODIFIED:20210331T092837Z
UID:2285-1626445800-1626451200@research.reading.ac.uk
SUMMARY:Adam Cox (ROSES)
DESCRIPTION:Title: \nTBC \nAbout ROSES: \n\nAn online series of sport economics seminars\, organised by James Reade\, Carl Singleton and Adrian Bell\, part of the Football Economics Research Group at the University of Reading.\nAll Seminars take place 2:30-4pm\, UK time\, and will take place on Microsoft Teams.\n\nJoining Instructions: \n\nSeminar via Microsoft Teams. Contact James Reade at j.j.reade@reading.ac.uk
URL:https://research.reading.ac.uk/economics/event/adam-cox-roses/
CATEGORIES:ROSES
END:VEVENT
BEGIN:VEVENT
DTSTART;TZID=Europe/London:20210709T143000
DTEND;TZID=Europe/London:20210709T160000
DTSTAMP:20260420T050319
CREATED:20210331T092747Z
LAST-MODIFIED:20210331T092747Z
UID:2283-1625841000-1625846400@research.reading.ac.uk
SUMMARY:Florian Follert (ROSES)
DESCRIPTION:Title: \nThe Rainmaker?! The impact of investors on transfer fees in the English Premier League \nAbout ROSES: \n\nAn online series of sport economics seminars\, organised by James Reade\, Carl Singleton and Adrian Bell\, part of the Football Economics Research Group at the University of Reading.\nAll Seminars take place 2:30-4pm\, UK time\, and will take place on Microsoft Teams.\n\nJoining Instructions: \n\nSeminar via Microsoft Teams. Contact James Reade at j.j.reade@reading.ac.uk
URL:https://research.reading.ac.uk/economics/event/florian-follert-roses/
CATEGORIES:ROSES
END:VEVENT
BEGIN:VEVENT
DTSTART;TZID=Europe/London:20210702T143000
DTEND;TZID=Europe/London:20210702T160000
DTSTAMP:20260420T050319
CREATED:20210331T092644Z
LAST-MODIFIED:20210331T092644Z
UID:2281-1625236200-1625241600@research.reading.ac.uk
SUMMARY:Bernd Frick (ROSES)
DESCRIPTION:Title: \nTBC \nAbout ROSES: \n\nAn online series of sport economics seminars\, organised by James Reade\, Carl Singleton and Adrian Bell\, part of the Football Economics Research Group at the University of Reading.\nAll Seminars take place 2:30-4pm\, UK time\, and will take place on Microsoft Teams.\n\nJoining Instructions: \n\nSeminar via Microsoft Teams. Contact James Reade at j.j.reade@reading.ac.uk
URL:https://research.reading.ac.uk/economics/event/bernd-frick-roses-3/
CATEGORIES:ROSES
END:VEVENT
BEGIN:VEVENT
DTSTART;VALUE=DATE:20210624
DTEND;VALUE=DATE:20210626
DTSTAMP:20260420T050319
CREATED:20210331T092549Z
LAST-MODIFIED:20210331T092549Z
UID:2279-1624492800-1624665599@research.reading.ac.uk
SUMMARY:Mathsport International (ROSES)
DESCRIPTION:About ROSES: \n\nAn online series of sport economics seminars\, organised by James Reade\, Carl Singleton and Adrian Bell\, part of the Football Economics Research Group at the University of Reading.\nAll Seminars take place 2:30-4pm\, UK time\, and will take place on Microsoft Teams.\n\nJoining Instructions: \n\nSeminar via Microsoft Teams. Contact James Reade at j.j.reade@reading.ac.uk
URL:https://research.reading.ac.uk/economics/event/mathsport-international-roses/
CATEGORIES:ROSES
END:VEVENT
BEGIN:VEVENT
DTSTART;TZID=Europe/London:20210618T143000
DTEND;TZID=Europe/London:20210618T160000
DTSTAMP:20260420T050319
CREATED:20210331T092439Z
LAST-MODIFIED:20210331T092439Z
UID:2277-1624026600-1624032000@research.reading.ac.uk
SUMMARY:Peter Dawson (ROSES)
DESCRIPTION:Title: \nTBC \nAbout ROSES: \n\nAn online series of sport economics seminars\, organised by James Reade\, Carl Singleton and Adrian Bell\, part of the Football Economics Research Group at the University of Reading.\nAll Seminars take place 2:30-4pm\, UK time\, and will take place on Microsoft Teams.\n\nJoining Instructions: \n\nSeminar via Microsoft Teams. Contact James Reade at j.j.reade@reading.ac.uk
URL:https://research.reading.ac.uk/economics/event/peter-dawson-roses/
CATEGORIES:ROSES
END:VEVENT
BEGIN:VEVENT
DTSTART;TZID=Europe/London:20210611T143000
DTEND;TZID=Europe/London:20210611T160000
DTSTAMP:20260420T050319
CREATED:20210331T092333Z
LAST-MODIFIED:20210331T092333Z
UID:2275-1623421800-1623427200@research.reading.ac.uk
SUMMARY:Henrik Sonnabend (ROSES)
DESCRIPTION:Title: \nPresenteeism when employers are under pressure: evidence from professional soccer \nAbout ROSES: \n\nAn online series of sport economics seminars\, organised by James Reade\, Carl Singleton and Adrian Bell\, part of the Football Economics Research Group at the University of Reading.\nAll Seminars take place 2:30-4pm\, UK time\, and will take place on Microsoft Teams.\n\nJoining Instructions: \n\nSeminar via Microsoft Teams. Contact James Reade at j.j.reade@reading.ac.uk
URL:https://research.reading.ac.uk/economics/event/henrik-sonnabend-roses/
CATEGORIES:ROSES
END:VEVENT
BEGIN:VEVENT
DTSTART;TZID=Europe/London:20210604T143000
DTEND;TZID=Europe/London:20210604T160000
DTSTAMP:20260420T050319
CREATED:20210331T091559Z
LAST-MODIFIED:20210331T092232Z
UID:2273-1622817000-1622822400@research.reading.ac.uk
SUMMARY:Sarah Jewell (ROSES)
DESCRIPTION:Title: \nTBC \nAbout ROSES: \n\nAn online series of sport economics seminars\, organised by James Reade\, Carl Singleton and Adrian Bell\, part of the Football Economics Research Group at the University of Reading.\nAll Seminars take place 2:30-4pm\, UK time\, and will take place on Microsoft Teams.\n\nJoining Instructions: \n\nSeminar via Microsoft Teams. Contact James Reade at j.j.reade@reading.ac.uk
URL:https://research.reading.ac.uk/economics/event/sarah-jewell-roses/
CATEGORIES:ROSES
END:VEVENT
BEGIN:VEVENT
DTSTART;TZID=Europe/London:20210528T143000
DTEND;TZID=Europe/London:20210528T160000
DTSTAMP:20260420T050319
CREATED:20210331T091431Z
LAST-MODIFIED:20210331T091431Z
UID:2271-1622212200-1622217600@research.reading.ac.uk
SUMMARY:Dave Berri (ROSES)
DESCRIPTION:Title: \nTBC \nAbout ROSES: \n\nAn online series of sport economics seminars\, organised by James Reade\, Carl Singleton and Adrian Bell\, part of the Football Economics Research Group at the University of Reading.\nAll Seminars take place 2:30-4pm\, UK time\, and will take place on Microsoft Teams.\n\nJoining Instructions: \n\nSeminar via Microsoft Teams. Contact James Reade at j.j.reade@reading.ac.uk
URL:https://research.reading.ac.uk/economics/event/dave-berri-roses/
CATEGORIES:ROSES
END:VEVENT
BEGIN:VEVENT
DTSTART;TZID=Europe/London:20210521T143000
DTEND;TZID=Europe/London:20210521T160000
DTSTAMP:20260420T050319
CREATED:20210331T090915Z
LAST-MODIFIED:20210331T090915Z
UID:2268-1621607400-1621612800@research.reading.ac.uk
SUMMARY:David Boto-Garcia (ROSES)
DESCRIPTION:Title: \nManagerial Beliefs and Firm Performance: Field Evidence from Professional Elite Soccer \nAbout ROSES: \n\nAn online series of sport economics seminars\, organised by James Reade\, Carl Singleton and Adrian Bell\, part of the Football Economics Research Group at the University of Reading.\nAll Seminars take place 2:30-4pm\, UK time\, and will take place on Microsoft Teams.\n\nJoining Instructions: \n\nSeminar via Microsoft Teams. Contact James Reade at j.j.reade@reading.ac.uk
URL:https://research.reading.ac.uk/economics/event/david-boto-garcia-roses/
CATEGORIES:ROSES
END:VEVENT
BEGIN:VEVENT
DTSTART;TZID=Europe/London:20210514T143000
DTEND;TZID=Europe/London:20210514T160000
DTSTAMP:20260420T050319
CREATED:20210331T090809Z
LAST-MODIFIED:20210331T090932Z
UID:2266-1621002600-1621008000@research.reading.ac.uk
SUMMARY:Ian Gregory-Smith (ROSES)
DESCRIPTION:Title: \nDiscrimination in employment retention. Lost career earnings in the NFL \nAbout ROSES: \n\nAn online series of sport economics seminars\, organised by James Reade\, Carl Singleton and Adrian Bell\, part of the Football Economics Research Group at the University of Reading.\nAll Seminars take place 2:30-4pm\, UK time\, and will take place on Microsoft Teams.\n\nJoining Instructions: \n\nSeminar via Microsoft Teams. Contact James Reade at j.j.reade@reading.ac.uk
URL:https://research.reading.ac.uk/economics/event/ian-gregory-smith/
CATEGORIES:ROSES
END:VEVENT
BEGIN:VEVENT
DTSTART;TZID=Europe/London:20210507T143000
DTEND;TZID=Europe/London:20210507T160000
DTSTAMP:20260420T050319
CREATED:20210331T090720Z
LAST-MODIFIED:20210331T090720Z
UID:2264-1620397800-1620403200@research.reading.ac.uk
SUMMARY:Anna Lovasz (ROSES)
DESCRIPTION:Title: \nCompetition\, Subjective Feedback\, and Gender Gaps in Performance \nAbout ROSES: \n\nAn online series of sport economics seminars\, organised by James Reade\, Carl Singleton and Adrian Bell\, part of the Football Economics Research Group at the University of Reading.\nAll Seminars take place 2:30-4pm\, UK time\, and will take place on Microsoft Teams.\n\nJoining Instructions: \n\nSeminar via Microsoft Teams. Contact James Reade at j.j.reade@reading.ac.uk
URL:https://research.reading.ac.uk/economics/event/anna-lovasz-roses/
CATEGORIES:ROSES
END:VEVENT
END:VCALENDAR