BEGIN:VCALENDAR
VERSION:2.0
PRODID:-//Economics Research - ECPv6.0.5//NONSGML v1.0//EN
CALSCALE:GREGORIAN
METHOD:PUBLISH
X-WR-CALNAME:Economics Research
X-ORIGINAL-URL:https://research.reading.ac.uk/economics
X-WR-CALDESC:Events for Economics Research
REFRESH-INTERVAL;VALUE=DURATION:PT1H
X-Robots-Tag:noindex
X-PUBLISHED-TTL:PT1H
BEGIN:VTIMEZONE
TZID:Europe/London
BEGIN:DAYLIGHT
TZOFFSETFROM:+0000
TZOFFSETTO:+0100
TZNAME:BST
DTSTART:20200329T010000
END:DAYLIGHT
BEGIN:STANDARD
TZOFFSETFROM:+0100
TZOFFSETTO:+0000
TZNAME:GMT
DTSTART:20201025T010000
END:STANDARD
BEGIN:DAYLIGHT
TZOFFSETFROM:+0000
TZOFFSETTO:+0100
TZNAME:BST
DTSTART:20210328T010000
END:DAYLIGHT
BEGIN:STANDARD
TZOFFSETFROM:+0100
TZOFFSETTO:+0000
TZNAME:GMT
DTSTART:20211031T010000
END:STANDARD
END:VTIMEZONE
BEGIN:VEVENT
DTSTART;TZID=Europe/London:20210305T143000
DTEND;TZID=Europe/London:20210305T160000
DTSTAMP:20260421T042216
CREATED:20210109T221500Z
LAST-MODIFIED:20210109T221500Z
UID:2136-1614954600-1614960000@research.reading.ac.uk
SUMMARY:Rob Simmons (ROSES)
DESCRIPTION:Title: \nTBC \nAbout ROSES: \n\nAn online series of sport economics seminars\, organised by James Reade\, Carl Singleton and Adrian Bell\, part of the Football Economics Research Group at the University of Reading.\nAll Seminars take place 2:30-4pm\, UK time\, and will take place on Microsoft Teams.\n\nJoining Instructions: \n\nSeminar via Microsoft Teams. Contact James Reade at j.j.reade@reading.ac.uk
URL:https://research.reading.ac.uk/economics/event/rob-simmons-roses/
CATEGORIES:ROSES
END:VEVENT
BEGIN:VEVENT
DTSTART;TZID=Europe/London:20210226T143000
DTEND;TZID=Europe/London:20210226T160000
DTSTAMP:20260421T042216
CREATED:20210109T221427Z
LAST-MODIFIED:20210109T221427Z
UID:2135-1614349800-1614355200@research.reading.ac.uk
SUMMARY:Peter Dolton (ROSES)
DESCRIPTION:Title: \nIs Football a Matter of Life and Death – Or is it more Important than that? \nAbout ROSES: \n\nAn online series of sport economics seminars\, organised by James Reade\, Carl Singleton and Adrian Bell\, part of the Football Economics Research Group at the University of Reading.\nAll Seminars take place 2:30-4pm\, UK time\, and will take place on Microsoft Teams.\n\nJoining Instructions: \n\nSeminar via Microsoft Teams. Contact James Reade at j.j.reade@reading.ac.uk
URL:https://research.reading.ac.uk/economics/event/peter-dolton-roses/
CATEGORIES:ROSES
END:VEVENT
BEGIN:VEVENT
DTSTART;TZID=Europe/London:20210219T143000
DTEND;TZID=Europe/London:20210219T160000
DTSTAMP:20260421T042216
CREATED:20210109T221410Z
LAST-MODIFIED:20210109T221410Z
UID:2134-1613745000-1613750400@research.reading.ac.uk
SUMMARY:S-TRAINING-ROSES @ 3pm (ROSES)
DESCRIPTION:Title: \nTBC \nAbout ROSES: \n\nAn online series of sport economics seminars\, organised by James Reade\, Carl Singleton and Adrian Bell\, part of the Football Economics Research Group at the University of Reading.\nAll Seminars take place 2:30-4pm\, UK time\, and will take place on Microsoft Teams.\n\nJoining Instructions: \n\nSeminar via Microsoft Teams. Contact James Reade at j.j.reade@reading.ac.uk
URL:https://research.reading.ac.uk/economics/event/s-training-roses-3pm-roses/
CATEGORIES:ROSES
END:VEVENT
BEGIN:VEVENT
DTSTART;TZID=Europe/London:20210212T143000
DTEND;TZID=Europe/London:20210212T160000
DTSTAMP:20260421T042216
CREATED:20210109T221351Z
LAST-MODIFIED:20210109T221351Z
UID:2133-1613140200-1613145600@research.reading.ac.uk
SUMMARY:Ryan Pinheiro (ROSES)
DESCRIPTION:Title: \nAll Runs Are Created Equal: Labor Market Efficiency in Major League Baseball \nAbout ROSES: \n\nAn online series of sport economics seminars\, organised by James Reade\, Carl Singleton and Adrian Bell\, part of the Football Economics Research Group at the University of Reading.\nAll Seminars take place 2:30-4pm\, UK time\, and will take place on Microsoft Teams.\n\nJoining Instructions: \n\nSeminar via Microsoft Teams. Contact James Reade at j.j.reade@reading.ac.uk
URL:https://research.reading.ac.uk/economics/event/ryan-pinheiro-roses/
CATEGORIES:ROSES
END:VEVENT
BEGIN:VEVENT
DTSTART;TZID=Europe/London:20210205T143000
DTEND;TZID=Europe/London:20210205T160000
DTSTAMP:20260421T042216
CREATED:20210109T220955Z
LAST-MODIFIED:20210109T220955Z
UID:2125-1612535400-1612540800@research.reading.ac.uk
SUMMARY:Nathan Ashby (ROSES)
DESCRIPTION:Title: \nBig Swimmer in a Small Pond or Small Swimmer in a Big Pond? Evidence of Peer Effects from High School Competition Realignments \nAbout ROSES: \n\nAn online series of sport economics seminars\, organised by James Reade\, Carl Singleton and Adrian Bell\, part of the Football Economics Research Group at the University of Reading.\nAll Seminars take place 2:30-4pm\, UK time\, and will take place on Microsoft Teams.\n\nJoining Instructions: \n\nSeminar via Microsoft Teams. Contact James Reade at j.j.reade@reading.ac.uk
URL:https://research.reading.ac.uk/economics/event/nathan-ashby-roses/
CATEGORIES:ROSES
END:VEVENT
BEGIN:VEVENT
DTSTART;TZID=Europe/London:20210129T143000
DTEND;TZID=Europe/London:20210129T160000
DTSTAMP:20260421T042216
CREATED:20210109T220934Z
LAST-MODIFIED:20210109T220934Z
UID:2124-1611930600-1611936000@research.reading.ac.uk
SUMMARY:Marius Otting (ROSES)
DESCRIPTION:Title: \nExploratory analysis of in-game betting dynamics \nAbout ROSES: \n\nAn online series of sport economics seminars\, organised by James Reade\, Carl Singleton and Adrian Bell\, part of the Football Economics Research Group at the University of Reading.\nAll Seminars take place 2:30-4pm\, UK time\, and will take place on Microsoft Teams.\n\nJoining Instructions: \n\nSeminar via Microsoft Teams. Contact James Reade at j.j.reade@reading.ac.uk
URL:https://research.reading.ac.uk/economics/event/marius-otting-roses/
CATEGORIES:ROSES
END:VEVENT
BEGIN:VEVENT
DTSTART;TZID=Europe/London:20210122T143000
DTEND;TZID=Europe/London:20210122T160000
DTSTAMP:20260421T042216
CREATED:20210109T220917Z
LAST-MODIFIED:20210109T220917Z
UID:2123-1611325800-1611331200@research.reading.ac.uk
SUMMARY:S-TRAINING-ROSES @ 3PM Laurent Malisoux (ROSES)
DESCRIPTION:Title: \nShoe cushioning\, body mass and running biomechanics as risk factors for running injury: A randomised trial with 800+ recreational runners \nAbout ROSES: \n\nAn online series of sport economics seminars\, organised by James Reade\, Carl Singleton and Adrian Bell\, part of the Football Economics Research Group at the University of Reading.\nAll Seminars take place 2:30-4pm\, UK time\, and will take place on Microsoft Teams.\n\nJoining Instructions: \n\nSeminar via Microsoft Teams. Contact James Reade at j.j.reade@reading.ac.uk
URL:https://research.reading.ac.uk/economics/event/s-training-roses-3pm-laurent-malisoux-roses/
CATEGORIES:ROSES
END:VEVENT
BEGIN:VEVENT
DTSTART;TZID=Europe/London:20210115T143000
DTEND;TZID=Europe/London:20210115T160000
DTSTAMP:20260421T042216
CREATED:20210109T220851Z
LAST-MODIFIED:20210109T220851Z
UID:2122-1610721000-1610726400@research.reading.ac.uk
SUMMARY:Mario Lackner (ROSES)
DESCRIPTION:Title: \nDo male managers increase risk-taking of female teams? Evidence from the NCAA \nAbout ROSES: \n\nAn online series of sport economics seminars\, organised by James Reade\, Carl Singleton and Adrian Bell\, part of the Football Economics Research Group at the University of Reading.\nAll Seminars take place 2:30-4pm\, UK time\, and will take place on Microsoft Teams.\n\nJoining Instructions: \n\nSeminar via Microsoft Teams. Contact James Reade at j.j.reade@reading.ac.uk
URL:https://research.reading.ac.uk/economics/event/mario-lackner-roses-2/
CATEGORIES:ROSES
END:VEVENT
BEGIN:VEVENT
DTSTART;TZID=Europe/London:20210108T143000
DTEND;TZID=Europe/London:20210108T160000
DTSTAMP:20260421T042216
CREATED:20210109T220823Z
LAST-MODIFIED:20210109T220823Z
UID:2126-1610116200-1610121600@research.reading.ac.uk
SUMMARY:Georg Stadtmann (ROSES)
DESCRIPTION:Title: \nFortnite: The Business Model Pattern Behind the Scene \nAbout ROSES: \n\nAn online series of sport economics seminars\, organised by James Reade\, Carl Singleton and Adrian Bell\, part of the Football Economics Research Group at the University of Reading.\nAll Seminars take place 2:30-4pm\, UK time\, and will take place on Microsoft Teams.\n\nJoining Instructions: \n\nSeminar via Microsoft Teams. Contact James Reade at j.j.reade@reading.ac.uk
URL:https://research.reading.ac.uk/economics/event/georg-stadtmann-roses/
CATEGORIES:ROSES
END:VEVENT
BEGIN:VEVENT
DTSTART;TZID=Europe/London:20201218T143000
DTEND;TZID=Europe/London:20201218T160000
DTSTAMP:20260421T042216
CREATED:20200921T092100Z
LAST-MODIFIED:20200921T092100Z
UID:1959-1608301800-1608307200@research.reading.ac.uk
SUMMARY:Georgios Nalbantis (ROSES)
DESCRIPTION:Title: \nSubstitution effects between international soccer telecasts \nAbout ROSES: \n\nAn online series of sport economics seminars\, organised by James Reade\, Carl Singleton and Adrian Bell\, part of the Football Economics Research Group at the University of Reading.\nAll Seminars take place 2:30-4pm\, UK time\, and will take place on Microsoft Teams.\n\nJoining Instructions: \n\nSeminar via Microsoft Teams. Contact James Reade at j.j.reade@reading.ac.uk
URL:https://research.reading.ac.uk/economics/event/georgios-nalbantis-roses/
CATEGORIES:ROSES
END:VEVENT
BEGIN:VEVENT
DTSTART;TZID=Europe/London:20201211T143000
DTEND;TZID=Europe/London:20201211T160000
DTSTAMP:20260421T042216
CREATED:20200921T092013Z
LAST-MODIFIED:20200921T092013Z
UID:1957-1607697000-1607702400@research.reading.ac.uk
SUMMARY:Roger Titford (ROSES)
DESCRIPTION:Title: \nEngland’s first football boom 1872-1914 and its 21st century parallels \nAbout ROSES: \n\nAn online series of sport economics seminars\, organised by James Reade\, Carl Singleton and Adrian Bell\, part of the Football Economics Research Group at the University of Reading.\nAll Seminars take place 2:30-4pm\, UK time\, and will take place on Microsoft Teams.\n\nJoining Instructions: \n\nSeminar via Microsoft Teams. Contact James Reade at j.j.reade@reading.ac.uk
URL:https://research.reading.ac.uk/economics/event/roger-titford-roses/
CATEGORIES:ROSES
END:VEVENT
BEGIN:VEVENT
DTSTART;TZID=Europe/London:20201204T143000
DTEND;TZID=Europe/London:20201204T160000
DTSTAMP:20260421T042216
CREATED:20200921T091925Z
LAST-MODIFIED:20200921T091925Z
UID:1955-1607092200-1607097600@research.reading.ac.uk
SUMMARY:Sofia Paklina (ROSES)
DESCRIPTION:Title: \nReferee Bias and International Relations \nAbout ROSES: \n\nAn online series of sport economics seminars\, organised by James Reade\, Carl Singleton and Adrian Bell\, part of the Football Economics Research Group at the University of Reading.\nAll Seminars take place 2:30-4pm\, UK time\, and will take place on Microsoft Teams.\n\nJoining Instructions: \n\nSeminar via Microsoft Teams. Contact James Reade at j.j.reade@reading.ac.uk
URL:https://research.reading.ac.uk/economics/event/sofia-paklina-roses/
CATEGORIES:ROSES
END:VEVENT
BEGIN:VEVENT
DTSTART;TZID=Europe/London:20201127T143000
DTEND;TZID=Europe/London:20201127T160000
DTSTAMP:20260421T042216
CREATED:20200921T091830Z
LAST-MODIFIED:20200921T091830Z
UID:1953-1606487400-1606492800@research.reading.ac.uk
SUMMARY:Alex Farnell (ROSES)
DESCRIPTION:Title: \nSpecial Ones? The Effect of Head Coaches on Football Team Performance \nAbout ROSES: \n\nAn online series of sport economics seminars\, organised by James Reade\, Carl Singleton and Adrian Bell\, part of the Football Economics Research Group at the University of Reading.\nAll Seminars take place 2:30-4pm\, UK time\, and will take place on Microsoft Teams.\n\nJoining Instructions: \n\nSeminar via Microsoft Teams. Contact James Reade at j.j.reade@reading.ac.uk
URL:https://research.reading.ac.uk/economics/event/alex-farnell-roses-2/
CATEGORIES:ROSES
END:VEVENT
BEGIN:VEVENT
DTSTART;TZID=Europe/London:20201120T143000
DTEND;TZID=Europe/London:20201120T160000
DTSTAMP:20260421T042216
CREATED:20200921T091740Z
LAST-MODIFIED:20200921T091740Z
UID:1951-1605882600-1605888000@research.reading.ac.uk
SUMMARY:Petr Parshakov (ROSES)
DESCRIPTION:Title: \nJob Change and Productivity: The Effect of High Performance Expectations \nAbout ROSES: \n\nAn online series of sport economics seminars\, organised by James Reade\, Carl Singleton and Adrian Bell\, part of the Football Economics Research Group at the University of Reading.\nAll Seminars take place 2:30-4pm\, UK time\, and will take place on Microsoft Teams.\n\nJoining Instructions: \n\nSeminar via Microsoft Teams. Contact James Reade at j.j.reade@reading.ac.uk
URL:https://research.reading.ac.uk/economics/event/petr-parshakov-roses/
CATEGORIES:ROSES
END:VEVENT
BEGIN:VEVENT
DTSTART;TZID=Europe/London:20201113T143000
DTEND;TZID=Europe/London:20201113T160000
DTSTAMP:20260421T042216
CREATED:20200921T091653Z
LAST-MODIFIED:20200921T091653Z
UID:1949-1605277800-1605283200@research.reading.ac.uk
SUMMARY:John Whitehead (ROSES)
DESCRIPTION:Title: \nBeyond ghost games: The value of attendance with masking and social distancing in U.S. professional sports \nAbout ROSES: \n\nAn online series of sport economics seminars\, organised by James Reade\, Carl Singleton and Adrian Bell\, part of the Football Economics Research Group at the University of Reading.\nAll Seminars take place 2:30-4pm\, UK time\, and will take place on Microsoft Teams.\n\nJoining Instructions: \n\nSeminar via Microsoft Teams. Contact James Reade at j.j.reade@reading.ac.uk
URL:https://research.reading.ac.uk/economics/event/john-whitehead-roses/
CATEGORIES:ROSES
END:VEVENT
BEGIN:VEVENT
DTSTART;TZID=Europe/London:20201106T143000
DTEND;TZID=Europe/London:20201106T160000
DTSTAMP:20260421T042216
CREATED:20200921T091554Z
LAST-MODIFIED:20200921T091554Z
UID:1947-1604673000-1604678400@research.reading.ac.uk
SUMMARY:Juan D. Moreno-Ternero (ROSES)
DESCRIPTION:Title: \nBroadcasting La Liga \nAbout ROSES: \n\nAn online series of sport economics seminars\, organised by James Reade\, Carl Singleton and Adrian Bell\, part of the Football Economics Research Group at the University of Reading.\nAll Seminars take place 2:30-4pm\, UK time\, and will take place on Microsoft Teams.\n\nJoining Instructions: \n\nSeminar via Microsoft Teams. Contact James Reade at j.j.reade@reading.ac.uk
URL:https://research.reading.ac.uk/economics/event/juan-d-moreno-ternero-roses/
CATEGORIES:ROSES
END:VEVENT
BEGIN:VEVENT
DTSTART;TZID=Europe/London:20201030T143000
DTEND;TZID=Europe/London:20201030T160000
DTSTAMP:20260421T042216
CREATED:20200921T091507Z
LAST-MODIFIED:20200921T091507Z
UID:1945-1604068200-1604073600@research.reading.ac.uk
SUMMARY:Mobolaji Alabi (ROSES)
DESCRIPTION:Title: \nThe financial impact of Financial Fair Play regulation: Evidence\nfrom the English Premier League \nAbout ROSES: \n\nAn online series of sport economics seminars\, organised by James Reade\, Carl Singleton and Adrian Bell\, part of the Football Economics Research Group at the University of Reading.\nAll Seminars take place 2:30-4pm\, UK time\, and will take place on Microsoft Teams.\n\nJoining Instructions: \n\nSeminar via Microsoft Teams. Contact James Reade at j.j.reade@reading.ac.uk
URL:https://research.reading.ac.uk/economics/event/mobolaji-alabi-roses/
CATEGORIES:ROSES
END:VEVENT
BEGIN:VEVENT
DTSTART;TZID=Europe/London:20201023T143000
DTEND;TZID=Europe/London:20201023T160000
DTSTAMP:20260421T042216
CREATED:20200921T091404Z
LAST-MODIFIED:20200921T091404Z
UID:1943-1603463400-1603468800@research.reading.ac.uk
SUMMARY:Reio Tanji (ROSES)
DESCRIPTION:Title: \nReference Dependence and Monetary Incentives: Evidence from Major\nLeague Baseball \nAbout ROSES: \n\nAn online series of sport economics seminars\, organised by James Reade\, Carl Singleton and Adrian Bell\, part of the Football Economics Research Group at the University of Reading.\nAll Seminars take place 2:30-4pm\, UK time\, and will take place on Microsoft Teams.\n\nJoining Instructions: \n\nSeminar via Microsoft Teams. Contact James Reade at j.j.reade@reading.ac.uk
URL:https://research.reading.ac.uk/economics/event/reio-tanji-roses/
CATEGORIES:ROSES
END:VEVENT
BEGIN:VEVENT
DTSTART;TZID=Europe/London:20201016T143000
DTEND;TZID=Europe/London:20201016T160000
DTSTAMP:20260421T042216
CREATED:20200921T091311Z
LAST-MODIFIED:20200921T091311Z
UID:1941-1602858600-1602864000@research.reading.ac.uk
SUMMARY:Dimitris Karlis (ROSES)
DESCRIPTION:Title: \nUncertainty in competitive balance: a model based approach \nAbout ROSES: \n\nAn online series of sport economics seminars\, organised by James Reade\, Carl Singleton and Adrian Bell\, part of the Football Economics Research Group at the University of Reading.\nAll Seminars take place 2:30-4pm\, UK time\, and will take place on Microsoft Teams.\n\nJoining Instructions: \n\nSeminar via Microsoft Teams. Contact James Reade at j.j.reade@reading.ac.uk
URL:https://research.reading.ac.uk/economics/event/dimitris-karlis-roses/
CATEGORIES:ROSES
END:VEVENT
BEGIN:VEVENT
DTSTART;TZID=Europe/London:20201009T143000
DTEND;TZID=Europe/London:20201009T160000
DTSTAMP:20260421T042216
CREATED:20200921T091213Z
LAST-MODIFIED:20200921T091213Z
UID:1939-1602253800-1602259200@research.reading.ac.uk
SUMMARY:Daniel Weimar (ROSES)
DESCRIPTION:Title: \nA Bright Spot for a Small League: Social Media\nPerformance in a Football League without a COVID-19 Lockdown \nAbout ROSES: \n\nAn online series of sport economics seminars\, organised by James Reade\, Carl Singleton and Adrian Bell\, part of the Football Economics Research Group at the University of Reading.\nAll Seminars take place 2:30-4pm\, UK time\, and will take place on Microsoft Teams.\n\nJoining Instructions: \n\nSeminar via Microsoft Teams. Contact James Reade at j.j.reade@reading.ac.uk
URL:https://research.reading.ac.uk/economics/event/daniel-weimar-roses-2/
CATEGORIES:ROSES
END:VEVENT
BEGIN:VEVENT
DTSTART;TZID=Europe/London:20201002T143000
DTEND;TZID=Europe/London:20201002T160000
DTSTAMP:20260421T042216
CREATED:20200921T091059Z
LAST-MODIFIED:20200921T091107Z
UID:1937-1601649000-1601654400@research.reading.ac.uk
SUMMARY:Stefan Szymanski (ROSES)
DESCRIPTION:Title: \nOn the incidence of an ad valorem tax: the adoption of VAT in\nthe UK and cost pass through by English football clubs \nAbout ROSES: \n\nAn online series of sport economics seminars\, organised by James Reade\, Carl Singleton and Adrian Bell\, part of the Football Economics Research Group at the University of Reading.\nAll Seminars take place 2:30-4pm\, UK time\, and will take place on Microsoft Teams.\n\nJoining Instructions: \n\nSeminar via Microsoft Teams. Contact James Reade at j.j.reade@reading.ac.uk
URL:https://research.reading.ac.uk/economics/event/stefan-szymanski-roses-2/
CATEGORIES:ROSES
END:VEVENT
BEGIN:VEVENT
DTSTART;TZID=Europe/London:20200925T143000
DTEND;TZID=Europe/London:20200925T160000
DTSTAMP:20260421T042216
CREATED:20200921T090943Z
LAST-MODIFIED:20200921T090943Z
UID:1934-1601044200-1601049600@research.reading.ac.uk
SUMMARY:Justus Haucap (ROSES)
DESCRIPTION:Title: \nDoes crowd support drive the home advantage in professional soccer? Evidence from German ghost games during the COVID-19 pandemic \nAbout ROSES: \n\nAn online series of sport economics seminars\, organised by James Reade\, Carl Singleton and Adrian Bell\, part of the Football Economics Research Group at the University of Reading.\nAll Seminars take place 2:30-4pm\, UK time\, and will take place on Microsoft Teams.\n\nJoining Instructions: \n\nSeminar via Microsoft Teams. Contact James Reade at j.j.reade@reading.ac.uk
URL:https://research.reading.ac.uk/economics/event/justus-haucap-roses/
CATEGORIES:ROSES
END:VEVENT
BEGIN:VEVENT
DTSTART;TZID=Europe/London:20200918T143000
DTEND;TZID=Europe/London:20200918T160000
DTSTAMP:20260421T042216
CREATED:20200917T163508Z
LAST-MODIFIED:20200917T163508Z
UID:1911-1600439400-1600444800@research.reading.ac.uk
SUMMARY:Dane McCarrick (ROSES)
DESCRIPTION:Title: \nHome Advantage during the Covid-19 pandemic: analyses of European soccer leagues \nAbout ROSES: \n\nAn online series of sport economics seminars\, organised by James Reade\, Carl Singleton and Adrian Bell\, part of the Football Economics Research Group at the University of Reading.\nAll Seminars take place 2:30-4pm\, UK time\, and will take place on Microsoft Teams.\n\nJoining Instructions: \n\nSeminar via Microsoft Teams. Contact James Reade at j.j.reade@reading.ac.uk
URL:https://research.reading.ac.uk/economics/event/dane-mccarrick-roses/
CATEGORIES:ROSES
END:VEVENT
BEGIN:VEVENT
DTSTART;TZID=Europe/London:20200918T143000
DTEND;TZID=Europe/London:20200918T160000
DTSTAMP:20260421T042216
CREATED:20200713T025045Z
LAST-MODIFIED:20200713T025045Z
UID:1772-1600439400-1600444800@research.reading.ac.uk
SUMMARY:Bernd Frick (ROSES)
DESCRIPTION:Title: \nGender Differences in Sensation-Seeking Behavior: Empirical Evidence from Extreme Sports \nAbout ROSES: \n\nAn online series of sport economics seminars\, organised by James Reade\, Carl Singleton and Adrian Bell\, part of the Football Economics Research Group at the University of Reading.\nAll Seminars take place 2:30-4pm\, UK time\, and will take place on Microsoft Teams.\n\nJoining Instructions: \n\nSeminar via Microsoft Teams. Contact James Reade at j.j.reade@reading.ac.uk
URL:https://research.reading.ac.uk/economics/event/bernd-frick-roses-2/
CATEGORIES:ROSES
END:VEVENT
BEGIN:VEVENT
DTSTART;TZID=Europe/London:20200911T143000
DTEND;TZID=Europe/London:20200911T160000
DTSTAMP:20260421T042216
CREATED:20200713T025021Z
LAST-MODIFIED:20200713T025021Z
UID:1771-1599834600-1599840000@research.reading.ac.uk
SUMMARY:Jean Williams (ROSES)
DESCRIPTION:Title: \nIt’s Not Like Eating Broccoli\, it’s like having a Martini: how to market women’s sport as an aspirational spectacle \nAbout ROSES: \n\nAn online series of sport economics seminars\, organised by James Reade\, Carl Singleton and Adrian Bell\, part of the Football Economics Research Group at the University of Reading.\nAll Seminars take place 2:30-4pm\, UK time\, and will take place on Microsoft Teams.\n\nJoining Instructions: \n\nSeminar via Microsoft Teams. Contact James Reade at j.j.reade@reading.ac.uk
URL:https://research.reading.ac.uk/economics/event/jean-williams-roses/
CATEGORIES:ROSES
END:VEVENT
BEGIN:VEVENT
DTSTART;TZID=Europe/London:20200904T143000
DTEND;TZID=Europe/London:20200904T160000
DTSTAMP:20260421T042216
CREATED:20200713T024909Z
LAST-MODIFIED:20200713T024909Z
UID:1770-1599229800-1599235200@research.reading.ac.uk
SUMMARY:Michael Jetter (ROSES)
DESCRIPTION:Title: \nA local heroine and gender stereotypes \nAbout ROSES: \n\nAn online series of sport economics seminars\, organised by James Reade\, Carl Singleton and Adrian Bell\, part of the Football Economics Research Group at the University of Reading.\nAll Seminars take place 2:30-4pm\, UK time\, and will take place on Microsoft Teams.\n\nJoining Instructions: \n\nSeminar via Microsoft Teams. Contact James Reade at j.j.reade@reading.ac.uk
URL:https://research.reading.ac.uk/economics/event/michael-jetter-roses/
CATEGORIES:ROSES
END:VEVENT
BEGIN:VEVENT
DTSTART;TZID=Europe/London:20200828T153000
DTEND;TZID=Europe/London:20200828T163000
DTSTAMP:20260421T042216
CREATED:20200713T024100Z
LAST-MODIFIED:20200713T024100Z
UID:1763-1598628600-1598632200@research.reading.ac.uk
SUMMARY:Scott Kaplan (ROSES)
DESCRIPTION:Title: \nEntertainment Utility from Non-Instrumental Information: Evidence from Consumer Attention \nAbout ROSES: \n\nAn online series of sport economics seminars\, organised by James Reade\, Carl Singleton and Adrian Bell\, part of the Football Economics Research Group at the University of Reading.\nAll Seminars take place 2:30-4pm\, UK time\, and will take place on Microsoft Teams.\n\nJoining Instructions: \n\nSeminar via Microsoft Teams. Contact James Reade at j.j.reade@reading.ac.uk
URL:https://research.reading.ac.uk/economics/event/scott-kaplan-roses/
CATEGORIES:ROSES
END:VEVENT
BEGIN:VEVENT
DTSTART;TZID=Europe/London:20200828T143000
DTEND;TZID=Europe/London:20200828T153000
DTSTAMP:20260421T042216
CREATED:20200713T024036Z
LAST-MODIFIED:20200713T024036Z
UID:1762-1598625000-1598628600@research.reading.ac.uk
SUMMARY:Thomas Peeters (ROSES)
DESCRIPTION:Title: \nWho profits from transfers? \nAbout ROSES: \n\nAn online series of sport economics seminars\, organised by James Reade\, Carl Singleton and Adrian Bell\, part of the Football Economics Research Group at the University of Reading.\nAll Seminars take place 2:30-4pm\, UK time\, and will take place on Microsoft Teams.\n\nJoining Instructions: \n\nSeminar via Microsoft Teams. Contact James Reade at j.j.reade@reading.ac.uk
URL:https://research.reading.ac.uk/economics/event/thomas-peeters-roses/
CATEGORIES:ROSES
END:VEVENT
BEGIN:VEVENT
DTSTART;TZID=Europe/London:20200821T143000
DTEND;TZID=Europe/London:20200821T160000
DTSTAMP:20260421T042216
CREATED:20200713T024016Z
LAST-MODIFIED:20200713T024016Z
UID:1761-1598020200-1598025600@research.reading.ac.uk
SUMMARY:Tim Pawlowski (ROSES)
DESCRIPTION:Title: \nIndividual Labor Market Effects of Local Public Expenditures on Sports \nAbout ROSES: \n\nAn online series of sport economics seminars\, organised by James Reade\, Carl Singleton and Adrian Bell\, part of the Football Economics Research Group at the University of Reading.\nAll Seminars take place 2:30-4pm\, UK time\, and will take place on Microsoft Teams.\n\nJoining Instructions: \n\nSeminar via Microsoft Teams. Contact James Reade at j.j.reade@reading.ac.uk
URL:https://research.reading.ac.uk/economics/event/tim-pawlowski-roses/
CATEGORIES:ROSES
END:VEVENT
BEGIN:VEVENT
DTSTART;TZID=Europe/London:20200814T153000
DTEND;TZID=Europe/London:20200814T163000
DTSTAMP:20260421T042216
CREATED:20200713T023950Z
LAST-MODIFIED:20200713T023950Z
UID:1760-1597419000-1597422600@research.reading.ac.uk
SUMMARY:Nola Agha (ROSES)
DESCRIPTION:Title: \nThe labor economics of player development in professional baseball \nAbout ROSES: \n\nAn online series of sport economics seminars\, organised by James Reade\, Carl Singleton and Adrian Bell\, part of the Football Economics Research Group at the University of Reading.\nAll Seminars take place 2:30-4pm\, UK time\, and will take place on Microsoft Teams.\n\nJoining Instructions: \n\nSeminar via Microsoft Teams. Contact James Reade at j.j.reade@reading.ac.uk
URL:https://research.reading.ac.uk/economics/event/nola-agha-roses/
CATEGORIES:ROSES
END:VEVENT
END:VCALENDAR