BEGIN:VCALENDAR
VERSION:2.0
PRODID:-//Economics Research - ECPv6.0.5//NONSGML v1.0//EN
CALSCALE:GREGORIAN
METHOD:PUBLISH
X-WR-CALNAME:Economics Research
X-ORIGINAL-URL:https://research.reading.ac.uk/economics
X-WR-CALDESC:Events for Economics Research
REFRESH-INTERVAL;VALUE=DURATION:PT1H
X-Robots-Tag:noindex
X-PUBLISHED-TTL:PT1H
BEGIN:VTIMEZONE
TZID:Europe/London
BEGIN:DAYLIGHT
TZOFFSETFROM:+0000
TZOFFSETTO:+0100
TZNAME:BST
DTSTART:20200329T010000
END:DAYLIGHT
BEGIN:STANDARD
TZOFFSETFROM:+0100
TZOFFSETTO:+0000
TZNAME:GMT
DTSTART:20201025T010000
END:STANDARD
END:VTIMEZONE
BEGIN:VEVENT
DTSTART;TZID=Europe/London:20200911T143000
DTEND;TZID=Europe/London:20200911T160000
DTSTAMP:20260423T215838
CREATED:20200713T025021Z
LAST-MODIFIED:20200713T025021Z
UID:1771-1599834600-1599840000@research.reading.ac.uk
SUMMARY:Jean Williams (ROSES)
DESCRIPTION:Title: \nIt’s Not Like Eating Broccoli\, it’s like having a Martini: how to market women’s sport as an aspirational spectacle \nAbout ROSES: \n\nAn online series of sport economics seminars\, organised by James Reade\, Carl Singleton and Adrian Bell\, part of the Football Economics Research Group at the University of Reading.\nAll Seminars take place 2:30-4pm\, UK time\, and will take place on Microsoft Teams.\n\nJoining Instructions: \n\nSeminar via Microsoft Teams. Contact James Reade at j.j.reade@reading.ac.uk
URL:https://research.reading.ac.uk/economics/event/jean-williams-roses/
CATEGORIES:ROSES
END:VEVENT
BEGIN:VEVENT
DTSTART;TZID=Europe/London:20200904T143000
DTEND;TZID=Europe/London:20200904T160000
DTSTAMP:20260423T215838
CREATED:20200713T024909Z
LAST-MODIFIED:20200713T024909Z
UID:1770-1599229800-1599235200@research.reading.ac.uk
SUMMARY:Michael Jetter (ROSES)
DESCRIPTION:Title: \nA local heroine and gender stereotypes \nAbout ROSES: \n\nAn online series of sport economics seminars\, organised by James Reade\, Carl Singleton and Adrian Bell\, part of the Football Economics Research Group at the University of Reading.\nAll Seminars take place 2:30-4pm\, UK time\, and will take place on Microsoft Teams.\n\nJoining Instructions: \n\nSeminar via Microsoft Teams. Contact James Reade at j.j.reade@reading.ac.uk
URL:https://research.reading.ac.uk/economics/event/michael-jetter-roses/
CATEGORIES:ROSES
END:VEVENT
BEGIN:VEVENT
DTSTART;TZID=Europe/London:20200828T153000
DTEND;TZID=Europe/London:20200828T163000
DTSTAMP:20260423T215838
CREATED:20200713T024100Z
LAST-MODIFIED:20200713T024100Z
UID:1763-1598628600-1598632200@research.reading.ac.uk
SUMMARY:Scott Kaplan (ROSES)
DESCRIPTION:Title: \nEntertainment Utility from Non-Instrumental Information: Evidence from Consumer Attention \nAbout ROSES: \n\nAn online series of sport economics seminars\, organised by James Reade\, Carl Singleton and Adrian Bell\, part of the Football Economics Research Group at the University of Reading.\nAll Seminars take place 2:30-4pm\, UK time\, and will take place on Microsoft Teams.\n\nJoining Instructions: \n\nSeminar via Microsoft Teams. Contact James Reade at j.j.reade@reading.ac.uk
URL:https://research.reading.ac.uk/economics/event/scott-kaplan-roses/
CATEGORIES:ROSES
END:VEVENT
BEGIN:VEVENT
DTSTART;TZID=Europe/London:20200828T143000
DTEND;TZID=Europe/London:20200828T153000
DTSTAMP:20260423T215838
CREATED:20200713T024036Z
LAST-MODIFIED:20200713T024036Z
UID:1762-1598625000-1598628600@research.reading.ac.uk
SUMMARY:Thomas Peeters (ROSES)
DESCRIPTION:Title: \nWho profits from transfers? \nAbout ROSES: \n\nAn online series of sport economics seminars\, organised by James Reade\, Carl Singleton and Adrian Bell\, part of the Football Economics Research Group at the University of Reading.\nAll Seminars take place 2:30-4pm\, UK time\, and will take place on Microsoft Teams.\n\nJoining Instructions: \n\nSeminar via Microsoft Teams. Contact James Reade at j.j.reade@reading.ac.uk
URL:https://research.reading.ac.uk/economics/event/thomas-peeters-roses/
CATEGORIES:ROSES
END:VEVENT
BEGIN:VEVENT
DTSTART;TZID=Europe/London:20200821T143000
DTEND;TZID=Europe/London:20200821T160000
DTSTAMP:20260423T215838
CREATED:20200713T024016Z
LAST-MODIFIED:20200713T024016Z
UID:1761-1598020200-1598025600@research.reading.ac.uk
SUMMARY:Tim Pawlowski (ROSES)
DESCRIPTION:Title: \nIndividual Labor Market Effects of Local Public Expenditures on Sports \nAbout ROSES: \n\nAn online series of sport economics seminars\, organised by James Reade\, Carl Singleton and Adrian Bell\, part of the Football Economics Research Group at the University of Reading.\nAll Seminars take place 2:30-4pm\, UK time\, and will take place on Microsoft Teams.\n\nJoining Instructions: \n\nSeminar via Microsoft Teams. Contact James Reade at j.j.reade@reading.ac.uk
URL:https://research.reading.ac.uk/economics/event/tim-pawlowski-roses/
CATEGORIES:ROSES
END:VEVENT
BEGIN:VEVENT
DTSTART;TZID=Europe/London:20200814T153000
DTEND;TZID=Europe/London:20200814T163000
DTSTAMP:20260423T215838
CREATED:20200713T023950Z
LAST-MODIFIED:20200713T023950Z
UID:1760-1597419000-1597422600@research.reading.ac.uk
SUMMARY:Nola Agha (ROSES)
DESCRIPTION:Title: \nThe labor economics of player development in professional baseball \nAbout ROSES: \n\nAn online series of sport economics seminars\, organised by James Reade\, Carl Singleton and Adrian Bell\, part of the Football Economics Research Group at the University of Reading.\nAll Seminars take place 2:30-4pm\, UK time\, and will take place on Microsoft Teams.\n\nJoining Instructions: \n\nSeminar via Microsoft Teams. Contact James Reade at j.j.reade@reading.ac.uk
URL:https://research.reading.ac.uk/economics/event/nola-agha-roses/
CATEGORIES:ROSES
END:VEVENT
BEGIN:VEVENT
DTSTART;TZID=Europe/London:20200814T143000
DTEND;TZID=Europe/London:20200814T153000
DTSTAMP:20260423T215838
CREATED:20200713T023913Z
LAST-MODIFIED:20200713T024349Z
UID:1759-1597415400-1597419000@research.reading.ac.uk
SUMMARY:Pramod Kumar Sur (ROSES)
DESCRIPTION:Title: \nWho should be the leader? Vertical Diversity and Team Performance \nAbout ROSES: \n\nAn online series of sport economics seminars\, organised by James Reade\, Carl Singleton and Adrian Bell\, part of the Football Economics Research Group at the University of Reading.\nAll Seminars take place 2:30-4pm\, UK time\, and will take place on Microsoft Teams.\n\nJoining Instructions: \n\nSeminar via Microsoft Teams. Contact James Reade at j.j.reade@reading.ac.uk
URL:https://research.reading.ac.uk/economics/event/pramod-kumar-sur-roses/
CATEGORIES:ROSES
END:VEVENT
BEGIN:VEVENT
DTSTART;TZID=Europe/London:20200807T143000
DTEND;TZID=Europe/London:20200807T160000
DTSTAMP:20260423T215838
CREATED:20200713T023838Z
LAST-MODIFIED:20200713T023838Z
UID:1758-1596810600-1596816000@research.reading.ac.uk
SUMMARY:Matheus Galdino (ROSES)
DESCRIPTION:Title: \nGambling with leadership succession in Brazilian football: a scientific evaluation of head coach turnovers and their impact on team performance \nAbout ROSES: \n\nAn online series of sport economics seminars\, organised by James Reade\, Carl Singleton and Adrian Bell\, part of the Football Economics Research Group at the University of Reading.\nAll Seminars take place 2:30-4pm\, UK time\, and will take place on Microsoft Teams.\n\nJoining Instructions: \n\nSeminar via Microsoft Teams. Contact James Reade at j.j.reade@reading.ac.uk
URL:https://research.reading.ac.uk/economics/event/matheus-galdino-roses/
CATEGORIES:ROSES
END:VEVENT
BEGIN:VEVENT
DTSTART;TZID=Europe/London:20200731T153000
DTEND;TZID=Europe/London:20200731T163000
DTSTAMP:20260423T215838
CREATED:20200713T023154Z
LAST-MODIFIED:20200713T023154Z
UID:1751-1596209400-1596213000@research.reading.ac.uk
SUMMARY:Vincenzo Alfano (ROSES)
DESCRIPTION:Title: \nIn hoc signo vinces:  An exploratory study on the impact of religion on violence in sport \nAbout ROSES: \n\nAn online series of sport economics seminars\, organised by James Reade\, Carl Singleton and Adrian Bell\, part of the Football Economics Research Group at the University of Reading.\nAll Seminars take place 2:30-4pm\, UK time\, and will take place on Microsoft Teams.\n\nJoining Instructions: \n\nSeminar via Microsoft Teams. Contact James Reade at j.j.reade@reading.ac.uk
URL:https://research.reading.ac.uk/economics/event/vincenzo-alfano-roses/
CATEGORIES:ROSES
END:VEVENT
BEGIN:VEVENT
DTSTART;TZID=Europe/London:20200731T143000
DTEND;TZID=Europe/London:20200731T153000
DTSTAMP:20260423T215838
CREATED:20200713T023121Z
LAST-MODIFIED:20200713T023121Z
UID:1750-1596205800-1596209400@research.reading.ac.uk
SUMMARY:Jean-Louis Foulley (ROSES)
DESCRIPTION:Title: \nAssessment of probability forecasts of C1 group stage outcomes based on scoring rules \nAbout ROSES: \n\nAn online series of sport economics seminars\, organised by James Reade\, Carl Singleton and Adrian Bell\, part of the Football Economics Research Group at the University of Reading.\nAll Seminars take place 2:30-4pm\, UK time\, and will take place on Microsoft Teams.\n\nJoining Instructions: \n\nSeminar via Microsoft Teams. Contact James Reade at j.j.reade@reading.ac.uk
URL:https://research.reading.ac.uk/economics/event/jean-louis-foulley-roses/
CATEGORIES:ROSES
END:VEVENT
BEGIN:VEVENT
DTSTART;TZID=Europe/London:20200724T143000
DTEND;TZID=Europe/London:20200724T160000
DTSTAMP:20260423T215838
CREATED:20200713T023046Z
LAST-MODIFIED:20200713T023046Z
UID:1749-1595601000-1595606400@research.reading.ac.uk
SUMMARY:Greg Howard (ROSES)
DESCRIPTION:Title: \nRational Inattention in the Infield \nAbout ROSES: \n\nAn online series of sport economics seminars\, organised by James Reade\, Carl Singleton and Adrian Bell\, part of the Football Economics Research Group at the University of Reading.\nAll Seminars take place 2:30-4pm\, UK time\, and will take place on Microsoft Teams.\n\nJoining Instructions: \n\nSeminar via Microsoft Teams. Contact James Reade at j.j.reade@reading.ac.uk
URL:https://research.reading.ac.uk/economics/event/greg-howard-roses/
CATEGORIES:ROSES
END:VEVENT
BEGIN:VEVENT
DTSTART;TZID=Europe/London:20200717T153000
DTEND;TZID=Europe/London:20200717T163000
DTSTAMP:20260423T215838
CREATED:20200713T022933Z
LAST-MODIFIED:20200713T022933Z
UID:1748-1594999800-1595003400@research.reading.ac.uk
SUMMARY:Daniel Weimar (ROSES)
DESCRIPTION:Title: \nAgainst the Main Stream: Field Evidence on a Positive Link Between Media Consumption and the Demand for Sports Among Children \nAbout ROSES: \n\nAn online series of sport economics seminars\, organised by James Reade\, Carl Singleton and Adrian Bell\, part of the Football Economics Research Group at the University of Reading.\nAll Seminars take place 2:30-4pm\, UK time\, and will take place on Microsoft Teams.\n\nJoining Instructions: \n\nSeminar via Microsoft Teams. Contact James Reade at j.j.reade@reading.ac.uk
URL:https://research.reading.ac.uk/economics/event/daniel-weimar-roses/
CATEGORIES:ROSES
END:VEVENT
BEGIN:VEVENT
DTSTART;TZID=Europe/London:20200717T143000
DTEND;TZID=Europe/London:20200717T153000
DTSTAMP:20260423T215838
CREATED:20200713T022837Z
LAST-MODIFIED:20200713T022948Z
UID:1747-1594996200-1594999800@research.reading.ac.uk
SUMMARY:Alex Farnell (ROSES)
DESCRIPTION:Title: \nAssessing the Role of Fatigue and Multitasking on Worker Performance: Evidence from MLB pitchers \nAbout ROSES: \n\nAn online series of sport economics seminars\, organised by James Reade\, Carl Singleton and Adrian Bell\, part of the Football Economics Research Group at the University of Reading.\nAll Seminars take place 2:30-4pm\, UK time\, and will take place on Microsoft Teams.\n\nJoining Instructions: \n\nSeminar via Microsoft Teams. Contact James Reade at j.j.reade@reading.ac.uk
URL:https://research.reading.ac.uk/economics/event/alex-farnell-roses/
CATEGORIES:ROSES
END:VEVENT
BEGIN:VEVENT
DTSTART;TZID=Europe/London:20200716T130000
DTEND;TZID=Europe/London:20200716T140000
DTSTAMP:20260423T215838
CREATED:20200630T103826Z
LAST-MODIFIED:20200716T145405Z
UID:1688-1594904400-1594908000@research.reading.ac.uk
SUMMARY:Wei-Fong Pan (Virtual Seminar)
DESCRIPTION:Title: The labour market effect of fiscal policy uncertainty \nAbstract: This study examines the effect of fiscal policy uncertainty (FPU) on job searches and labour demand in the United States. We first develop search-based job search indices and find that increased FPU leads to higher job search levels. However\, rising FPU reduces labour demand as we observe that the number of online job postings by firms declines significantly in response to increasing FPU. The effect of FPU varies across different groups of individuals and regions\, while also being subject to monetary policy stance. Labour market institutions are key to explain such differences. Lastly\, FPU reduces matching efficiency in labour markets. These results are robust to alternative specifications and after isolating the effect of uncertainty from risk. \nWatch the recording \n 
URL:https://research.reading.ac.uk/economics/event/wei-fong-pan-virtual-seminar/
CATEGORIES:Internal Seminars,PhD Seminars
END:VEVENT
BEGIN:VEVENT
DTSTART;TZID=Europe/London:20200710T143000
DTEND;TZID=Europe/London:20200710T160000
DTSTAMP:20260423T215838
CREATED:20200713T011845Z
LAST-MODIFIED:20200713T011845Z
UID:1737-1594391400-1594396800@research.reading.ac.uk
SUMMARY:Maria Kotikova (ROSES)
DESCRIPTION:Title: \nGender Differences in Economic Behavior of Football Fans in Russia \nAbout ROSES: \n\nAn online series of sport economics seminars\, organised by James Reade\, Carl Singleton and Adrian Bell\, part of the Football Economics Research Group at the University of Reading.\nAll Seminars take place 2:30-4pm\, UK time\, and will take place on Microsoft Teams.\n\nJoining Instructions: \n\nSeminar via Microsoft Teams. Contact James Reade at j.j.reade@reading.ac.uk
URL:https://research.reading.ac.uk/economics/event/maria-kotikova-roses/
CATEGORIES:ROSES
END:VEVENT
BEGIN:VEVENT
DTSTART;TZID=Europe/London:20200703T143000
DTEND;TZID=Europe/London:20200703T160000
DTSTAMP:20260423T215838
CREATED:20200713T011817Z
LAST-MODIFIED:20200713T011817Z
UID:1736-1593786600-1593792000@research.reading.ac.uk
SUMMARY:Dmitry Dagaev (ROSES)
DESCRIPTION:Title: \nStrategic Broadcasting of a Championship: to Earn More from Ads or to Incentivize Subscription? \nAbout ROSES: \n\nAn online series of sport economics seminars\, organised by James Reade\, Carl Singleton and Adrian Bell\, part of the Football Economics Research Group at the University of Reading.\nAll Seminars take place 2:30-4pm\, UK time\, and will take place on Microsoft Teams.\n\nJoining Instructions: \n\nSeminar via Microsoft Teams. Contact James Reade at j.j.reade@reading.ac.uk
URL:https://research.reading.ac.uk/economics/event/dmitry-dagaev-roses/
CATEGORIES:ROSES
END:VEVENT
BEGIN:VEVENT
DTSTART;VALUE=DATE:20200701
DTEND;VALUE=DATE:20200704
DTSTAMP:20260423T215838
CREATED:20200107T143152Z
LAST-MODIFIED:20200107T143305Z
UID:1177-1593561600-1593820799@research.reading.ac.uk
SUMMARY:4th Eastern Conference on Football Economics / 6th Western Conference on Football and Finance\, Saint Petersburg\, Russia
DESCRIPTION:SE University\, New Economic School\, and University of Reading are organizing a conference on the football economics and finance. It is aimed to highlight high-quality research of the football industry as well as to facilitate the cooperation between academics and practitioners. \nTheoretical and/or empirical research papers that deal with economic\, financial\, social\, and managerial problems of football industry are welcome. The list of possible topics includes: success factors in football\, football leagues regulation\, financial fair-play\, tournament design\, contest theory\, optimization of match strategies\, corruption\, betting\, spectators’ demand studies\, financial and social issues of the World Cup\, scheduling\, competitive balance\, and other. \n\nWhen: 1-3 July\, 2020 \nCall for papers: Extended abstract (approximately 3 pages long) must be submitted through EasyChair by February 1\, 2020. \nThere is no conference fee. Participation is open to anyone interested in the field. However\, registration is needed (it will be opened in due course). \nSee more information on the conference website.
URL:https://research.reading.ac.uk/economics/event/4th-eastern-conference-on-football-economics-6th-western-conference-on-football-and-finance-saint-petersburg-russia/
CATEGORIES:Conferences
ATTACH;FMTTYPE=image/png:https://research.reading.ac.uk/economics/wp-content/uploads/sites/87/Unorganized/banner.png
END:VEVENT
BEGIN:VEVENT
DTSTART;TZID=Europe/London:20200626T143000
DTEND;TZID=Europe/London:20200626T160000
DTSTAMP:20260423T215838
CREATED:20200713T011747Z
LAST-MODIFIED:20200713T011747Z
UID:1738-1593181800-1593187200@research.reading.ac.uk
SUMMARY:Mario Lackner (ROSES)
DESCRIPTION:Title: \nMass Gatherings Contributed to Early COVID-19 Spread: Evidence from US Sports \nAbout ROSES: \n\nAn online series of sport economics seminars\, organised by James Reade\, Carl Singleton and Adrian Bell\, part of the Football Economics Research Group at the University of Reading.\nAll Seminars take place 2:30-4pm\, UK time\, and will take place on Microsoft Teams.\n\nJoining Instructions: \n\nSeminar via Microsoft Teams. Contact James Reade at j.j.reade@reading.ac.uk
URL:https://research.reading.ac.uk/economics/event/mario-lackner-roses/
CATEGORIES:ROSES
END:VEVENT
BEGIN:VEVENT
DTSTART;TZID=Europe/London:20200625T130000
DTEND;TZID=Europe/London:20200625T140000
DTSTAMP:20260423T215838
CREATED:20200617T102025Z
LAST-MODIFIED:20200626T143038Z
UID:1595-1593090000-1593093600@research.reading.ac.uk
SUMMARY:Abdulaleem Isiaka (Virtual Seminar)
DESCRIPTION:Title: What is the redistributive impact of reallocating government spending? Evidence from a sample of middle-income countries \nAbstract: This paper employs the fixed effects estimator in examining the redistributive impact of financing welfare programmes through cuts in other government spending components within a panel of 51 middle income countries over the period 2005–2015. Additionally\, this study investigates how the percentile income shares of different income groups within the sample are affected by the spending reallocations towards welfare programmes. This study finds that the twin objective of reducing inequality and benefiting all income groups can be achieved if the right social welfare programme is financed by cuts in expenditure on infrastructure\, agriculture and other sectors of the economy. However\, no evidence is found to confirm that inequality reduces with reallocations from defence spending towards social welfare programmes. Upon splitting the sample by income levels\, this paper finds that reallocations towards education spending are more crucial in upper middle income countries while spending reallocations towards social protection and health spending have greater relevance in lower middle income countries. Based on its findings\, this paper recommends that policy makers in middle income countries give greater consideration to the redistributive prospects of spending reallocations towards social welfare programmes. \nDownload the paper \nWatch the video
URL:https://research.reading.ac.uk/economics/event/abdulaleem-isiaka-virtual-seminar/
CATEGORIES:Internal Seminars,PhD Seminars
END:VEVENT
BEGIN:VEVENT
DTSTART;VALUE=DATE:20200622
DTEND;VALUE=DATE:20200624
DTSTAMP:20260423T215838
CREATED:20200228T153512Z
LAST-MODIFIED:20200714T141626Z
UID:1298-1592784000-1592956799@research.reading.ac.uk
SUMMARY:3rd Reading Reading Experimental and Behavioural Workshop (REBEW)
DESCRIPTION:The department of Economics at the University of Reading held the 3rd Reading Experimental and Behavioural Economics workshop online on 22-23 June. \nOver the last two years\, we have welcomed researchers from the UK as well as Australia\, France\, Spain\, Germany and Luxemburg to discuss research around specific themes. Previous keynote speakers have been Phil Grossman\, Sarah Smith\, Jordi Brandts\, and Marie Claire Villeval. Please find the previous programmes here: 2018 programme and 2019 programme. \nThis year Due to the Covid-19 pandemic\, we ran a two half-day workshop with the two themes of ‘Behavioural games’ (22 June) and ‘Gender’ (23 June). The keynote speakers were Sander Onderstal (University of Amsterdam) and Friederike Mengel (University of Essex)\, respectively. \nPlease find the programme for the details. 2020 programme \n 
URL:https://research.reading.ac.uk/economics/event/3rd-reading-reading-experimental-and-behavioural-workshop-rebew/
LOCATION:University of Reading
CATEGORIES:Workshops
END:VEVENT
BEGIN:VEVENT
DTSTART;TZID=Europe/London:20200619T143000
DTEND;TZID=Europe/London:20200619T160000
DTSTAMP:20260423T215838
CREATED:20200518T115741Z
LAST-MODIFIED:20200518T115741Z
UID:1536-1592577000-1592582400@research.reading.ac.uk
SUMMARY:Daniel Torchia (ROSES)
DESCRIPTION:Title: \nCritical performativity in an alternative football club – The case of FC United of Manchester. \nAbout ROSES: \n\nAn online series of sport economics seminars\, organised by James Reade\, Carl Singleton and Adrian Bell\, part of the Football Economics Research Group at the University of Reading.\nAll Seminars take place 2:30-4pm\, UK time\, and will take place on Microsoft Teams.\n\nJoining Instructions: \n\nSeminar via Microsoft Teams. Contact James Reade at j.j.reade@reading.ac.uk
URL:https://research.reading.ac.uk/economics/event/daniel-torchia-roses/
CATEGORIES:ROSES
END:VEVENT
BEGIN:VEVENT
DTSTART;TZID=Europe/London:20200612T143000
DTEND;TZID=Europe/London:20200612T160000
DTSTAMP:20260423T215838
CREATED:20200518T115653Z
LAST-MODIFIED:20200518T115653Z
UID:1534-1591972200-1591977600@research.reading.ac.uk
SUMMARY:David Ong (ROSES)
DESCRIPTION:Title: \nThe College Admissions Contribution to the Labour Market Beauty Premium. \nAbout ROSES: \n\nAn online series of sport economics seminars\, organised by James Reade\, Carl Singleton and Adrian Bell\, part of the Football Economics Research Group at the University of Reading.\nAll Seminars take place 2:30-4pm\, UK time\, and will take place on Microsoft Teams.\n\nJoining Instructions: \n\nSeminar via Microsoft Teams. Contact James Reade at j.j.reade@reading.ac.uk
URL:https://research.reading.ac.uk/economics/event/david-ong-roses/
CATEGORIES:ROSES
END:VEVENT
BEGIN:VEVENT
DTSTART;TZID=Europe/London:20200605T143000
DTEND;TZID=Europe/London:20200605T160000
DTSTAMP:20260423T215838
CREATED:20200518T115551Z
LAST-MODIFIED:20200518T115551Z
UID:1531-1591367400-1591372800@research.reading.ac.uk
SUMMARY:Brad Humphreys (ROSES)
DESCRIPTION:Title: \nDo Sporting Events Amplify Influenza Transmission? Causal Evidence from US Professional Team Sports. \nAbout ROSES: \n\nAn online series of sport economics seminars\, organised by James Reade\, Carl Singleton and Adrian Bell\, part of the Football Economics Research Group at the University of Reading.\nAll Seminars take place 2:30-4pm\, UK time\, and will take place on Microsoft Teams.\n\nJoining Instructions: \n\nSeminar via Microsoft Teams. Contact James Reade at j.j.reade@reading.ac.uk
URL:https://research.reading.ac.uk/economics/event/brad-humphreys-roses/
CATEGORIES:ROSES
END:VEVENT
BEGIN:VEVENT
DTSTART;TZID=Europe/London:20200602T093000
DTEND;TZID=Europe/London:20200602T182000
DTSTAMP:20260423T215838
CREATED:20200521T115611Z
LAST-MODIFIED:20200521T121730Z
UID:1554-1591090200-1591122000@research.reading.ac.uk
SUMMARY:1st Virtual PhD Workshop in Economics (Internal only)
DESCRIPTION:Programme: FINAL
URL:https://research.reading.ac.uk/economics/event/1st-virtual-phd-workshop-in-economics-internal-only/
CATEGORIES:PhD Seminars,Workshops
END:VEVENT
BEGIN:VEVENT
DTSTART;TZID=Europe/London:20200529T143000
DTEND;TZID=Europe/London:20200529T160000
DTSTAMP:20260423T215838
CREATED:20200518T115433Z
LAST-MODIFIED:20200518T115433Z
UID:1528-1590762600-1590768000@research.reading.ac.uk
SUMMARY:Johan Rewilak (ROSES)
DESCRIPTION:Title: \nThe designated player policy rule and attendance demand in US Soccer. \nAbout ROSES: \n\nAn online series of sport economics seminars\, organised by James Reade\, Carl Singleton and Adrian Bell\, part of the Football Economics Research Group at the University of Reading.\nAll Seminars take place 2:30-4pm\, UK time\, and will take place on Microsoft Teams.\n\nJoining Instructions: \n\nSeminar via Microsoft Teams. Contact James Reade at j.j.reade@reading.ac.uk
URL:https://research.reading.ac.uk/economics/event/johan-rewilak-roses/
CATEGORIES:ROSES
END:VEVENT
BEGIN:VEVENT
DTSTART;TZID=Europe/London:20200522T143000
DTEND;TZID=Europe/London:20200522T160000
DTSTAMP:20260423T215838
CREATED:20200518T115335Z
LAST-MODIFIED:20200518T115335Z
UID:1526-1590157800-1590163200@research.reading.ac.uk
SUMMARY:Jamin Speer (ROSES)
DESCRIPTION:Title: \nThe Consequences of Relegation and Promotion in European Soccer Leagues: A Regression Discontinuity Approach. \nAbout ROSES: \n\nAn online series of sport economics seminars\, organised by James Reade\, Carl Singleton and Adrian Bell\, part of the Football Economics Research Group at the University of Reading.\nAll Seminars take place 2:30-4pm\, UK time\, and will take place on Microsoft Teams.\n\nJoining Instructions: \n\nSeminar via Microsoft Teams. Contact James Reade at j.j.reade@reading.ac.uk
URL:https://research.reading.ac.uk/economics/event/jamin-speer-roses/
CATEGORIES:ROSES
END:VEVENT
BEGIN:VEVENT
DTSTART;TZID=Europe/London:20200515T143000
DTEND;TZID=Europe/London:20200515T160000
DTSTAMP:20260423T215838
CREATED:20200518T115210Z
LAST-MODIFIED:20200518T115210Z
UID:1523-1589553000-1589558400@research.reading.ac.uk
SUMMARY:Jorge A. Tovar (ROSES)
DESCRIPTION:Title: \nEmotions and Performance: A Quasi Natural Experiment from the FIFA World Cup. \nAbout ROSES: \n\nAn online series of sport economics seminars\, organised by James Reade\, Carl Singleton and Adrian Bell\, part of the Football Economics Research Group at the University of Reading.\nAll Seminars take place 2:30-4pm\, UK time\, and will take place on Microsoft Teams.\n\nJoining Instructions: \n\nSeminar via Microsoft Teams. Contact James Reade at j.j.reade@reading.ac.uk
URL:https://research.reading.ac.uk/economics/event/jorge-a-tovar-roses/
CATEGORIES:ROSES
END:VEVENT
BEGIN:VEVENT
DTSTART;TZID=Europe/London:20200508T143000
DTEND;TZID=Europe/London:20200508T160000
DTSTAMP:20260423T215838
CREATED:20200518T114846Z
LAST-MODIFIED:20200518T115055Z
UID:1518-1588948200-1588953600@research.reading.ac.uk
SUMMARY:Dennis Coates (ROSES)
DESCRIPTION:Title: \nSalary Distribution and Team Performance in MLS Soccer. \nAbout ROSES: \n\nAn online series of sport economics seminars\, organised by James Reade\, Carl Singleton and Adrian Bell\, part of the Football Economics Research Group at the University of Reading.\nAll Seminars take place 2:30-4pm\, UK time\, and will take place on Microsoft Teams.\n\nJoining Instructions: \n\nSeminar via Microsoft Teams. Contact James Reade at j.j.reade@reading.ac.uk
URL:https://research.reading.ac.uk/economics/event/dennis-coates-roses/
CATEGORIES:ROSES
END:VEVENT
BEGIN:VEVENT
DTSTART;TZID=Europe/London:20200506T130000
DTEND;TZID=Europe/London:20200506T140000
DTSTAMP:20260423T215838
CREATED:20200420T153620Z
LAST-MODIFIED:20200507T083818Z
UID:1446-1588770000-1588773600@research.reading.ac.uk
SUMMARY:Marina Della Giusta & Sarah Jewell (Virtual Seminar)
DESCRIPTION:Title: Working for nothing \nAbstract: We document the differences in time allocation to the labour market by different personality types in the UK\, and show how they may account for some of the labour market disadvantage experienced by more neurotic types (and the advantage experienced by more conscientious types) which has been documented in numerous studies. We make use of all nine available waves of the Understanding Society Survey and show that particular personality types are more prone to working longer hours\, and unpaid overtime hours\, and experiencing time pressures. \nWatch the recording
URL:https://research.reading.ac.uk/economics/event/marina-della-giusta-sarah-jewell-virtual-seminar/
CATEGORIES:Internal Seminars
END:VEVENT
BEGIN:VEVENT
DTSTART;TZID=Europe/London:20200501T143000
DTEND;TZID=Europe/London:20200501T160000
DTSTAMP:20260423T215838
CREATED:20200325T172501Z
LAST-MODIFIED:20200330T120813Z
UID:1342-1588343400-1588348800@research.reading.ac.uk
SUMMARY:Ruud Koning (ROSES)
DESCRIPTION:Title: \nTBC. \nAbout ROSES: \n\nAn online series of sport economics seminars\, organised by James Reade\, Carl Singleton and Adrian Bell\, part of the Football Economics Research Group at the University of Reading.\nAll Seminars take place 2:30-4pm\, UK time\, and will take place on Microsoft Teams.\n\nJoining Instructions: \n\nSeminar via Microsoft Teams. Contact James Reade at j.j.reade@reading.ac.uk
URL:https://research.reading.ac.uk/economics/event/ruud-koning-roses/
CATEGORIES:ROSES
ATTACH;FMTTYPE=image/jpeg:https://research.reading.ac.uk/economics/wp-content/uploads/sites/87/Unorganized/ROSES-SMALL-e1585569987440.jpg
END:VEVENT
END:VCALENDAR