BEGIN:VCALENDAR
VERSION:2.0
PRODID:-//Economics Research - ECPv6.0.5//NONSGML v1.0//EN
CALSCALE:GREGORIAN
METHOD:PUBLISH
X-ORIGINAL-URL:https://research.reading.ac.uk/economics
X-WR-CALDESC:Events for Economics Research
REFRESH-INTERVAL;VALUE=DURATION:PT1H
X-Robots-Tag:noindex
X-PUBLISHED-TTL:PT1H
BEGIN:VTIMEZONE
TZID:Europe/London
BEGIN:DAYLIGHT
TZOFFSETFROM:+0000
TZOFFSETTO:+0100
TZNAME:BST
DTSTART:20190331T010000
END:DAYLIGHT
BEGIN:STANDARD
TZOFFSETFROM:+0100
TZOFFSETTO:+0000
TZNAME:GMT
DTSTART:20191027T010000
END:STANDARD
BEGIN:DAYLIGHT
TZOFFSETFROM:+0000
TZOFFSETTO:+0100
TZNAME:BST
DTSTART:20200329T010000
END:DAYLIGHT
BEGIN:STANDARD
TZOFFSETFROM:+0100
TZOFFSETTO:+0000
TZNAME:GMT
DTSTART:20201025T010000
END:STANDARD
END:VTIMEZONE
BEGIN:VEVENT
DTSTART;VALUE=DATE:20200402
DTEND;VALUE=DATE:20200404
DTSTAMP:20260425T001737
CREATED:20191112T175515Z
LAST-MODIFIED:20191209T164542Z
UID:1086-1585785600-1585958399@research.reading.ac.uk
SUMMARY:3rd International Conference on Gender Research
DESCRIPTION:Jointly with other departments of the University of Reading we are organising the 3rd International Conference on Gender Research\, which will be held at the University of Reading on 2-3 April 2020. \nFurther details can be checked at: https://www.academic-conferences.org/conferences/icgr/.
URL:https://research.reading.ac.uk/economics/event/3rd-international-conference-on-gender-research/
LOCATION:University of Reading
CATEGORIES:Conferences
END:VEVENT
BEGIN:VEVENT
DTSTART;TZID=Europe/London:20200330T130000
DTEND;TZID=Europe/London:20200330T140000
DTSTAMP:20260425T001737
CREATED:20200406T131047Z
LAST-MODIFIED:20200507T084054Z
UID:1409-1585573200-1585576800@research.reading.ac.uk
SUMMARY:Maxim Belitski (Virtual Seminar)
DESCRIPTION:Title: Music is in the air: What startups can learn from a jazz jam session \nAbstract: While numerous models exist that explain innovation in startups\, factors that facilitate the process of development and implementation of knowledge leading to innovation are often unknown. We use the jazz jam session model and apply the configurational perspective on 377 start-ups in the United Kingdom (2002-2016) to extend knowledge on the role that internal and external factors play in a startup innovation. We explain exploratory and exploitation type innovation through factor configurations\, contrasting to internalization of improvisation in prior research. This work may help entrepreneurs and managers to design and deliver innovation process building on the jazz jam session model. \nWatch the recording
URL:https://research.reading.ac.uk/economics/event/maxim-belitski-virtual-seminar/
CATEGORIES:Internal Seminars
END:VEVENT
BEGIN:VEVENT
DTSTART;TZID=Europe/London:20200327T143000
DTEND;TZID=Europe/London:20200327T160000
DTSTAMP:20260425T001737
CREATED:20200325T171216Z
LAST-MODIFIED:20200401T092500Z
UID:1335-1585319400-1585324800@research.reading.ac.uk
SUMMARY:James Reade (ROSES)
DESCRIPTION:Title: \nDemand and Decision Making in the COVID-19 Pandemic: A Case Study of European Football (work with Carl Singleton). \nRecorded Video: \n\n\nAbout ROSES: \n\nAn online series of sport economics seminars\, organised by James Reade\, Carl Singleton and Adrian Bell\, part of the Football Economics Research Group at the University of Reading.\nAll Seminars take place 2:30-4pm\, UK time\, and will take place on Microsoft Teams.\n\nJoining Instructions: \n\nSeminar via Microsoft Teams. Contact James Reade at j.j.reade@reading.ac.uk
URL:https://research.reading.ac.uk/economics/event/james-reade-roses/
CATEGORIES:ROSES
ATTACH;FMTTYPE=image/jpeg:https://research.reading.ac.uk/economics/wp-content/uploads/sites/87/Unorganized/ROSES-SMALL-e1585569987440.jpg
END:VEVENT
BEGIN:VEVENT
DTSTART;TZID=Europe/London:20200312T130000
DTEND;TZID=Europe/London:20200312T140000
DTSTAMP:20260425T001737
CREATED:20191004T142550Z
LAST-MODIFIED:20200224T121718Z
UID:989-1584018000-1584021600@research.reading.ac.uk
SUMMARY:Alanood Alotaibi on "Global Cycles: Capital Flows\, Commodities\, and Sovereign Defaults\, 1815-2015" (PhD Reading Group)
DESCRIPTION:Alanood Alotaibi will be leading a discussion on “Global Cycles: Capital Flows\, Commodities\, and Sovereign Defaults\, 1815-2015” by Reinhart et al.; American Economic Review\, 2016
URL:https://research.reading.ac.uk/economics/event/alanood-alotaibi-on-innovation-and-production-in-the-global-economy-phd-reading-group/
LOCATION:Edith Morley 175
CATEGORIES:PhD Seminars
END:VEVENT
BEGIN:VEVENT
DTSTART;TZID=Europe/London:20200305T130000
DTEND;TZID=Europe/London:20200305T140000
DTSTAMP:20260425T001737
CREATED:20200119T172028Z
LAST-MODIFIED:20200124T163054Z
UID:1217-1583413200-1583416800@research.reading.ac.uk
SUMMARY:How could European Central Bank Monetary Policy affect Sovereign Credit Levels? – Evidence From PIIGS — Duo Xu (Economics PhD seminar)
DESCRIPTION:Abstract: \n(TBC) \nDuo’s profile
URL:https://research.reading.ac.uk/economics/event/how-could-european-central-bank-monetary-policy-affect-sovereign-credit-levels-evidence-from-piigs-duo-xu/
LOCATION:Edith Morley 175
CATEGORIES:PhD Seminars
ORGANIZER;CN="Carl%20Singleton":MAILTO:c.a.singleton@reading.ac.uk
END:VEVENT
BEGIN:VEVENT
DTSTART;TZID=Europe/London:20200227T120000
DTEND;TZID=Europe/London:20200227T130000
DTSTAMP:20260425T001737
CREATED:20200124T194917Z
LAST-MODIFIED:20200227T092413Z
UID:1259-1582804800-1582808400@research.reading.ac.uk
SUMMARY:Military Expenditure\, Threats And Economic Growth: in the case of Pakistan and India --- Hafsa Shoukat (Economics PhD seminar)
DESCRIPTION:Abstract: \n[TBC]
URL:https://research.reading.ac.uk/economics/event/military-expenditure-threats-and-economic-growth-in-case-of-pakistan-and-india-hafsa-shoukat-economics-phd-seminar/
LOCATION:Edith Morley 124
CATEGORIES:PhD Seminars
END:VEVENT
BEGIN:VEVENT
DTSTART;TZID=Europe/London:20200213T130000
DTEND;TZID=Europe/London:20200213T140000
DTSTAMP:20260425T001737
CREATED:20200124T090235Z
LAST-MODIFIED:20200213T100955Z
UID:1253-1581598800-1581602400@research.reading.ac.uk
SUMMARY:Status consumption and intertemporal substitution --- Anurag Srivastava (Economics PhD seminar)
DESCRIPTION:Abstract: \nThe empirical measurements of status consumption have focused on visible consumption in developed markets. We use a framework of demand for quality under uncertainty and endowment effects to interpret status as a long-term goal of the consumer in an intertemporal substitution setting. The stochastic and non-stochastic models thus formulated may be more pertinent to the demand for status consumption in developing markets where urban developments are concentrated and wealth differences are higher.
URL:https://research.reading.ac.uk/economics/event/status-consumption-and-intertemporal-substitution-anurag-srivastava-economics-phd-seminar/
LOCATION:Edith Morley 175
CATEGORIES:PhD Seminars
END:VEVENT
BEGIN:VEVENT
DTSTART;TZID=Europe/London:20200206T130000
DTEND;TZID=Europe/London:20200206T140000
DTSTAMP:20260425T001737
CREATED:20200124T162913Z
LAST-MODIFIED:20200124T162913Z
UID:1257-1580994000-1580997600@research.reading.ac.uk
SUMMARY:A decomposition of UK income inequality --- Anisa Butt (Economics PhD seminar)
DESCRIPTION:Abstract: \nWe investigate the extent to which inequality in the total population is a consequence of income differences between population subgroups stratified by characteristics such as ethnicity and gender. Following Shorrocks (1984) method\, generalised entropy measures are decomposed firstly by ethnic group and then gender into two components\, inequality between and within subgroup populations. Using individual level data for the UK\, we demonstrate within-group income inequality rather than between-group income inequality is the main contributor to overall income inequality. The between-group inequality component for subgroup population decomposition by both ethnicity and gender accounts only for a very small part of the overall inequality. \nHowever\, the question remains\, to what extent can different factors explain inequality within these groups in the UK? Fields (2003) framework is followed\, we measure the relative contributions of a set of factors to inequality in individual disposable incomes using data collected by the UK household longitudinal study (UKHLS). The explanatory variables introduced in an income generating mode are used to generate factor inequality weights. The results suggest the most relevant factors in explaining the observed inequality are Employment status\, Education and Age.
URL:https://research.reading.ac.uk/economics/event/a-decomposition-of-uk-income-inequality-anisa-butt-economics-phd-seminar/
LOCATION:Edith Morley 175
CATEGORIES:PhD Seminars
END:VEVENT
BEGIN:VEVENT
DTSTART;TZID=Europe/London:20200130T080000
DTEND;TZID=Europe/London:20200130T170000
DTSTAMP:20260425T001737
CREATED:20200122T171830Z
LAST-MODIFIED:20200124T163000Z
UID:1239-1580371200-1580403600@research.reading.ac.uk
SUMMARY:Unemployment across the Euro Area: The Role of Shocks and Labor Market Institutions --- Zhe Wang (Economics PhD seminar)
DESCRIPTION:Abstract: \nThis paper analyses the impact of shocks and labor market institutions on unemployment across the Euro Area (EA) from 1999 to 2013. Specifically\, I apply the empirical methodology of Blanchard and Wolfers (2000) and Nickell\, Nunziata and Ochel (2005) to identify the direct effects of shocks and labor market institutions on unemployment\, on the one hand\, and the indirect effects of labor market institutions on changing the transmission of shocks to unemployment\, on the other hand. The shocks consist of 1) total factor productivity (TFP) shocks\, 2) the real long-term interest rate\, 3) labor demand shocks\, 4) ECB money supply shocks and 5) ECB unsystematic monetary policy shocks. The labor market institutions cover the unemployment benefit system\, active labor market policies (ALMPs)\, employment protection laws (EPLs)\, the system of wage determination and the labor tax wedge. The results suggest that the real interest rate and labor demand shocks significantly affect the unemployment rate in the EA. As for labor market institutions\, EPLs play a favorable role in reducing unemployment. In contrast\, a higher tax wedge tends to have an adverse effect on unemployment\, not only directly increasing unemployment but also indirectly amplifying the effects of shocks on unemployment. \nZhe’s profile
URL:https://research.reading.ac.uk/economics/event/unemployment-across-the-euro-area-the-role-of-shocks-and-labor-market-institution-zhe-wang-economics-phd-seminar/
CATEGORIES:PhD Seminars
END:VEVENT
BEGIN:VEVENT
DTSTART;TZID=Europe/London:20200116T130000
DTEND;TZID=Europe/London:20200116T140000
DTSTAMP:20260425T001737
CREATED:20191004T142418Z
LAST-MODIFIED:20191004T142418Z
UID:987-1579179600-1579183200@research.reading.ac.uk
SUMMARY:Matthew Yeo on "Social Media\, Sentiment and Public Opinions: Evidence from #Brexit and #USElection" (PhD Reading Group)
DESCRIPTION:Matthew Yeo will be leading a discussion on “Social Media\, Sentiment and Public Opinions: Evidence from #Brexit and #USElection” by Gorodnichenko et al.; NBER Working Paper
URL:https://research.reading.ac.uk/economics/event/matthew-yeo-on-social-media-sentiment-and-public-opinions-evidence-from-brexit-and-uselection-phd-reading-group/
LOCATION:Edith Morley 175
CATEGORIES:PhD Seminars
END:VEVENT
BEGIN:VEVENT
DTSTART;TZID=Europe/London:20191212T130000
DTEND;TZID=Europe/London:20191212T140000
DTSTAMP:20260425T001737
CREATED:20191004T142251Z
LAST-MODIFIED:20191004T142251Z
UID:985-1576155600-1576159200@research.reading.ac.uk
SUMMARY:Sonia Jan Alam on "Climate Change: The Ultimate Challenge for Economics” (PhD Reading Group)
DESCRIPTION:Sonia will be leading a discussion on : “Climate Change: The Ultimate Challenge for Economics” by Nordhaus; American Economic Review\, 2019
URL:https://research.reading.ac.uk/economics/event/sonia-jan-alam-on-climate-change-the-ultimate-challenge-for-economics-phd-reading-group/
LOCATION:Edith Morley 175
CATEGORIES:PhD Seminars
END:VEVENT
BEGIN:VEVENT
DTSTART;TZID=Europe/London:20191205T130000
DTEND;TZID=Europe/London:20191205T140000
DTSTAMP:20260425T001737
CREATED:20191004T142057Z
LAST-MODIFIED:20191022T095751Z
UID:981-1575550800-1575554400@research.reading.ac.uk
SUMMARY:Ali Al-Majnooni on "Entrepreneurship\, institutional economics\, and economic growth: an ecosystem perspective" (PhD Reading Group)
DESCRIPTION:Ali Al-Majnooni will be leading a discussion on “Entrepreneurship\, institutional economics\, and economic growth: an ecosystem perspective” by Acs et al.; Small Business Economics\, 2018.
URL:https://research.reading.ac.uk/economics/event/paul-smith-on-bride-price-and-female-education-phd-reading-group/
LOCATION:Edith Morley 175
CATEGORIES:PhD Seminars
END:VEVENT
BEGIN:VEVENT
DTSTART;TZID=Europe/London:20191128T130000
DTEND;TZID=Europe/London:20191128T140000
DTSTAMP:20260425T001737
CREATED:20191004T141833Z
LAST-MODIFIED:20191004T141833Z
UID:978-1574946000-1574949600@research.reading.ac.uk
SUMMARY:Ifeatu Uzodinma on "Generating Skilled Self-Employment in Developing Countries: Experimental Evidence from Uganda" (PhD Reading Group)
DESCRIPTION:Ifeatu Uzodinma will be leading a discussion on “Generating Skilled Self-Employment in Developing Countries: Experimental Evidence from Uganda” by Blattman et al.; The Quarterly Journal of Economics\, 2014.
URL:https://research.reading.ac.uk/economics/event/ifeatu-uzodinma-on-generating-skilled-self-employment-in-developing-countries-experimental-evidence-from-uganda-phd-reading-group/
LOCATION:Edith Morley 175
CATEGORIES:PhD Seminars
END:VEVENT
BEGIN:VEVENT
DTSTART;TZID=Europe/London:20191121T130000
DTEND;TZID=Europe/London:20191121T140000
DTSTAMP:20260425T001737
CREATED:20191004T141643Z
LAST-MODIFIED:20191004T141926Z
UID:975-1574341200-1574344800@research.reading.ac.uk
SUMMARY:Philip Ramirez on "Gender Bias in Rumors among Professionals: An Identity-based Interpretation" (PhD Reading Group)
DESCRIPTION:Philip Ramirez will be leading a discussion on “Gender Bias in Rumors among Professionals: An Identity-based Interpretation” by Wu; Forthcoming in Review of Economics and Statistics (and all over the media\, e.g. NYT)
URL:https://research.reading.ac.uk/economics/event/philip-ramirez-on-gender-bias-in-rumors-among-professionals-an-identity-based-interpretation-phd-reading-group/
LOCATION:Edith Morley 175
CATEGORIES:PhD Seminars
END:VEVENT
BEGIN:VEVENT
DTSTART;TZID=Europe/London:20191107T130000
DTEND;TZID=Europe/London:20191107T140000
DTSTAMP:20260425T001737
CREATED:20190807T082118Z
LAST-MODIFIED:20191105T135124Z
UID:791-1573131600-1573135200@research.reading.ac.uk
SUMMARY:Comparison of immigrant children's academic performance with that of natives in the UK --- Richa Saun (Economics PhD seminar)
DESCRIPTION:Abstract: \nThere have been many studies on the increasing amount of immigration in developed countries\, including the UK. This study focuses on the academic achievements of immigrant children who\, irrespective of the fact they were born in the UK and experienced the same educational system\, experienced a significant gap in academic assessment scores. The study uses the panel data of the Millennium Cohort Study (MCS) cognitive scores\, achieved by the cohort members in their early childhood\, and analyses the academic achievement of the cohort members. The OLS model used in the study compares the numerical and verbal scores for the immigrant children\, as compared to the native children\, by using controls such as ethnicity\, gender\, whether the child goes to an after-school club\, and the frequency of time spent in sports exercise as compared to time spent in reading and writing. This study has found a significant positive relationship between children going to after school and the verbal score. \nRicha’s profile
URL:https://research.reading.ac.uk/economics/event/comparison-of-immigrant-childrens-academic-performance-with-that-of-natives-in-the-uk-richa-saun-economics-phd-candidate/
LOCATION:Edith Morley 175
CATEGORIES:PhD Seminars
ORGANIZER;CN="Carl%20Singleton":MAILTO:c.a.singleton@reading.ac.uk
END:VEVENT
BEGIN:VEVENT
DTSTART;TZID=Europe/London:20191031T130000
DTEND;TZID=Europe/London:20191031T140000
DTSTAMP:20260425T001737
CREATED:20190807T081827Z
LAST-MODIFIED:20191028T102256Z
UID:785-1572526800-1572530400@research.reading.ac.uk
SUMMARY:FDI and the wider economy in Zambia when Government attempted to capture foreign currency --- Grivas Chiyaba (Economics PhD seminar)
DESCRIPTION:Abstract: \nIn an effort to capture more foreign currency from export earnings\, the Zambian Government implemented currency management policies. In 2012\, the Government introduced a policy to bar the settlement of domestic transactions in foreign currency. This was augmented by another policy in 2013 aimed at improving monitoring of balance of payments. An analysis of foreign currency transactions post 2012 suggests that the immediate impact of the currency management policy was a rise in liquidity on the foreign exchange market. Coincidentally\, the composition of FDI flows components changed at the time of implementing the policies\, with intra-company debt being the main source of financing\, surpassing equity and retained earnings\, which were the main sources prior to 2012. Using confidential Zambian firm-level data covering the period 2008 – 2017\, the study analyses the evolution of FDI\, and provides implications of this analysis both for Zambia and how this might be generalised to other developing countries. The study also investigates whether the new financing strategy by foreign firms was a form of profit shifting or a switch of tax avoidance from one form to another. \nGrivas’ Profile
URL:https://research.reading.ac.uk/economics/event/fdi-and-the-wider-economy-in-zambia-when-government-attempted-to-capture-foreign-currency-jim-chen-economics-phd-candidate/
LOCATION:Edith Morley 175
CATEGORIES:PhD Seminars
ORGANIZER;CN="Carl%20Singleton":MAILTO:c.a.singleton@reading.ac.uk
END:VEVENT
BEGIN:VEVENT
DTSTART;TZID=Europe/London:20191024T130000
DTEND;TZID=Europe/London:20191024T140000
DTSTAMP:20260425T001737
CREATED:20190807T081958Z
LAST-MODIFIED:20191021T110845Z
UID:789-1571922000-1571925600@research.reading.ac.uk
SUMMARY:Institutional Performance and Sport: Evidence from International Football --- Meshael Batarfi (Economics PhD seminar)
DESCRIPTION:Abstract: \nFootball is a popular global game with more than 211 members in FIFA (International Federation of Association Football) from across six football confederations. The performance of these FIFA members is varied across these countries.  This study seeks to investigate the impact of macroeconomic variables on football performance (presented as a winning proportion). Using football data for 184 countries from 1950 to 2014 and applying the fixed effect methods\, the results suggest that a higher level of GDP per capita may lead to better football overall performance for all the countries in the sample\, collectively.  However\, the association between a winning proportion and GDP per capita is only significantly positive among The Union of European Football Associations and Asian Football Confederation countries.  We find that the population size might contribute to football achievements in 184 countries and the significant result was found in The Union of European Football Associations\, and The South American Football Confederation countries.
URL:https://research.reading.ac.uk/economics/event/institutional-effectiveness-and-football-performance-meshael-batarfi-economics-phd-candidate/
LOCATION:Edith Morley 175
CATEGORIES:PhD Seminars
ORGANIZER;CN="Carl%20Singleton":MAILTO:c.a.singleton@reading.ac.uk
END:VEVENT
BEGIN:VEVENT
DTSTART;TZID=Europe/London:20191017T130000
DTEND;TZID=Europe/London:20191017T140000
DTSTAMP:20260425T001737
CREATED:20190807T081704Z
LAST-MODIFIED:20191014T085908Z
UID:782-1571317200-1571320800@research.reading.ac.uk
SUMMARY:Exploring the dynamic relationship between selected Macroeconomic Variables and the Saudi Stock Market via VECM --- Ruqayya Aljifri (Economics PhD seminar)
DESCRIPTION:Abstract: \nThis study investigates the long-run relationships between the Saudi stock price index (TASI) and four macroeconomic variables; CPI (as a proxy of inflation)\, Money Supply (M2)\, IIP as a measure of GDP and S&P 500 as a measure of international stock market effects over the period 1988-2018. We observe that\, in the long run\, CPI and S&P 500 have a negative impact on the Saudi Price Index while M2 and IIP have a positive impact on the Saudi Price Index. The Johansen cointegration test and a vector error correction (VEC) model clarify that TASI is cointegrated with CPI\, Money Supply (M2)\, IIP and S&P 500\, which indicates the existence of the long-run equilibrium relationship among the variables included in the current study. In the long run\, the four macroeconomic variables in the system Granger-cause the Saudi Stock Price Index (TASI).
URL:https://research.reading.ac.uk/economics/event/exploring-the-relationship-between-macroeconomic-variables-and-saudi-stock-market-ruqayya-aljifri-economics-phd-candidate/
LOCATION:Edith Morley 175
CATEGORIES:PhD Seminars
ORGANIZER;CN="Carl%20Singleton":MAILTO:c.a.singleton@reading.ac.uk
END:VEVENT
BEGIN:VEVENT
DTSTART;TZID=Europe/London:20191010T130000
DTEND;TZID=Europe/London:20191010T140000
DTSTAMP:20260425T001737
CREATED:20190807T081551Z
LAST-MODIFIED:20191007T113904Z
UID:779-1570712400-1570716000@research.reading.ac.uk
SUMMARY:Migration\, remittances and labour force participation: Evidence from sub-Saharan Africa --- Adesola Sunmoni (Economics PhD seminar)
DESCRIPTION:Abstract: \nOne in seven people globally\, live and work outside their region or country of origin. Labour migration is a complex phenomenon that has significant implications for the sending families and countries as well as the receiving regions and countries. While there is considerable literature on the effect of migration at destination\, little is known about the effect at the region or country of origin. This paper seeks to contribute to the literature by estimating the causal effect of migration on the labour force participation of non-migrating household members. In particular\, this study exploits intrahousehold relationships to investigate how the relationship of the migrant to the left behind household member affects their labour force participation. Using data from the African Migration Project and Fixed Effects methods\, this paper finds that the migration of a husband or wife increases the likelihood that the non-migrating spouse will join the labour force. However\, we also find that the migration of children\, parents and siblings has no significant effect on the labour force participation of the left behind household members. Perhaps\, the most surprising result is that the identity of the migrant (I.e. spouse\, child or parent) has no significant effect on the labour force participation of the left behind household members. \nAdesola’s website
URL:https://research.reading.ac.uk/economics/event/youth-migration-and-labour-force-participation-evidence-from-sub-saharan-africa-adesola-sunmoni-economics-phd-candidate/
LOCATION:Edith Morley 175
CATEGORIES:PhD Seminars
ORGANIZER;CN="Carl%20Singleton":MAILTO:c.a.singleton@reading.ac.uk
END:VEVENT
BEGIN:VEVENT
DTSTART;TZID=Europe/London:20191003T130000
DTEND;TZID=Europe/London:20191003T140000
DTSTAMP:20260425T001737
CREATED:20190807T081258Z
LAST-MODIFIED:20190930T162500Z
UID:770-1570107600-1570111200@research.reading.ac.uk
SUMMARY:Household finance and financial literacy --- Jim Chen (Economics PhD seminar)
DESCRIPTION:Abstract: \nIn recent years\, households have become increasingly involved in financial markets and have access to increasing numbers of new financial products and services. Household’s financial literacy\, however remains poor and the cost of financial mistakes can be high. This paper uses a new household data-set and a rich set of covariates to investigate the causal relationship between financial literacy and household saving and borrowing behaviour. Using both standard and extended financial literacy questions\, this paper finds that literacy outcomes are largely comparable to other industrialised economies\, and that higher ﬁnancial literacy leads to improved ﬁnancial decision-making.
URL:https://research.reading.ac.uk/economics/event/jim-chens-presentation-2019/
LOCATION:Edith Morley 175
CATEGORIES:PhD Seminars
ORGANIZER;CN="Carl%20Singleton":MAILTO:c.a.singleton@reading.ac.uk
END:VEVENT
BEGIN:VEVENT
DTSTART;TZID=Europe/London:20190919T120000
DTEND;TZID=Europe/London:20190921T130000
DTSTAMP:20260425T001737
CREATED:20190711T114216Z
LAST-MODIFIED:20230126T161530Z
UID:728-1568894400-1569070800@research.reading.ac.uk
SUMMARY:1st Reading Football Economics Workshop 2019
DESCRIPTION:The 1st Reading Football Economics Workshop will take place on 19-21 September 2019 in Reading\, and is hosted by the Centre for Institutions and Economic History at the University of Reading. There will be two keynote talks\, a number of contributed sessions and informal social events. \nThe workshop will feature research on the widest possible area of football economics or management\, be it applications to football\, or the use of football to inform economics and other topics. \nRegistration deadline: 5 August (by e-mail\, to j.j.reade@reading.ac.uk) \nProgramme: Final version \nKeynote Speakers: Christian Deutscher (Bielefeld University)\, David Forrest (University of Liverpool) \nLocation: London Road Campus\, University of Reading\, Reading\, RG1 5AQ\, UK  [Campus map and travel advice] \nFunding: Unfortunately\, there is no funding available for this conference. \nAccommodation: The London Road Campus is just outside Reading City Centre\, so there are lots of options within walking distance. We recommend Premier Inn Reading Central\, as it is convenient to the venue\, train station and City Centre. \nTiming: The conference will begin and end at approximately lunchtime on the 19th and 21st\, to facilitate travel etc. \nSocial Events: On the Thursday and Friday evenings\, all participants are invited to The Dairy to watch have dinner and watch live football. \nThe organisers would like to invite you to attend the local English Football Championship game taking place on Saturday afternoon: Reading v Blackburn @ Madejski Stadium. This is not formally part of the workshop. Please contact James or Carl if you are interested in this as soon as possible. \nLocal organisers: James Reade & Carl Singleton \nProgramme Committee: James Reade\, Carl Singleton\, Adrian Bell\, Alasdair Brown\, Thomas Peeters & Mark Casson \nWe thank the Centre for Institutions and Economic History for supporting this event. \nFootball image credit: History of Soccer
URL:https://research.reading.ac.uk/economics/event/1st-reading-football-economics-workshop-2019/
LOCATION:London Road L22
CATEGORIES:Conferences
ATTACH;FMTTYPE=image/jpeg:https://research.reading.ac.uk/economics/wp-content/uploads/sites/87/Unorganized/fauzan-saari-crn276hbbYU-unsplash.jpg
ORGANIZER;CN="James%20Reade":MAILTO:j.j.reade@reading.ac.uk
END:VEVENT
END:VCALENDAR