BEGIN:VCALENDAR
VERSION:2.0
PRODID:-//Economics Research - ECPv6.0.5//NONSGML v1.0//EN
CALSCALE:GREGORIAN
METHOD:PUBLISH
X-ORIGINAL-URL:https://research.reading.ac.uk/economics
X-WR-CALDESC:Events for Economics Research
REFRESH-INTERVAL;VALUE=DURATION:PT1H
X-Robots-Tag:noindex
X-PUBLISHED-TTL:PT1H
BEGIN:VTIMEZONE
TZID:Europe/London
BEGIN:DAYLIGHT
TZOFFSETFROM:+0000
TZOFFSETTO:+0100
TZNAME:BST
DTSTART:20240331T010000
END:DAYLIGHT
BEGIN:STANDARD
TZOFFSETFROM:+0100
TZOFFSETTO:+0000
TZNAME:GMT
DTSTART:20241027T010000
END:STANDARD
END:VTIMEZONE
BEGIN:VEVENT
DTSTART;TZID=Europe/London:20240509T020000
DTEND;TZID=Europe/London:20240509T153000
DTSTAMP:20260424T100641
CREATED:20240123T201432Z
LAST-MODIFIED:20240123T202102Z
UID:3793-1715220000-1715268600@research.reading.ac.uk
SUMMARY:10th GEAR Quarterly Lecture by Professor Jennifer Castle (University of Oxford)
DESCRIPTION:Our 10th GEAR Quarterly Lecture will be held on 9 May 2024 2:00-3:30 pm in Edith Morley 126J and our speaker is Professor Jennifer Castle\, University of Oxford (details to be circulated). As usual\, the lecture will be synchronously recorded and available for viewing ex-post from the University of Reading’s Research YouTube channel. \nIt is possible to join via MS Teams – but do try to come in person. Right after the lecture everyone is invited to a drinks reception from 3:30 to 4:30 pm in EM 126J.
URL:https://research.reading.ac.uk/economics/event/10th-gear-quarterly-lecture-by-professor-jennifer-castle-university-of-oxford/
LOCATION:Edith  Morley 126J
CATEGORIES:GEAR events
END:VEVENT
END:VCALENDAR