BEGIN:VCALENDAR
VERSION:2.0
PRODID:-//Early Modern Research Centre - ECPv6.0.5//NONSGML v1.0//EN
CALSCALE:GREGORIAN
METHOD:PUBLISH
X-ORIGINAL-URL:https://research.reading.ac.uk/emrc
X-WR-CALDESC:Events for Early Modern Research Centre
REFRESH-INTERVAL;VALUE=DURATION:PT1H
X-Robots-Tag:noindex
X-PUBLISHED-TTL:PT1H
BEGIN:VTIMEZONE
TZID:Europe/London
BEGIN:DAYLIGHT
TZOFFSETFROM:+0000
TZOFFSETTO:+0100
TZNAME:BST
DTSTART:20210328T010000
END:DAYLIGHT
BEGIN:STANDARD
TZOFFSETFROM:+0100
TZOFFSETTO:+0000
TZNAME:GMT
DTSTART:20211031T010000
END:STANDARD
END:VTIMEZONE
BEGIN:VEVENT
DTSTART;TZID=Europe/London:20211011T130000
DTEND;TZID=Europe/London:20211011T140000
DTSTAMP:20260424T195637
CREATED:20210910T140821Z
LAST-MODIFIED:20210910T141736Z
UID:490-1633957200-1633960800@research.reading.ac.uk
SUMMARY:EMRC/SWW Seminar autumn term 2021: Dr Eilish Gregory on Catholic petitioning 1642-1660.
DESCRIPTION:Please join us for the first EMRC / SWW seminar of the new academic year\, Monday 11 October at 1pm\nDr Eilish Gregory (RHS) will give a paper on ‘Petitioning during the English Revolution\, 1642-1660: the Catholic experience of the sequestration and compounding process’ \nTo join the seminar\, please email emrc@reading.ac.uk for the link to the Zoom meeting.
URL:https://research.reading.ac.uk/emrc/event/emrc-sww-seminar-autumn-term-2021-dr-eilish-gregory-on-catholic-petitioning-1642-1660/
CATEGORIES:Events,Online events,Upcoming events
ORGANIZER;CN="EMRC":MAILTO:emrc@reading.ac.uk
END:VEVENT
END:VCALENDAR