BEGIN:VCALENDAR
VERSION:2.0
PRODID:-//Early Modern Research Centre - ECPv6.0.5//NONSGML v1.0//EN
CALSCALE:GREGORIAN
METHOD:PUBLISH
X-WR-CALNAME:Early Modern Research Centre
X-ORIGINAL-URL:https://research.reading.ac.uk/emrc
X-WR-CALDESC:Events for Early Modern Research Centre
REFRESH-INTERVAL;VALUE=DURATION:PT1H
X-Robots-Tag:noindex
X-PUBLISHED-TTL:PT1H
BEGIN:VTIMEZONE
TZID:Europe/London
BEGIN:DAYLIGHT
TZOFFSETFROM:+0000
TZOFFSETTO:+0100
TZNAME:BST
DTSTART:20210328T010000
END:DAYLIGHT
BEGIN:STANDARD
TZOFFSETFROM:+0100
TZOFFSETTO:+0000
TZNAME:GMT
DTSTART:20211031T010000
END:STANDARD
END:VTIMEZONE
BEGIN:VEVENT
DTSTART;TZID=Europe/London:20211122T130000
DTEND;TZID=Europe/London:20211122T140000
DTSTAMP:20260424T081722
CREATED:20210910T141426Z
LAST-MODIFIED:20210910T141705Z
UID:497-1637586000-1637589600@research.reading.ac.uk
SUMMARY:EMRC/SWW Seminars autumn term 2021: Dr Elaine Murphy on Women and the Stuart navy.
DESCRIPTION:Please join us for the EMRC / SWW early modern seminar on Monday 22 November at 1pm. \nDr Elaine Murphy (Plymouth)\, ‘ “A watery bowdy-house”: Thinking about women and the Stuart navy’. \nTo join the seminar\, please email emrc@reading.ac.uk for the link to the Zoom meeting.
URL:https://research.reading.ac.uk/emrc/event/emrc-sww-seminars-autumn-term-2021-dr-elaine-murphy-on-women-and-the-stuart-navy/
CATEGORIES:Events,Online events,Upcoming events
ORGANIZER;CN="EMRC":MAILTO:emrc@reading.ac.uk
END:VEVENT
END:VCALENDAR