BEGIN:VCALENDAR
VERSION:2.0
PRODID:-//Early Modern Research Centre - ECPv6.0.5//NONSGML v1.0//EN
CALSCALE:GREGORIAN
METHOD:PUBLISH
X-ORIGINAL-URL:https://research.reading.ac.uk/emrc
X-WR-CALDESC:Events for Early Modern Research Centre
REFRESH-INTERVAL;VALUE=DURATION:PT1H
X-Robots-Tag:noindex
X-PUBLISHED-TTL:PT1H
BEGIN:VTIMEZONE
TZID:Europe/London
BEGIN:DAYLIGHT
TZOFFSETFROM:+0000
TZOFFSETTO:+0100
TZNAME:BST
DTSTART:20210328T010000
END:DAYLIGHT
BEGIN:STANDARD
TZOFFSETFROM:+0100
TZOFFSETTO:+0000
TZNAME:GMT
DTSTART:20211031T010000
END:STANDARD
END:VTIMEZONE
BEGIN:VEVENT
DTSTART;TZID=Europe/London:20211206T130000
DTEND;TZID=Europe/London:20211206T140000
DTSTAMP:20260424T081822
CREATED:20210910T141614Z
LAST-MODIFIED:20210910T141647Z
UID:499-1638795600-1638799200@research.reading.ac.uk
SUMMARY:EMRC/SWW Seminars autumn 2021: Dr Polina Ignatova on the soundscapes of ghosts in the early modern imagination
DESCRIPTION:Please join us for the EMRC / SWW early modern seminar on Monday 6 December at 1pm. \nDr Polina Ignatova (Lancaster)\, ‘ “Scratching\, as if by something that had iron talons”: the soundscape of ghosts in the early modern imagination’. \nTo join the seminar\, please email emrc@reading.ac.uk for the link to the Zoom meeting.
URL:https://research.reading.ac.uk/emrc/event/emrc-sww-seminars-autumn-2021-dr-polina-ignatova-on-the-soundscapes-of-ghosts-in-the-early-modern-imagination/
CATEGORIES:Events,Online events,Upcoming events
ORGANIZER;CN="EMRC":MAILTO:emrc@reading.ac.uk
END:VEVENT
END:VCALENDAR