BEGIN:VCALENDAR
VERSION:2.0
PRODID:-//Early Modern Research Centre - ECPv6.0.5//NONSGML v1.0//EN
CALSCALE:GREGORIAN
METHOD:PUBLISH
X-WR-CALNAME:Early Modern Research Centre
X-ORIGINAL-URL:https://research.reading.ac.uk/emrc
X-WR-CALDESC:Events for Early Modern Research Centre
REFRESH-INTERVAL;VALUE=DURATION:PT1H
X-Robots-Tag:noindex
X-PUBLISHED-TTL:PT1H
BEGIN:VTIMEZONE
TZID:Europe/London
BEGIN:DAYLIGHT
TZOFFSETFROM:+0000
TZOFFSETTO:+0100
TZNAME:BST
DTSTART:20220327T010000
END:DAYLIGHT
BEGIN:STANDARD
TZOFFSETFROM:+0100
TZOFFSETTO:+0000
TZNAME:GMT
DTSTART:20221030T010000
END:STANDARD
END:VTIMEZONE
BEGIN:VEVENT
DTSTART;TZID=Europe/London:20221017T130000
DTEND;TZID=Europe/London:20221017T140000
DTSTAMP:20260423T033005
CREATED:20220914T132214Z
LAST-MODIFIED:20220929T152825Z
UID:559-1666011600-1666015200@research.reading.ac.uk
SUMMARY:EMRC / SWW seminar: Harry McCarthy on 'Boy Actors in Early Modern England'
DESCRIPTION:Please join us at 1pm on 17th October when Harry McCarthy will give a talk on ‘Boy Actors in Early Modern England’. \nWe will meet on Zoom: please join our mailing list to receive the link.
URL:https://research.reading.ac.uk/emrc/event/emrc-sww-seminar-harry-mccarthy-on-boy-actors-in-early-modern-england/
CATEGORIES:Events,Online events,Upcoming events,Workshops
ATTACH;FMTTYPE=image/jpeg:https://research.reading.ac.uk/emrc/wp-content/uploads/sites/169/2021/09/Topsell-lion-head-e1632842955717.jpg
ORGANIZER;CN="EMRC":MAILTO:emrc@reading.ac.uk
END:VEVENT
END:VCALENDAR