BEGIN:VCALENDAR
VERSION:2.0
PRODID:-//Early Modern Research Centre - ECPv6.0.5//NONSGML v1.0//EN
CALSCALE:GREGORIAN
METHOD:PUBLISH
X-ORIGINAL-URL:https://research.reading.ac.uk/emrc
X-WR-CALDESC:Events for Early Modern Research Centre
REFRESH-INTERVAL;VALUE=DURATION:PT1H
X-Robots-Tag:noindex
X-PUBLISHED-TTL:PT1H
BEGIN:VTIMEZONE
TZID:Europe/London
BEGIN:DAYLIGHT
TZOFFSETFROM:+0000
TZOFFSETTO:+0100
TZNAME:BST
DTSTART:20240331T010000
END:DAYLIGHT
BEGIN:STANDARD
TZOFFSETFROM:+0100
TZOFFSETTO:+0000
TZNAME:GMT
DTSTART:20241027T010000
END:STANDARD
END:VTIMEZONE
BEGIN:VEVENT
DTSTART;TZID=Europe/London:20241021T130000
DTEND;TZID=Europe/London:20241021T140000
DTSTAMP:20260420T034620
CREATED:20241015T123537Z
LAST-MODIFIED:20241015T123911Z
UID:676-1729515600-1729519200@research.reading.ac.uk
SUMMARY:EMRC online seminar: Liesbeth Corens (Queen Mary)\, ‘English and/or Catholic: Binaries in the Archives of the Seventeenth Century’.
DESCRIPTION:Please join us on 21 November 2024 at 13:00 (UK time) when Liesbeth Corens (Queen Mary) will give a paper entitled ‘English and/or Catholic: Binaries in the Archives of the Seventeenth Century’. \nWe meet online on MS Teams: please sign up to our mailing list or email emrc@reading.ac.uk for the link.
URL:https://research.reading.ac.uk/emrc/event/emrc-online-seminar-liesbeth-corens-queen-mary/
END:VEVENT
END:VCALENDAR