BEGIN:VCALENDAR
VERSION:2.0
PRODID:-//Early Modern Research Centre - ECPv6.0.5//NONSGML v1.0//EN
CALSCALE:GREGORIAN
METHOD:PUBLISH
X-WR-CALNAME:Early Modern Research Centre
X-ORIGINAL-URL:https://research.reading.ac.uk/emrc
X-WR-CALDESC:Events for Early Modern Research Centre
REFRESH-INTERVAL;VALUE=DURATION:PT1H
X-Robots-Tag:noindex
X-PUBLISHED-TTL:PT1H
BEGIN:VTIMEZONE
TZID:Europe/London
BEGIN:DAYLIGHT
TZOFFSETFROM:+0000
TZOFFSETTO:+0100
TZNAME:BST
DTSTART:20240331T010000
END:DAYLIGHT
BEGIN:STANDARD
TZOFFSETFROM:+0100
TZOFFSETTO:+0000
TZNAME:GMT
DTSTART:20241027T010000
END:STANDARD
END:VTIMEZONE
BEGIN:VEVENT
DTSTART;TZID=Europe/London:20241118T130000
DTEND;TZID=Europe/London:20241118T140000
DTSTAMP:20260420T034442
CREATED:20241015T123813Z
LAST-MODIFIED:20241015T123845Z
UID:678-1731934800-1731938400@research.reading.ac.uk
SUMMARY:EMRC online seminar: PhD showcase
DESCRIPTION:Please join us on 18 November 2024 at 13:00 (UK time) for our annual PhD showcase. PhD students at any institution working on any aspect of the early modern world may give a short introduction to their project. Please sign up to speak or attend usign the form below. \nWe meet online on MS Teams: please sign up to our mailing list or email emrc@reading.ac.uk for the link. \n  \n 
URL:https://research.reading.ac.uk/emrc/event/emrc-online-seminar-phd-showcase/
END:VEVENT
END:VCALENDAR