BEGIN:VCALENDAR
VERSION:2.0
PRODID:-//Early Modern Research Centre - ECPv6.0.5//NONSGML v1.0//EN
CALSCALE:GREGORIAN
METHOD:PUBLISH
X-WR-CALNAME:Early Modern Research Centre
X-ORIGINAL-URL:https://research.reading.ac.uk/emrc
X-WR-CALDESC:Events for Early Modern Research Centre
REFRESH-INTERVAL;VALUE=DURATION:PT1H
X-Robots-Tag:noindex
X-PUBLISHED-TTL:PT1H
BEGIN:VTIMEZONE
TZID:Europe/London
BEGIN:DAYLIGHT
TZOFFSETFROM:+0000
TZOFFSETTO:+0100
TZNAME:BST
DTSTART:20250330T010000
END:DAYLIGHT
BEGIN:STANDARD
TZOFFSETFROM:+0100
TZOFFSETTO:+0000
TZNAME:GMT
DTSTART:20251026T010000
END:STANDARD
END:VTIMEZONE
BEGIN:VEVENT
DTSTART;TZID=Europe/London:20250217T130000
DTEND;TZID=Europe/London:20250217T140000
DTSTAMP:20260420T032133
CREATED:20241015T124227Z
LAST-MODIFIED:20241015T124227Z
UID:684-1739797200-1739800800@research.reading.ac.uk
SUMMARY:EMRC online seminar: Michael Bennett (Sheffield)\, ‘Merchant Houses\, London Banks\, and Plantation Development in the Ceded Islands\, 1763-90’.
DESCRIPTION:Please join us on 17 February 2025 at 13:00 (UK time) when Michael Bennett (Sheffield) will give a paper entitled ‘Merchant Houses\, London Banks\, and Plantation Development in the Ceded Islands\, 1763-90’. \nWe meet online on MS Teams: please sign up to our mailing list or email emrc@reading.ac.uk for the link.
URL:https://research.reading.ac.uk/emrc/event/emrc-online-seminar-michael-bennett-sheffield-merchant-houses-london-banks-and-plantation-development-in-the-ceded-islands-1763-90/
END:VEVENT
END:VCALENDAR