BEGIN:VCALENDAR
VERSION:2.0
PRODID:-//Early Modern Research Centre - ECPv6.0.5//NONSGML v1.0//EN
CALSCALE:GREGORIAN
METHOD:PUBLISH
X-ORIGINAL-URL:https://research.reading.ac.uk/emrc
X-WR-CALDESC:Events for Early Modern Research Centre
REFRESH-INTERVAL;VALUE=DURATION:PT1H
X-Robots-Tag:noindex
X-PUBLISHED-TTL:PT1H
BEGIN:VTIMEZONE
TZID:Europe/London
BEGIN:DAYLIGHT
TZOFFSETFROM:+0000
TZOFFSETTO:+0100
TZNAME:BST
DTSTART:20250330T010000
END:DAYLIGHT
BEGIN:STANDARD
TZOFFSETFROM:+0100
TZOFFSETTO:+0000
TZNAME:GMT
DTSTART:20251026T010000
END:STANDARD
END:VTIMEZONE
BEGIN:VEVENT
DTSTART;TZID=Europe/London:20250512T130000
DTEND;TZID=Europe/London:20250512T140000
DTSTAMP:20260420T072308
CREATED:20241015T124558Z
LAST-MODIFIED:20241015T124558Z
UID:690-1747054800-1747058400@research.reading.ac.uk
SUMMARY:EMRC online seminar: Jane Eade (National Trust)\, ‘Mrs Carlile the great paintress’: Rediscovering Joan Carlile (c.1606-79).
DESCRIPTION:Please join us on 12 May 2025 at 13:00 (UK time) when Jane Eade (National Trust) will give a paper entitled ‘Mrs Carlile the great paintress’: Rediscovering Joan Carlile (c.1606-79). \nWe meet online on MS Teams: please sign up to our mailing list or email emrc@reading.ac.uk for the link.
URL:https://research.reading.ac.uk/emrc/event/emrc-online-seminar-jane-eade-national-trust-mrs-carlile-the-great-paintress-rediscovering-joan-carlile-c-1606-79/
END:VEVENT
END:VCALENDAR