BEGIN:VCALENDAR
VERSION:2.0
PRODID:-//Early Modern Research Centre - ECPv6.0.5//NONSGML v1.0//EN
CALSCALE:GREGORIAN
METHOD:PUBLISH
X-ORIGINAL-URL:https://research.reading.ac.uk/emrc
X-WR-CALDESC:Events for Early Modern Research Centre
REFRESH-INTERVAL;VALUE=DURATION:PT1H
X-Robots-Tag:noindex
X-PUBLISHED-TTL:PT1H
BEGIN:VTIMEZONE
TZID:Europe/London
BEGIN:DAYLIGHT
TZOFFSETFROM:+0000
TZOFFSETTO:+0100
TZNAME:BST
DTSTART:20250330T010000
END:DAYLIGHT
BEGIN:STANDARD
TZOFFSETFROM:+0100
TZOFFSETTO:+0000
TZNAME:GMT
DTSTART:20251026T010000
END:STANDARD
BEGIN:DAYLIGHT
TZOFFSETFROM:+0000
TZOFFSETTO:+0100
TZNAME:BST
DTSTART:20260329T010000
END:DAYLIGHT
BEGIN:STANDARD
TZOFFSETFROM:+0100
TZOFFSETTO:+0000
TZNAME:GMT
DTSTART:20261025T010000
END:STANDARD
END:VTIMEZONE
BEGIN:VEVENT
DTSTART;TZID=Europe/London:20251215T130000
DTEND;TZID=Europe/London:20251215T140000
DTSTAMP:20260421T212710
CREATED:20251006T151325Z
LAST-MODIFIED:20251006T152933Z
UID:716-1765803600-1765807200@research.reading.ac.uk
SUMMARY:EMRC online PhD showcase
DESCRIPTION:Please join us on 15 December 2024 at 13:00 (UK time) for our annual PhD showcase. PhD students at any institution working on any aspect of the early modern world may give a short introduction to their project. Please sign up to speak or attend using the form below. \nWe meet online on MS Teams: please sign up to our mailing list or email emrc@reading.ac.uk for the link.
URL:https://research.reading.ac.uk/emrc/event/emrc-online-phd-showcase/
END:VEVENT
BEGIN:VEVENT
DTSTART;TZID=Europe/London:20260216T130000
DTEND;TZID=Europe/London:20260216T140000
DTSTAMP:20260421T212710
CREATED:20260205T164839Z
LAST-MODIFIED:20260205T165014Z
UID:724-1771246800-1771250400@research.reading.ac.uk
SUMMARY:EMRC online seminar: Alanna Skuse (Reading)\, ‘The History of Proof’.
DESCRIPTION:Please join us on 16 February 2026 at 13:00 (UK time) when Alanna Skuse (Reading) will speak on ‘The History of Proof’. \nWe meet online on MS Teams: please sign up to our mailing list or email emrc@reading.ac.uk for the link.
URL:https://research.reading.ac.uk/emrc/event/emrc-online-seminar-alanna-skuse-reading-the-history-of-proof/
END:VEVENT
BEGIN:VEVENT
DTSTART;TZID=Europe/London:20260316T130000
DTEND;TZID=Europe/London:20260316T140000
DTSTAMP:20260421T212710
CREATED:20260205T165002Z
LAST-MODIFIED:20260205T165234Z
UID:726-1773666000-1773669600@research.reading.ac.uk
SUMMARY:EMRC online seminar: Elena Ghiggino (Edge Hill)\, ‘Exploring the Criminality of Black Disabled individuals in the Long Eighteenth Century\, c.1750-1830’.
DESCRIPTION:Please join us on 16 March 2026 at 13:00 (UK time) when Elena Ghiggino (Edge Hill) will speak on ‘Exploring the Criminality of Black Disabled individuals in the Long Eighteenth Century\, c.1750-1830’. \nWe meet online on MS Teams: please sign up to our mailing list or email emrc@reading.ac.uk for the link.
URL:https://research.reading.ac.uk/emrc/event/emrc-online-seminar-elena-ghiggino-edge-hill-exploring-the-criminality-of-black-disabled-individuals-in-the-long-eighteenth-century-c-1750-1830/
END:VEVENT
BEGIN:VEVENT
DTSTART;TZID=Europe/London:20260420T130000
DTEND;TZID=Europe/London:20260420T140000
DTSTAMP:20260421T212710
CREATED:20260205T165213Z
LAST-MODIFIED:20260205T165300Z
UID:729-1776690000-1776693600@research.reading.ac.uk
SUMMARY:EMRC online seminar: Hannah Cotterill (Royal Holloway)\, ‘Why did Shakespeare make Cleopatra Angry?’
DESCRIPTION:Please join us on 20 April 2026 at 13:00 (UK time) when Hannah Cotterill (Royal Holloway) will speak on ‘Why did Shakespeare make Cleopatra Angry?’ \nWe meet online on MS Teams: please sign up to our mailing list or email emrc@reading.ac.uk for the link.
URL:https://research.reading.ac.uk/emrc/event/emrc-online-seminar-hannah-cotterill-royal-holloway-why-did-shakespeare-make-cleopatra-angry/
END:VEVENT
BEGIN:VEVENT
DTSTART;TZID=Europe/London:20260518T130000
DTEND;TZID=Europe/London:20260518T140000
DTSTAMP:20260421T212710
CREATED:20260205T165352Z
LAST-MODIFIED:20260205T165352Z
UID:734-1779109200-1779112800@research.reading.ac.uk
SUMMARY:EMRC online seminar: Craig Lambert and John McAleer (Southampton)\, ‘From Port Books to Big Data: Building and Using the Maritime Britain Voyage Database’.
DESCRIPTION:Please join us on 18 May 2026 at 13:00 (UK time) when Craig Lambert and John McAleer (Southampton) will speak on ‘From Port Books to Big Data: Building and Using the Maritime Britain Voyage Database’. \nWe meet online on MS Teams: please sign up to our mailing list or email emrc@reading.ac.uk for the link.
URL:https://research.reading.ac.uk/emrc/event/emrc-online-seminar-craig-lambert-and-john-mcaleer-southampton-from-port-books-to-big-data-building-and-using-the-maritime-britain-voyage-database/
END:VEVENT
END:VCALENDAR