BEGIN:VCALENDAR
VERSION:2.0
PRODID:-//Early Modern Research Centre - ECPv6.0.5//NONSGML v1.0//EN
CALSCALE:GREGORIAN
METHOD:PUBLISH
X-ORIGINAL-URL:https://research.reading.ac.uk/emrc
X-WR-CALDESC:Events for Early Modern Research Centre
REFRESH-INTERVAL;VALUE=DURATION:PT1H
X-Robots-Tag:noindex
X-PUBLISHED-TTL:PT1H
BEGIN:VTIMEZONE
TZID:Europe/London
BEGIN:DAYLIGHT
TZOFFSETFROM:+0000
TZOFFSETTO:+0100
TZNAME:BST
DTSTART:20220327T010000
END:DAYLIGHT
BEGIN:STANDARD
TZOFFSETFROM:+0100
TZOFFSETTO:+0000
TZNAME:GMT
DTSTART:20221030T010000
END:STANDARD
END:VTIMEZONE
BEGIN:VEVENT
DTSTART;TZID=Europe/London:20220228T130000
DTEND;TZID=Europe/London:20220228T140000
DTSTAMP:20260423T215605
CREATED:20220124T161405Z
LAST-MODIFIED:20220124T161405Z
UID:529-1646053200-1646056800@research.reading.ac.uk
SUMMARY:EMRC / SWW seminars Spring 2022: Oliver Finnegan (National Archives) on digitizing Prize papers\, 1625-1815
DESCRIPTION:Please join us on 28 February when Oliver Finnegan (National Archives) will speak on ‘Digitising Overseas Exchange: Lives and letters from the Prize Papers\, 1625-1815’. \nThe meeting will take place at 1pm on Zoom. Please email emrc@reading.ac.uk for the link.
URL:https://research.reading.ac.uk/emrc/event/emrc-sww-seminars-spring-2022-oliver-finnegan-national-archives-on-digitizing-prize-papers-1625-1815/
ATTACH;FMTTYPE=image/jpeg:https://research.reading.ac.uk/emrc/wp-content/uploads/sites/169/2021/09/Topsell-lion-head-e1632842955717.jpg
ORGANIZER;CN="EMRC":MAILTO:emrc@reading.ac.uk
END:VEVENT
END:VCALENDAR