BEGIN:VCALENDAR
VERSION:2.0
PRODID:-//Early Modern Research Centre - ECPv6.0.5//NONSGML v1.0//EN
CALSCALE:GREGORIAN
METHOD:PUBLISH
X-WR-CALNAME:Early Modern Research Centre
X-ORIGINAL-URL:https://research.reading.ac.uk/emrc
X-WR-CALDESC:Events for Early Modern Research Centre
REFRESH-INTERVAL;VALUE=DURATION:PT1H
X-Robots-Tag:noindex
X-PUBLISHED-TTL:PT1H
BEGIN:VTIMEZONE
TZID:Europe/London
BEGIN:DAYLIGHT
TZOFFSETFROM:+0000
TZOFFSETTO:+0100
TZNAME:BST
DTSTART:20230326T010000
END:DAYLIGHT
BEGIN:STANDARD
TZOFFSETFROM:+0100
TZOFFSETTO:+0000
TZNAME:GMT
DTSTART:20231029T010000
END:STANDARD
END:VTIMEZONE
BEGIN:VEVENT
DTSTART;TZID=Europe/London:20230123T130000
DTEND;TZID=Europe/London:20230123T140000
DTSTAMP:20260422T051027
CREATED:20230117T154805Z
LAST-MODIFIED:20230117T154815Z
UID:606-1674478800-1674482400@research.reading.ac.uk
SUMMARY:EMRC / SWW seminar: Graham Moore and Luke Walters on pirates in the archives.
DESCRIPTION:Please join us on January 23rd at 1pm for two papers: \nGraham Moore\, ‘!To mingle mercy with justice”: pardons\, reprives\, and acquittals in 17th-century pirate trials’ \nand \nLuke Walters\, ‘” I will not be my own murderer”: the scandalous trial of Captain Kidd’. \nWe meet on online. Please email emrc@reading.ac.uk for the link.
URL:https://research.reading.ac.uk/emrc/event/emrc-sww-seminar-graham-moore-and-luke-walters-on-pirates-in-the-archives/
CATEGORIES:Events,Online events,Upcoming events
ATTACH;FMTTYPE=image/jpeg:https://research.reading.ac.uk/emrc/wp-content/uploads/sites/169/2021/09/Topsell-lion-head-e1632842955717.jpg
ORGANIZER;CN="EMRC":MAILTO:emrc@reading.ac.uk
END:VEVENT
END:VCALENDAR