BEGIN:VCALENDAR
VERSION:2.0
PRODID:-//Early Modern Research Centre - ECPv6.0.5//NONSGML v1.0//EN
CALSCALE:GREGORIAN
METHOD:PUBLISH
X-WR-CALNAME:Early Modern Research Centre
X-ORIGINAL-URL:https://research.reading.ac.uk/emrc
X-WR-CALDESC:Events for Early Modern Research Centre
REFRESH-INTERVAL;VALUE=DURATION:PT1H
X-Robots-Tag:noindex
X-PUBLISHED-TTL:PT1H
BEGIN:VTIMEZONE
TZID:Europe/London
BEGIN:DAYLIGHT
TZOFFSETFROM:+0000
TZOFFSETTO:+0100
TZNAME:BST
DTSTART:20230326T010000
END:DAYLIGHT
BEGIN:STANDARD
TZOFFSETFROM:+0100
TZOFFSETTO:+0000
TZNAME:GMT
DTSTART:20231029T010000
END:STANDARD
END:VTIMEZONE
BEGIN:VEVENT
DTSTART;TZID=Europe/London:20230206T130000
DTEND;TZID=Europe/London:20230206T140000
DTSTAMP:20260422T031924
CREATED:20230117T155105Z
LAST-MODIFIED:20230127T094505Z
UID:609-1675688400-1675692000@research.reading.ac.uk
SUMMARY:EMRC / SWW seminars: Philippa Hellawell (TNA)
DESCRIPTION:Please join us on February 6th at 1pm where Philippa Hellawell (The National Archives) will give a paper  on ‘Commercial Experiments and West African Knowledge in the early eighteenth-century Royal African Company’. \nWe meet online. Please sign up to our mailing list or email emrc@reading.ac.uk for the link.
URL:https://research.reading.ac.uk/emrc/event/emrc-sww-seminars-philippa-hellawell-tna/
CATEGORIES:Events,Online events,Upcoming events
ATTACH;FMTTYPE=image/jpeg:https://research.reading.ac.uk/emrc/wp-content/uploads/sites/169/2021/09/Topsell-lion-head-e1632842955717.jpg
ORGANIZER;CN="EMRC":MAILTO:emrc@reading.ac.uk
END:VEVENT
BEGIN:VEVENT
DTSTART;TZID=Europe/London:20230220T130000
DTEND;TZID=Europe/London:20230220T140000
DTSTAMP:20260422T031924
CREATED:20230117T155401Z
LAST-MODIFIED:20230127T094537Z
UID:611-1676898000-1676901600@research.reading.ac.uk
SUMMARY:EMRC / SWW Seminars: Lucy Underwood (Warwick)
DESCRIPTION:Please join us on February 20th at 1pm when Lucy Underwood (Warwick) will give a paper entitled ‘The original (British) priest-harbourer: English Catholics\, St Alban\, and the British past’. \nWe meet online: please sign up to our mailing list or email emrc@reading.ac.uk for the link.
URL:https://research.reading.ac.uk/emrc/event/emrc-sww-seminars-lucy-underwood-warwick/
CATEGORIES:Events,Online events,Upcoming events
ATTACH;FMTTYPE=image/jpeg:https://research.reading.ac.uk/emrc/wp-content/uploads/sites/169/2021/09/Topsell-lion-head-e1632842955717.jpg
ORGANIZER;CN="EMRC":MAILTO:emrc@reading.ac.uk
END:VEVENT
END:VCALENDAR