BEGIN:VCALENDAR
VERSION:2.0
PRODID:-//Early Modern Research Centre - ECPv6.0.5//NONSGML v1.0//EN
CALSCALE:GREGORIAN
METHOD:PUBLISH
X-ORIGINAL-URL:https://research.reading.ac.uk/emrc
X-WR-CALDESC:Events for Early Modern Research Centre
REFRESH-INTERVAL;VALUE=DURATION:PT1H
X-Robots-Tag:noindex
X-PUBLISHED-TTL:PT1H
BEGIN:VTIMEZONE
TZID:Europe/London
BEGIN:DAYLIGHT
TZOFFSETFROM:+0000
TZOFFSETTO:+0100
TZNAME:BST
DTSTART:20230326T010000
END:DAYLIGHT
BEGIN:STANDARD
TZOFFSETFROM:+0100
TZOFFSETTO:+0000
TZNAME:GMT
DTSTART:20231029T010000
END:STANDARD
END:VTIMEZONE
BEGIN:VEVENT
DTSTART;TZID=Europe/London:20230515T130000
DTEND;TZID=Europe/London:20230515T140000
DTSTAMP:20260421T221349
CREATED:20230426T135401Z
LAST-MODIFIED:20231009T121135Z
UID:634-1684155600-1684159200@research.reading.ac.uk
SUMMARY:EMRC / SWW Seminars: Rachel Foxley (Reading)
DESCRIPTION:Please join us on May 15th at 1pm when Rachel Foxley (Reading) will give a paper entitled ‘Political Polarisation in the English Civil War: A Digital Humanities Approach’. \nWe meet online: please sign up to our mailing list or email emrc@reading.ac.uk for the link.
URL:https://research.reading.ac.uk/emrc/event/emrc-sww-seminars-rachel-foxley-reading/
CATEGORIES:Events,Online events,Upcoming events
END:VEVENT
END:VCALENDAR