BEGIN:VCALENDAR
VERSION:2.0
PRODID:-//Early Modern Research Centre - ECPv6.0.5//NONSGML v1.0//EN
CALSCALE:GREGORIAN
METHOD:PUBLISH
X-WR-CALNAME:Early Modern Research Centre
X-ORIGINAL-URL:https://research.reading.ac.uk/emrc
X-WR-CALDESC:Events for Early Modern Research Centre
REFRESH-INTERVAL;VALUE=DURATION:PT1H
X-Robots-Tag:noindex
X-PUBLISHED-TTL:PT1H
BEGIN:VTIMEZONE
TZID:Europe/London
BEGIN:DAYLIGHT
TZOFFSETFROM:+0000
TZOFFSETTO:+0100
TZNAME:BST
DTSTART:20230326T010000
END:DAYLIGHT
BEGIN:STANDARD
TZOFFSETFROM:+0100
TZOFFSETTO:+0000
TZNAME:GMT
DTSTART:20231029T010000
END:STANDARD
END:VTIMEZONE
BEGIN:VEVENT
DTSTART;TZID=Europe/London:20231016T130000
DTEND;TZID=Europe/London:20231016T140000
DTSTAMP:20260420T184629
CREATED:20231005T144440Z
LAST-MODIFIED:20231009T121155Z
UID:641-1697461200-1697464800@research.reading.ac.uk
SUMMARY:EMRC / SWW Seminars: Tyler Rainford (Bristol)
DESCRIPTION:Please join us on 16 October 2023 at 1pm when Tyler Rainford (Bristol) will give a paper entitled ‘Alcohol\, Intoxication\, and Diary-Keeping in England\, 1660-1760’. \nWe meet online: please sign up to our mailing list or email emrc@reading.ac.uk for the link.
URL:https://research.reading.ac.uk/emrc/event/emrc-sww-seminars-tyler-rainford-bristol/
CATEGORIES:Events,Online events,Upcoming events
END:VEVENT
END:VCALENDAR