BEGIN:VCALENDAR
VERSION:2.0
PRODID:-//Early Modern Research Centre - ECPv6.0.5//NONSGML v1.0//EN
CALSCALE:GREGORIAN
METHOD:PUBLISH
X-WR-CALNAME:Early Modern Research Centre
X-ORIGINAL-URL:https://research.reading.ac.uk/emrc
X-WR-CALDESC:Events for Early Modern Research Centre
REFRESH-INTERVAL;VALUE=DURATION:PT1H
X-Robots-Tag:noindex
X-PUBLISHED-TTL:PT1H
BEGIN:VTIMEZONE
TZID:Europe/London
BEGIN:DAYLIGHT
TZOFFSETFROM:+0000
TZOFFSETTO:+0100
TZNAME:BST
DTSTART:20240331T010000
END:DAYLIGHT
BEGIN:STANDARD
TZOFFSETFROM:+0100
TZOFFSETTO:+0000
TZNAME:GMT
DTSTART:20241027T010000
END:STANDARD
END:VTIMEZONE
BEGIN:VEVENT
DTSTART;TZID=Europe/London:20241216T130000
DTEND;TZID=Europe/London:20241216T140000
DTSTAMP:20260420T071025
CREATED:20241015T124022Z
LAST-MODIFIED:20241015T134214Z
UID:681-1734354000-1734357600@research.reading.ac.uk
SUMMARY:EMRC online seminar: Christopher Marsh (Queen's University\, Belfast) and Angela McShane (Warwick)\, ‘Hit Songs of the Seventeenth Century: Introducing the 100 Ballads Project’.
DESCRIPTION:Please join us on 16 December 2024 at 13:00 (UK time) when Christopher Marsh (Queen’s University\, Belfast) and Angela McShane (Warwick) will give a paper entitled ‘Hit Songs of the Seventeenth Century: Introducing the 100 Ballads Project’. \nWe meet online on MS Teams: please sign up to our mailing list or email emrc@reading.ac.uk for the link.
URL:https://research.reading.ac.uk/emrc/event/681/
END:VEVENT
END:VCALENDAR