BEGIN:VCALENDAR
VERSION:2.0
PRODID:-//Early Modern Research Centre - ECPv6.0.5//NONSGML v1.0//EN
CALSCALE:GREGORIAN
METHOD:PUBLISH
X-WR-CALNAME:Early Modern Research Centre
X-ORIGINAL-URL:https://research.reading.ac.uk/emrc
X-WR-CALDESC:Events for Early Modern Research Centre
REFRESH-INTERVAL;VALUE=DURATION:PT1H
X-Robots-Tag:noindex
X-PUBLISHED-TTL:PT1H
BEGIN:VTIMEZONE
TZID:Europe/London
BEGIN:DAYLIGHT
TZOFFSETFROM:+0000
TZOFFSETTO:+0100
TZNAME:BST
DTSTART:20250330T010000
END:DAYLIGHT
BEGIN:STANDARD
TZOFFSETFROM:+0100
TZOFFSETTO:+0000
TZNAME:GMT
DTSTART:20251026T010000
END:STANDARD
END:VTIMEZONE
BEGIN:VEVENT
DTSTART;TZID=Europe/London:20251110T130000
DTEND;TZID=Europe/London:20251110T140000
DTSTAMP:20260420T053905
CREATED:20251006T153056Z
LAST-MODIFIED:20251107T105540Z
UID:718-1762779600-1762783200@research.reading.ac.uk
SUMMARY:EMRC online seminar: Graham Moore (The National Archives)\, ‘The Revolution Will Be Documented: Curating the American Revolution Exhibition at The National Archives’.
DESCRIPTION:Please join us on 10 November 2025 at 13:00 (UK time) when Graham Moore (The National Archives) will speak on ‘The Revolution Will Be Documented: Curating the American Revolution Exhibition at The National Archives’. \nWe meet online on MS Teams: please sign up to our mailing list or email emrc@reading.ac.uk for the link.
URL:https://research.reading.ac.uk/emrc/event/emrc-online-seminar-graham-moore-the-national-archives-the-revolution-will-be-documented-curating-the-american-revolution-exhibition-at-the-national-archives/
END:VEVENT
BEGIN:VEVENT
DTSTART;TZID=Europe/London:20251124T160000
DTEND;TZID=Europe/London:20251124T170000
DTSTAMP:20260420T053905
CREATED:20251006T150953Z
LAST-MODIFIED:20251006T153123Z
UID:714-1764000000-1764003600@research.reading.ac.uk
SUMMARY:EMRC online seminar: Giovanni Tortoriello (Martin-Luther-Universität Halle-Wittenberg)\, ‘Scala Christus est: Reassessing the Historical Context of Martin Luther 's Theology of the Cross’.
DESCRIPTION:Please join us on 24 November 2025 at 16:00 (UK time) when Giovanni Tortoriello (Martin-Luther-Universität Halle-Wittenberg) will speak on ‘Scala Christus est: Reassessing the Historical Context of Martin Luther ‘s Theology of the Cross’ \nWe meet online on MS Teams: please sign up to our mailing list or email emrc@reading.ac.uk for the link.
URL:https://research.reading.ac.uk/emrc/event/emrc-online-seminar-giovanni-tortoriello-martin-luther-universitat-halle-wittenberg-scala-christus-est-reassessing-the-historical-context-of-martin-luther-s-theology-of-the-cross/
END:VEVENT
END:VCALENDAR