BEGIN:VCALENDAR
VERSION:2.0
PRODID:-//Global Development Research - ECPv6.0.5//NONSGML v1.0//EN
CALSCALE:GREGORIAN
METHOD:PUBLISH
X-ORIGINAL-URL:https://research.reading.ac.uk/global-development
X-WR-CALDESC:Events for Global Development Research
REFRESH-INTERVAL;VALUE=DURATION:PT1H
X-Robots-Tag:noindex
X-PUBLISHED-TTL:PT1H
BEGIN:VTIMEZONE
TZID:Europe/London
BEGIN:DAYLIGHT
TZOFFSETFROM:+0000
TZOFFSETTO:+0100
TZNAME:BST
DTSTART:20250330T010000
END:DAYLIGHT
BEGIN:STANDARD
TZOFFSETFROM:+0100
TZOFFSETTO:+0000
TZNAME:GMT
DTSTART:20251026T010000
END:STANDARD
END:VTIMEZONE
BEGIN:VEVENT
DTSTART;TZID=Europe/London:20250604T090000
DTEND;TZID=Europe/London:20250604T160000
DTSTAMP:20260421T110238
CREATED:20250528T155430Z
LAST-MODIFIED:20250528T155638Z
UID:1444-1749027600-1749052800@research.reading.ac.uk
SUMMARY:Department of International Development Postgraduate Research Conference
DESCRIPTION:On behalf of the School of Agriculture\, Policy and Development at the University of Reading\, we are pleased to invite you to our upcoming Postgraduate Research Conference organised by the Department of International Development\, taking place on Wednesday\, 4th June 2024\, from 9:00 AM to 4:00 PM BST. You are welcome to attend either in person or online via the Microsoft Teams link provided below. \nJoin the meeting now \nMeeting ID: 369 998 075 918 3 \nPasscode: X2VS2Cy3 \nThis conference will showcase innovative research from PhD researchers at the Department of International Development\, highlighting work that contributes meaningfully to the field of International Development globally. In addition to a keynote speech by Prof. Uma Kambhampati\, president of the Development Studies Association (DSA) and Head of the School of Politics Economics and International Relations\, a panel of experts will delve deeper into various research topics with a question-and-answer session to close out the conference. \nPlease see poster below for details: \n \nWe look forward to welcoming you to the conference.
URL:https://research.reading.ac.uk/global-development/event/department-of-international-development-postgraduate-research-conference/
LOCATION:Agriculture Buiilding 1L08
END:VEVENT
END:VCALENDAR