BEGIN:VCALENDAR
VERSION:2.0
PRODID:-//Centre for Health Humanities - ECPv6.0.5//NONSGML v1.0//EN
CALSCALE:GREGORIAN
METHOD:PUBLISH
X-WR-CALNAME:Centre for Health Humanities
X-ORIGINAL-URL:https://research.reading.ac.uk/health-humanities
X-WR-CALDESC:Events for Centre for Health Humanities
REFRESH-INTERVAL;VALUE=DURATION:PT1H
X-Robots-Tag:noindex
X-PUBLISHED-TTL:PT1H
BEGIN:VTIMEZONE
TZID:Europe/London
BEGIN:DAYLIGHT
TZOFFSETFROM:+0000
TZOFFSETTO:+0100
TZNAME:BST
DTSTART:20210328T010000
END:DAYLIGHT
BEGIN:STANDARD
TZOFFSETFROM:+0100
TZOFFSETTO:+0000
TZNAME:GMT
DTSTART:20211031T010000
END:STANDARD
BEGIN:DAYLIGHT
TZOFFSETFROM:+0000
TZOFFSETTO:+0100
TZNAME:BST
DTSTART:20220327T010000
END:DAYLIGHT
BEGIN:STANDARD
TZOFFSETFROM:+0100
TZOFFSETTO:+0000
TZNAME:GMT
DTSTART:20221030T010000
END:STANDARD
BEGIN:DAYLIGHT
TZOFFSETFROM:+0000
TZOFFSETTO:+0100
TZNAME:BST
DTSTART:20230326T010000
END:DAYLIGHT
BEGIN:STANDARD
TZOFFSETFROM:+0100
TZOFFSETTO:+0000
TZNAME:GMT
DTSTART:20231029T010000
END:STANDARD
BEGIN:DAYLIGHT
TZOFFSETFROM:+0000
TZOFFSETTO:+0100
TZNAME:BST
DTSTART:20240331T010000
END:DAYLIGHT
BEGIN:STANDARD
TZOFFSETFROM:+0100
TZOFFSETTO:+0000
TZNAME:GMT
DTSTART:20241027T010000
END:STANDARD
BEGIN:DAYLIGHT
TZOFFSETFROM:+0000
TZOFFSETTO:+0100
TZNAME:BST
DTSTART:20250330T010000
END:DAYLIGHT
BEGIN:STANDARD
TZOFFSETFROM:+0100
TZOFFSETTO:+0000
TZNAME:GMT
DTSTART:20251026T010000
END:STANDARD
END:VTIMEZONE
BEGIN:VEVENT
DTSTART;TZID=Europe/London:20250305T080000
DTEND;TZID=Europe/London:20250531T170000
DTSTAMP:20260423T004014
CREATED:20250305T180439Z
LAST-MODIFIED:20250305T180439Z
UID:918-1741161600-1748710800@research.reading.ac.uk
SUMMARY:CHH online seminar series
DESCRIPTION:To get a Teams link to the seminars\, email chh@reading.ac.uk \n26 March 2025: Dr Élaina Gauthier-Mamaril (University of Sheffield) \n9 April 2025: Dr Janet Weston (London School of Hygiene & Tropical Medicine)\, ‘Immoral\, unjust\, and simply ruining the nation: public health law and public fury in post-war Britain’ \n23 April 2025: Dr Ailise Bulfin and Giulia Scapin (University College Dublin)\, ‘Investigating fictional representations of child sexual abuse and using the Shared Reading method to work with people with difficult lived experiences’ \n14 May 2025: Dr Clare Hickman (Newcastle University) (TBD)
URL:https://research.reading.ac.uk/health-humanities/event/chh-online-seminar-series/
LOCATION:Online
END:VEVENT
BEGIN:VEVENT
DTSTART;TZID=Europe/London:20231205T180000
DTEND;TZID=Europe/London:20231205T200000
DTSTAMP:20260423T004014
CREATED:20230614T124651Z
LAST-MODIFIED:20230614T124651Z
UID:826-1701799200-1701806400@research.reading.ac.uk
SUMMARY:Under the Bed and Among the Dead: Monsters in Ancient Egypt
DESCRIPTION:[vc_row][vc_column][vc_column_text] \nUnder the Bed and Among the Dead: Monsters in Ancient Egypt \nLocation: Reading Museum \n5 December 2023\, 6pm \nLearn from Dr Jordan Miller from the University of Cambridge about the fearsome qualities of some famous (and lesser-known) supernatural beings from ancient Egypt\, the situations in which ancient Egyptians encountered them\, and whether we might call them monsters. \n[/vc_column_text][/vc_column][/vc_row]
URL:https://research.reading.ac.uk/health-humanities/event/under-the-bed-and-among-the-dead-monsters-in-ancient-egypt/
LOCATION:Reading Museum\, Blagrave Street\, Reading\, RG1 1HQ\, United Kingdom
ATTACH;FMTTYPE=image/jpeg:https://research.reading.ac.uk/health-humanities/wp-content/uploads/sites/97/2023/06/Miller-scaled.jpg
END:VEVENT
BEGIN:VEVENT
DTSTART;TZID=Europe/London:20231125T150000
DTEND;TZID=Europe/London:20231125T170000
DTSTAMP:20260423T004014
CREATED:20230614T124404Z
LAST-MODIFIED:20230614T124404Z
UID:823-1700924400-1700931600@research.reading.ac.uk
SUMMARY:Player vs. Monster: The Making and Breaking of Video Game Monstrosity
DESCRIPTION:[vc_row][vc_column][vc_column_text] \nPlayer vs. Monster: The Making and Breaking of Video Game Monstrosity \nLocation: Reading Museum \n25 November 2023\, 3pm \nVideo games seem to teach us that monsters must be fought and can be defeated. Join Dr Jarosłav Švelch from Charles University in Prague to explore how this came to be. Do games offer potential for more nuanced representations of monstrosity? \n[/vc_column_text][/vc_column][/vc_row]
URL:https://research.reading.ac.uk/health-humanities/event/player-vs-monster-the-making-and-breaking-of-video-game-monstrosity/
LOCATION:Reading Museum\, Blagrave Street\, Reading\, RG1 1HQ\, United Kingdom
ATTACH;FMTTYPE=image/jpeg:https://research.reading.ac.uk/health-humanities/wp-content/uploads/sites/97/2023/06/Svelch.jpg
END:VEVENT
BEGIN:VEVENT
DTSTART;TZID=Europe/London:20231107T180000
DTEND;TZID=Europe/London:20231107T200000
DTSTAMP:20260423T004014
CREATED:20230614T123911Z
LAST-MODIFIED:20230614T123911Z
UID:820-1699380000-1699387200@research.reading.ac.uk
SUMMARY:Sensation or Science? Monsters Ancient and Modern
DESCRIPTION:[vc_row][vc_column][vc_column_text]Sensation or Science? Monsters Ancient and Modern \nLocation: Reading Museum \n7 November 2023\, 6pm \nJoin Professors Emma Aston and Andrew Mangham from the University of Reading to explore how Classical myths worked their way into the monster science and monster stories of the modern period. \n[/vc_column_text][/vc_column][/vc_row]
URL:https://research.reading.ac.uk/health-humanities/event/sensation-or-science-monsters-ancient-and-modern/
LOCATION:Reading Museum\, Blagrave Street\, Reading\, RG1 1HQ\, United Kingdom
ATTACH;FMTTYPE=image/jpeg:https://research.reading.ac.uk/health-humanities/wp-content/uploads/sites/97/2023/06/Aston-and-Mangham.jpg
END:VEVENT
BEGIN:VEVENT
DTSTART;TZID=Europe/London:20231010T180000
DTEND;TZID=Europe/London:20231010T200000
DTSTAMP:20260423T004014
CREATED:20230614T123656Z
LAST-MODIFIED:20230614T123656Z
UID:817-1696960800-1696968000@research.reading.ac.uk
SUMMARY:Making Mutants: How and Why We Break Genes on Purpose
DESCRIPTION:[vc_row][vc_column][vc_column_text] \nMaking Mutants: How and Why We Break Genes on Purpose \nLocation: Reading Museum \n10 October 2023\, 6pm. \nJoin Dr Louise Johnson from the Department of Ecology and Evolutionary Biology at the University of Reading to explore how mutation in genetic research is helping to identify and understand the building blocks of life.[/vc_column_text][/vc_column][/vc_row]
URL:https://research.reading.ac.uk/health-humanities/event/making-mutants-how-and-why-we-break-genes-on-purpose/
LOCATION:Reading Museum\, Blagrave Street\, Reading\, RG1 1HQ\, United Kingdom
ATTACH;FMTTYPE=image/jpeg:https://research.reading.ac.uk/health-humanities/wp-content/uploads/sites/97/2023/06/Johnson.jpg
END:VEVENT
BEGIN:VEVENT
DTSTART;VALUE=DATE:20230923
DTEND;VALUE=DATE:20240225
DTSTAMP:20260423T004014
CREATED:20230602T131431Z
LAST-MODIFIED:20230605T132051Z
UID:809-1695427200-1708819199@research.reading.ac.uk
SUMMARY:In the Company of Monsters: New Visions\, Ancient Myths
DESCRIPTION:Free exhibition \n23 September 2023 – 24 February 2024 \nReading Museum \nIn the Company of Monsters: New Visions\, Ancient Myths will be an exhibition of the works of the contemporary artists Eleanor Crook and Paul Reid\, alongside objects\, texts\, and artworks from the University of Reading and Reading Museum. Brought together for the first time\, these detailed and striking works share an interest in retelling ancient myths of body difference\, diversity\, and hybridity. Inspired by the enduring dreams\, or nightmares\, of bodily ‘otherness’\, the weird and wonderful creatures portrayed in this unique exhibition will ask vital questions about humanity’s place in nature\, the biological and artistic meanings of diversity and difference\, and the vital role that history plays in our understandings of the dynamic workings of natural history. \nEleanor Crook is a British sculptor with a special interest in mortality\, anatomy and pathology\, who exhibits internationally in fine art and medical and science museum contexts. She studied Classics and Philosophy at Oxford before training in sculpture at Central St Martins and the Royal Academy Schools in the early 90s\, where she specialised in wax modeling\, lost wax bronze casting and other lifelike media. She pieced together a knowledge of Anatomy from London’s medical museums and the dissection room as a medical artist\, finding figurative art to be not in favour at the time; even so\, her Classical background meant that communing with statues\, and therefore the body\, were second nature. Crook considers her work ‘more effigy than statue’\, as they are imbued with a convincing sense of life. She has developed close\, long-term collaborations with medical museums and historic anatomical wax collections such as the Gordon Museum of Pathology\, Guy’s Hospital\, Ghent University Museum\, and the Vrolik Museum Amsterdam\, where she continues wax modeling traditions and combines research through human dissection and studying the history of anatomical model-making. Most recently\, she has worked with museum project partners on creating a genre of anatomical Expressionism\, uncanny yet rooted in medical investigation\, mythology\, and the mysteries of the mind. To learn more about Eleanor Crook\, her work\, and find selected art for sale\, visit https://www.eleanorcrook.net  \n \nPaul Reid was born in Scone\, Perth\, in 1975.  Between 1994 and 1998\, he studied at Duncan of Jordanstone College of Art\, Dundee\, where he obtained First Class honours in drawing and painting.  Since then his work has been part of a number of major exhibitions\, in Scotland and northern England in particular\, but also in Europe.  He has accompanied the then Prince of Wales on visits to Italy\, Turkey\, Jordan and Canada\, drawing and painting the landscapes and people encountered.  He is firmly established as an artist who combines technical mastery with striking new visions of ancient myths. On the face of it\, Reid’s work is traditional in medium (oil; charcoal)\, though he has more recently moved into the use of digital technology.  Within the traditional aesthetic\, however\, lies a world of the unexpected: uncanny hybrids of human and animal; juxtapositions of ancient myths with modern landscapes\, faces\, buildings.  Central to every work is storytelling: characters from Greek mythology are caught at tense moments in their narrative\, at some point of shocked discovery or on the very edge of violence; or else they pause in strange stillness\, allowed a moment’s repose even as the next (perhaps final) act of the mythical drama impends.  The seated Minotaur is a perfect example: he sits easily\, casually\, but the ancient story dictates what is shortly to befall him.  To work with ancient myths is to work with stories that have been told and retold for millennia.  This is not to say that they cannot be reshaped; they always have been.  Reid’s reshapings are subtle\, but they leave the viewer in no doubt that ancient men\, women\, monsters and gods have a place in the modern world as they did in the distant world that first created them.To learn more about Paul Reid and his work\, and find selected art for sale\, visit: https://www.paulreidart.co.uk/
URL:https://research.reading.ac.uk/health-humanities/event/new-visions-ancient-myths/
LOCATION:Reading Museum\, Blagrave Street\, Reading\, RG1 1HQ\, United Kingdom
ATTACH;FMTTYPE=image/png:https://research.reading.ac.uk/health-humanities/wp-content/uploads/sites/97/2023/06/new-visions-ancient-myths.png
END:VEVENT
BEGIN:VEVENT
DTSTART;TZID=Europe/London:20230824T183000
DTEND;TZID=Europe/London:20230824T200000
DTSTAMP:20260423T004014
CREATED:20230714T115037Z
LAST-MODIFIED:20230714T115037Z
UID:832-1692901800-1692907200@research.reading.ac.uk
SUMMARY:How did monsters help unlock the secrets of life?
DESCRIPTION:Monsters have existed in literature and science for centuries\, but they’re more than just a source of fear. They also act as a crucial key to unlocking the mysteries of life. \nJoin Professor of Victorian Literature\, Andrew Mangham\, as he traces the development of the idea of monsters from Mary Shelley’s Frankenstein to Comte de Buffon’s natural history\, and Hugo de Vries’ mutation theory. \nDiscover how these ground-breaking thinkers challenged traditional notions of normality and helped lay the foundation for modern biology and genetics. Uncover the connections between literature\, science\, and the changing perception of monsters\, and how this sheds light on the significance of body difference and diversity in the natural world. And do it all in the very same Theatre where Mary Shelley got ideas for her seminal book! \nThrough his in-depth analysis of the works of these innovative thinkers\, Andrew reveals the transformative power of monsters and their role in shaping our understanding of life. \nCopies of Andrew’s latest book\, We Are All Monsters: How Deviant Organisms Came to Define Us\, are available to purchase after the talk. \nBook via the Royal Institution website.
URL:https://research.reading.ac.uk/health-humanities/event/how-did-monsters-help-unlock-the-secrets-of-life/
LOCATION:The Royal Institution\, 21 Albemarle Street\, London\, W1S 4BS\, United Kingdom
ATTACH;FMTTYPE=image/jpeg:https://research.reading.ac.uk/health-humanities/wp-content/uploads/sites/97/2023/07/andrew-mangham-monsters.jpg
END:VEVENT
BEGIN:VEVENT
DTSTART;VALUE=DATE:20220906
DTEND;VALUE=DATE:20220908
DTSTAMP:20260423T004014
CREATED:20220107T165637Z
LAST-MODIFIED:20220301T025412Z
UID:757-1662422400-1662595199@research.reading.ac.uk
SUMMARY:The Past as Nightmare
DESCRIPTION:[vc_row][vc_column][vc_column_text]The Past as Nightmare\nAn interdisciplinary conference at the University of Reading (UK)\n6-7 September 2022 \nKeynote speakers: Dr Ailise Bulfin & Professor Laurence Talairach \nThe gothic has a complex relationship with the past\, and with history as a discipline. Much of the early body of gothic fiction is set in the past\, often in the form of ‘found’ historical documents\, whilst the past also functions as an inescapable nemesis\, returning to haunt modernity. How is the past as a concept and as haunting interpreted in gothic horror literature? How is the discipline of history itself\, and the historian or antiquarian as an individual\, portrayed in the gothic mode? \nRegistration is open. \nFor further details on the event\, please contact a.s.mangham@reading.ac.uk \nImage credit: Linnea Sandbakk\n[/vc_column_text][/vc_column][/vc_row]
URL:https://research.reading.ac.uk/health-humanities/event/the-past-as-nightmare/
ORGANIZER;CN="Andrew%20Mangham":MAILTO:a.s.mangham@reading.ac.uk
END:VEVENT
BEGIN:VEVENT
DTSTART;TZID=Europe/London:20210324T130000
DTEND;TZID=Europe/London:20210324T140000
DTSTAMP:20260423T004014
CREATED:20210113T084324Z
LAST-MODIFIED:20210113T084324Z
UID:668-1616590800-1616594400@research.reading.ac.uk
SUMMARY:CHH Online Seminars
DESCRIPTION:Janet Walls\, ‘The Zodiac Sign as Body in the Late Medieval Period’ \n Tom Mills\, ‘Medieval Leprosy and Bioarchaeology: The Body as a Physical Sign’ \nClaire Collins\, ‘Secreta mulierum? The not so private signs of pregnancy in late medieval England’ \nTo join\, email a.s.mangham@reading.ac.uk \nPlease click here to see the other seminars in our series \nFollow us on Twitter @healthhums
URL:https://research.reading.ac.uk/health-humanities/event/chh-online-seminars-4/
LOCATION:Online
ORGANIZER;CN="Andrew%20Mangham":MAILTO:a.s.mangham@reading.ac.uk
END:VEVENT
BEGIN:VEVENT
DTSTART;TZID=Europe/London:20210310T130000
DTEND;TZID=Europe/London:20210310T140000
DTSTAMP:20260423T004014
CREATED:20210113T084240Z
LAST-MODIFIED:20210113T084240Z
UID:666-1615381200-1615384800@research.reading.ac.uk
SUMMARY:CHH Online Seminars
DESCRIPTION:Ericka Johnson (Linköping University)\, ‘A Cultural Biography of the Prostate’ \nTo join\, email a.s.mangham@reading.ac.uk \nPlease click here to see the other seminars in our series \nFollow us on Twitter @healthhums
URL:https://research.reading.ac.uk/health-humanities/event/chh-online-seminars-3/
LOCATION:Online
ORGANIZER;CN="Andrew%20Mangham":MAILTO:a.s.mangham@reading.ac.uk
END:VEVENT
BEGIN:VEVENT
DTSTART;TZID=Europe/London:20210210T130000
DTEND;TZID=Europe/London:20210210T140000
DTSTAMP:20260423T004014
CREATED:20210113T084155Z
LAST-MODIFIED:20210113T084155Z
UID:660-1612962000-1612965600@research.reading.ac.uk
SUMMARY:CHH Online Seminars
DESCRIPTION:Emily Cock (Cardiff)\, Facial Disfigurement and Madness in Early Modern Britain: Reconsidering Arise Evans \nTo join\, email a.s.mangham@reading.ac.uk \nPlease click here to see the other seminars in our series \nFollow us on Twitter @healthhums
URL:https://research.reading.ac.uk/health-humanities/event/chh-online-seminars-2/
LOCATION:Online
ORGANIZER;CN="Andrew%20Mangham":MAILTO:a.s.mangham@reading.ac.uk
END:VEVENT
BEGIN:VEVENT
DTSTART;TZID=Europe/London:20210127T130000
DTEND;TZID=Europe/London:20210127T140000
DTSTAMP:20260423T004014
CREATED:20210113T082546Z
LAST-MODIFIED:20210113T084029Z
UID:655-1611752400-1611756000@research.reading.ac.uk
SUMMARY:CHH Online Seminars
DESCRIPTION:Amy Austin\, ‘The Role of the Body in Transgender Identities\, 1940-’60’ \nSarra Bouabdeli\, ‘Body as a Sign in Virtual Reality’ \nTo join\, email a.s.mangham@reading.ac.uk \nPlease click here to see the other seminars in our series \nFollow us on Twitter @healthhums
URL:https://research.reading.ac.uk/health-humanities/event/chh-online-seminars/
LOCATION:Online
ORGANIZER;CN="Andrew%20Mangham":MAILTO:a.s.mangham@reading.ac.uk
END:VEVENT
END:VCALENDAR