BEGIN:VCALENDAR
VERSION:2.0
PRODID:-//Law Research - ECPv6.0.5//NONSGML v1.0//EN
CALSCALE:GREGORIAN
METHOD:PUBLISH
X-WR-CALNAME:Law Research
X-ORIGINAL-URL:https://research.reading.ac.uk/law
X-WR-CALDESC:Events for Law Research
REFRESH-INTERVAL;VALUE=DURATION:PT1H
X-Robots-Tag:noindex
X-PUBLISHED-TTL:PT1H
BEGIN:VTIMEZONE
TZID:Europe/London
BEGIN:DAYLIGHT
TZOFFSETFROM:+0000
TZOFFSETTO:+0100
TZNAME:BST
DTSTART:20230326T010000
END:DAYLIGHT
BEGIN:STANDARD
TZOFFSETFROM:+0100
TZOFFSETTO:+0000
TZNAME:GMT
DTSTART:20231029T010000
END:STANDARD
END:VTIMEZONE
BEGIN:VEVENT
DTSTART;TZID=Europe/London:20230927T134500
DTEND;TZID=Europe/London:20230928T153000
DTSTAMP:20260420T044634
CREATED:20230919T123436Z
LAST-MODIFIED:20230922T145657Z
UID:2348-1695822300-1695915000@research.reading.ac.uk
SUMMARY:THE BIENNIAL MODERN STUDIES IN COMMERCIAL LAW CONFERENCE
DESCRIPTION:Organised by: \nProfessor James Devenney (University of Reading) \nProfessor Baris Soyer (Swansea University) \nDr Andrea Miglionico (University of Reading) \n\n\n\n\n\n\nVenue: Meadow Suite\, Park House\, University of Reading – #8 on this map: \n \nView the full schedule of events here.
URL:https://research.reading.ac.uk/law/event/the-biennial-modern-studies-in-commercial-law-conference/
CATEGORIES:General
END:VEVENT
END:VCALENDAR