BEGIN:VCALENDAR
VERSION:2.0
PRODID:-//Law Research - ECPv6.0.5//NONSGML v1.0//EN
CALSCALE:GREGORIAN
METHOD:PUBLISH
X-WR-CALNAME:Law Research
X-ORIGINAL-URL:https://research.reading.ac.uk/law
X-WR-CALDESC:Events for Law Research
REFRESH-INTERVAL;VALUE=DURATION:PT1H
X-Robots-Tag:noindex
X-PUBLISHED-TTL:PT1H
BEGIN:VTIMEZONE
TZID:Europe/London
BEGIN:DAYLIGHT
TZOFFSETFROM:+0000
TZOFFSETTO:+0100
TZNAME:BST
DTSTART:20230326T010000
END:DAYLIGHT
BEGIN:STANDARD
TZOFFSETFROM:+0100
TZOFFSETTO:+0000
TZNAME:GMT
DTSTART:20231029T010000
END:STANDARD
END:VTIMEZONE
BEGIN:VEVENT
DTSTART;TZID=Europe/London:20231129T120000
DTEND;TZID=Europe/London:20231129T130000
DTSTAMP:20260420T043945
CREATED:20230907T082758Z
LAST-MODIFIED:20230907T100049Z
UID:2329-1701259200-1701262800@research.reading.ac.uk
SUMMARY:Tyrannicide: What's Love Got to Do With It?
DESCRIPTION:Professor Aoife O’Donoghue (Queen’s University Belfast) \n  \nOnline:  Click here to join the meeting
URL:https://research.reading.ac.uk/law/event/tyrannicide-whats-love-got-to-do-with-it/
CATEGORIES:General
END:VEVENT
END:VCALENDAR