BEGIN:VCALENDAR
VERSION:2.0
PRODID:-//Law Research - ECPv6.0.5//NONSGML v1.0//EN
CALSCALE:GREGORIAN
METHOD:PUBLISH
X-WR-CALNAME:Law Research
X-ORIGINAL-URL:https://research.reading.ac.uk/law
X-WR-CALDESC:Events for Law Research
REFRESH-INTERVAL;VALUE=DURATION:PT1H
X-Robots-Tag:noindex
X-PUBLISHED-TTL:PT1H
BEGIN:VTIMEZONE
TZID:Europe/London
BEGIN:DAYLIGHT
TZOFFSETFROM:+0000
TZOFFSETTO:+0100
TZNAME:BST
DTSTART:20240331T010000
END:DAYLIGHT
BEGIN:STANDARD
TZOFFSETFROM:+0100
TZOFFSETTO:+0000
TZNAME:GMT
DTSTART:20241027T010000
END:STANDARD
END:VTIMEZONE
BEGIN:VEVENT
DTSTART;TZID=Europe/London:20240209T110000
DTEND;TZID=Europe/London:20240209T120000
DTSTAMP:20260420T030048
CREATED:20240123T181136Z
LAST-MODIFIED:20240123T181136Z
UID:2447-1707476400-1707480000@research.reading.ac.uk
SUMMARY:A Legal Framework For Using Smart Contracts In Consumer Contracts
DESCRIPTION:A Legal Framework For Using Smart Contracts In Consumer Contracts presented by Professor Christopher Willett. \n  \n \nClick here to book your free place.
URL:https://research.reading.ac.uk/law/event/a-legal-framework-for-using-smart-contracts-in-consumer-contracts/
LOCATION:Palmer Building\, Room 109 (Whiteknights Campus)
CATEGORIES:General
END:VEVENT
END:VCALENDAR