BEGIN:VCALENDAR
VERSION:2.0
PRODID:-//Lemontree  - ECPv6.0.5//NONSGML v1.0//EN
CALSCALE:GREGORIAN
METHOD:PUBLISH
X-WR-CALNAME:Lemontree 
X-ORIGINAL-URL:https://research.reading.ac.uk/lemontree
X-WR-CALDESC:Events for Lemontree 
REFRESH-INTERVAL;VALUE=DURATION:PT1H
X-Robots-Tag:noindex
X-PUBLISHED-TTL:PT1H
BEGIN:VTIMEZONE
TZID:Europe/London
BEGIN:DAYLIGHT
TZOFFSETFROM:+0000
TZOFFSETTO:+0100
TZNAME:BST
DTSTART:20220327T010000
END:DAYLIGHT
BEGIN:STANDARD
TZOFFSETFROM:+0100
TZOFFSETTO:+0000
TZNAME:GMT
DTSTART:20221030T010000
END:STANDARD
END:VTIMEZONE
BEGIN:VEVENT
DTSTART;TZID=Europe/London:20221021T140000
DTEND;TZID=Europe/London:20221021T150000
DTSTAMP:20260420T201813
CREATED:20220908T135414Z
LAST-MODIFIED:20220908T135414Z
UID:1335-1666360800-1666364400@research.reading.ac.uk
SUMMARY:Nitrogen Working Group
DESCRIPTION:Nitrogen Working Group meeting convened by Beni Stocker and Sandy Harrison.
URL:https://research.reading.ac.uk/lemontree/event/nitrogen-working-group-3/
END:VEVENT
END:VCALENDAR