BEGIN:VCALENDAR
VERSION:2.0
PRODID:-//Lemontree  - ECPv6.0.5//NONSGML v1.0//EN
CALSCALE:GREGORIAN
METHOD:PUBLISH
X-ORIGINAL-URL:https://research.reading.ac.uk/lemontree
X-WR-CALDESC:Events for Lemontree 
REFRESH-INTERVAL;VALUE=DURATION:PT1H
X-Robots-Tag:noindex
X-PUBLISHED-TTL:PT1H
BEGIN:VTIMEZONE
TZID:Europe/London
BEGIN:DAYLIGHT
TZOFFSETFROM:+0000
TZOFFSETTO:+0100
TZNAME:BST
DTSTART:20220327T010000
END:DAYLIGHT
BEGIN:STANDARD
TZOFFSETFROM:+0100
TZOFFSETTO:+0000
TZNAME:GMT
DTSTART:20221030T010000
END:STANDARD
END:VTIMEZONE
BEGIN:VEVENT
DTSTART;TZID=Europe/London:20221123T140000
DTEND;TZID=Europe/London:20221123T150000
DTSTAMP:20260421T045734
CREATED:20221027T125329Z
LAST-MODIFIED:20221027T125329Z
UID:1492-1669212000-1669215600@research.reading.ac.uk
SUMMARY:RS Toolkit Usage - Pierre Gentine
DESCRIPTION:Pierre and team will present information on the RS Tool kit developed at Columbia- how to access it and how to use it.
URL:https://research.reading.ac.uk/lemontree/event/rs-toolkit-usage-pierre-gentine/
END:VEVENT
END:VCALENDAR