BEGIN:VCALENDAR
VERSION:2.0
PRODID:-//Lemontree  - ECPv6.0.5//NONSGML v1.0//EN
CALSCALE:GREGORIAN
METHOD:PUBLISH
X-WR-CALNAME:Lemontree 
X-ORIGINAL-URL:https://research.reading.ac.uk/lemontree
X-WR-CALDESC:Events for Lemontree 
REFRESH-INTERVAL;VALUE=DURATION:PT1H
X-Robots-Tag:noindex
X-PUBLISHED-TTL:PT1H
BEGIN:VTIMEZONE
TZID:Europe/London
BEGIN:DAYLIGHT
TZOFFSETFROM:+0000
TZOFFSETTO:+0100
TZNAME:BST
DTSTART:20250330T010000
END:DAYLIGHT
BEGIN:STANDARD
TZOFFSETFROM:+0100
TZOFFSETTO:+0000
TZNAME:GMT
DTSTART:20251026T010000
END:STANDARD
END:VTIMEZONE
BEGIN:VEVENT
DTSTART;TZID=Europe/London:20250404T140000
DTEND;TZID=Europe/London:20250404T150000
DTSTAMP:20260421T082209
CREATED:20250320T090002Z
LAST-MODIFIED:20250320T090002Z
UID:2406-1743775200-1743778800@research.reading.ac.uk
SUMMARY:Carbon\, Nitrogen and Phosphorus Cycles WG Meeting
DESCRIPTION:
URL:https://research.reading.ac.uk/lemontree/event/carbon-nitrogen-and-phosphorus-cycles-wg-meeting/
END:VEVENT
END:VCALENDAR