BEGIN:VCALENDAR
VERSION:2.0
PRODID:-//Lemontree  - ECPv6.0.5//NONSGML v1.0//EN
CALSCALE:GREGORIAN
METHOD:PUBLISH
X-ORIGINAL-URL:https://research.reading.ac.uk/lemontree
X-WR-CALDESC:Events for Lemontree 
REFRESH-INTERVAL;VALUE=DURATION:PT1H
X-Robots-Tag:noindex
X-PUBLISHED-TTL:PT1H
BEGIN:VTIMEZONE
TZID:Europe/London
BEGIN:DAYLIGHT
TZOFFSETFROM:+0000
TZOFFSETTO:+0100
TZNAME:BST
DTSTART:20250330T010000
END:DAYLIGHT
BEGIN:STANDARD
TZOFFSETFROM:+0100
TZOFFSETTO:+0000
TZNAME:GMT
DTSTART:20251026T010000
END:STANDARD
END:VTIMEZONE
BEGIN:VEVENT
DTSTART;VALUE=DATE:20250414
DTEND;VALUE=DATE:20250417
DTSTAMP:20260421T065817
CREATED:20250228T162819Z
LAST-MODIFIED:20250228T162819Z
UID:2316-1744588800-1744847999@research.reading.ac.uk
SUMMARY:EEO-LSM Brainstorming Meeting
DESCRIPTION:LEMONTREE are pleased to share we will be hosting an eco-evolutionary optimality theory in land surface modelling brainstorming event in Devon\, UK\, this year. The event will bring together a number of land surface modellers from around the world to discuss how EEO theory can be implemented successfully into LSMs\, and how this may benefit LSMs moving forward.
URL:https://research.reading.ac.uk/lemontree/event/eeo-lsm-brainstorming-meeting/
END:VEVENT
END:VCALENDAR