BEGIN:VCALENDAR
VERSION:2.0
PRODID:-//Lemontree  - ECPv6.0.5//NONSGML v1.0//EN
CALSCALE:GREGORIAN
METHOD:PUBLISH
X-WR-CALNAME:Lemontree 
X-ORIGINAL-URL:https://research.reading.ac.uk/lemontree
X-WR-CALDESC:Events for Lemontree 
REFRESH-INTERVAL;VALUE=DURATION:PT1H
X-Robots-Tag:noindex
X-PUBLISHED-TTL:PT1H
BEGIN:VTIMEZONE
TZID:Europe/London
BEGIN:DAYLIGHT
TZOFFSETFROM:+0000
TZOFFSETTO:+0100
TZNAME:BST
DTSTART:20250330T010000
END:DAYLIGHT
BEGIN:STANDARD
TZOFFSETFROM:+0100
TZOFFSETTO:+0000
TZNAME:GMT
DTSTART:20251026T010000
END:STANDARD
END:VTIMEZONE
BEGIN:VEVENT
DTSTART;TZID=Europe/London:20250424T150000
DTEND;TZID=Europe/London:20250424T160000
DTSTAMP:20260423T113529
CREATED:20250423T133459Z
LAST-MODIFIED:20250423T133459Z
UID:2444-1745506800-1745510400@research.reading.ac.uk
SUMMARY:Ecohydrology WG Meeting
DESCRIPTION:
URL:https://research.reading.ac.uk/lemontree/event/ecohydrology-wg-meeting-2/
END:VEVENT
END:VCALENDAR