BEGIN:VCALENDAR
VERSION:2.0
PRODID:-//Lemontree  - ECPv6.0.5//NONSGML v1.0//EN
CALSCALE:GREGORIAN
METHOD:PUBLISH
X-ORIGINAL-URL:https://research.reading.ac.uk/lemontree
X-WR-CALDESC:Events for Lemontree 
REFRESH-INTERVAL;VALUE=DURATION:PT1H
X-Robots-Tag:noindex
X-PUBLISHED-TTL:PT1H
BEGIN:VTIMEZONE
TZID:Europe/London
BEGIN:DAYLIGHT
TZOFFSETFROM:+0000
TZOFFSETTO:+0100
TZNAME:BST
DTSTART:20250330T010000
END:DAYLIGHT
BEGIN:STANDARD
TZOFFSETFROM:+0100
TZOFFSETTO:+0000
TZNAME:GMT
DTSTART:20251026T010000
END:STANDARD
END:VTIMEZONE
BEGIN:VEVENT
DTSTART;TZID=Europe/London:20250501T150000
DTEND;TZID=Europe/London:20250501T160000
DTSTAMP:20260421T181210
CREATED:20250423T133641Z
LAST-MODIFIED:20250423T133641Z
UID:2448-1746111600-1746115200@research.reading.ac.uk
SUMMARY:Functional Diversity WG Meeting
DESCRIPTION:
URL:https://research.reading.ac.uk/lemontree/event/functional-diversity-wg-meeting-2/
END:VEVENT
END:VCALENDAR