BEGIN:VCALENDAR
VERSION:2.0
PRODID:-//Lemontree  - ECPv6.0.5//NONSGML v1.0//EN
CALSCALE:GREGORIAN
METHOD:PUBLISH
X-WR-CALNAME:Lemontree 
X-ORIGINAL-URL:https://research.reading.ac.uk/lemontree
X-WR-CALDESC:Events for Lemontree 
REFRESH-INTERVAL;VALUE=DURATION:PT1H
X-Robots-Tag:noindex
X-PUBLISHED-TTL:PT1H
BEGIN:VTIMEZONE
TZID:Europe/London
BEGIN:DAYLIGHT
TZOFFSETFROM:+0000
TZOFFSETTO:+0100
TZNAME:BST
DTSTART:20250330T010000
END:DAYLIGHT
BEGIN:STANDARD
TZOFFSETFROM:+0100
TZOFFSETTO:+0000
TZNAME:GMT
DTSTART:20251026T010000
END:STANDARD
END:VTIMEZONE
BEGIN:VEVENT
DTSTART;TZID=Europe/London:20250522T130000
DTEND;TZID=Europe/London:20250522T140000
DTSTAMP:20260423T051647
CREATED:20250423T133836Z
LAST-MODIFIED:20250423T133836Z
UID:2454-1747918800-1747922400@research.reading.ac.uk
SUMMARY:LEMONTREE Science Meeting
DESCRIPTION:This meeting will be led by Colin Prentice from Imperial College and will be focusing on the group’s development on all things soil moisture.
URL:https://research.reading.ac.uk/lemontree/event/lemontree-science-meeting-2/
END:VEVENT
END:VCALENDAR